{"text_format":"1","workbook":"xlsx","n_sheets":60,"sheets":["Règlement","Adhérents","Modèle","BEAUCHET_Sandra","BENCHECROUN_Danielle","BENCHECROUN_Nagib","BERNARD_Yvon","BOISSERPE_Patrick","BORDET_Bruno","BORDET_Dominique","BRUNEAU_Thomas","BOUTEAUX_Anne-Marie","CHEREL_Louis","CRESTOIS_Christine","CRESTOIS_Laurent","DELDIQUE_Denise","COULOMB_Thierry","DASCOTTE_Philippe","DOGUIN_Dominique","DOGUIN_Yohann","ELMALEH_Alfred","DOGUIN_Pierre","GATIGNOL_Christian","GATIGNOL_Patricia","GERSON_David","GOBIN_Lydie","GOBIN_Philippe","GU_Qin","KUHFUSS MONVAL_Luce","JANOT_Nicolas","LE BON_Jean-François","LACHAZETTE_Franck","LARRERE_Martin","LOPEZ_Cédric","LEFRANC_Virginie","MABILE_Claude","MHAMDI_Jalel","MOISSON_Bernard","NGUYEN_Jean-Paul","PAUL_Albert","PECH_Jean-François","NOTARIANNI_Julien","PHULPIN_Brigitte","PICARD_Luc","PIERRE_Philippe","PONSOT-JACQUIN_Catherine","RIONDET_Jean-Claude","ROBERT_Valérie","ROUSSEAU_Jean-Marc","ROME_Virginie","SZAFIR_Nathalie","SZAFIR_Patrick","TERNEL_Cyprien","TRAVERS_Philippe","VERBRAEKEN_Erik","VILLANI_Mathieu","VINAY_Guillaume","WATIER_Laurent","WERMESTER_Stéphane","YUSTOS_Philippe"],"not_rendered":{"charts":0,"images":0,"macros":1,"external_links":1,"defined_names":61,"comments":1,"pivot_tables":0},"unopened":[],"bounds":{"document_bytes":16777216,"sheet_cells":100000,"rows_first":2000,"rows_last":500,"rows_between":2000,"halvings":0,"cell_chars":16384,"cell_head_chars":4096},"cells_cut":0,"cells_raw":0,"read":"whole","date_system":"1900"}

{"sheet":"Règlement","index":0,"n_rows":41,"n_cols":13,"rows_kept":41,"cut":false,"hidden":false,"merged":[]}
[]
[null,"Championnat de la section golf",null,null,null,null,null,null,null,null,null,"Liste des sorties"]
[]
[null,"Le Championnat débute le 1er septembre et se termine le 30 juin de l'année suivante.",null,null,null,null,null,null,null,null,null,"Date","Parcours"]
[null,null,null,null,null,null,null,null,null,null,null,"2018-09-09","Feucherolles"]
[null,"Tout participant à une sortie de la section marque :",null,null,null,null,null,null,null,null,null,"2018-09-20","Rueil"]
[null,null,"● ses points de stableford net/brut si la compétition est enregistrée",null,null,null,null,null,null,null,null,"2018-09-21","Les Aisses"]
[null,null,"● 18 points sur 18 trous ou 9 points sur 9 trous si la sortie n'est pas une compétition pour le classement en net",null,null,null,null,null,null,null,null,"2018-09-22","Sologne"]
[null,null,"● 6 points sur 18 trous ou 3 points sur 9 trous si la sortie n'est pas une compétition pour le classement en brut",null,null,null,null,null,null,null,null,"2018-10-02","Rueil"]
[null,null,null,null,null,null,null,null,null,null,null,"2018-10-05","Isle Adam"]
[null,"Le gagnant est celui qui a le plus de points en fin de saison sur ses 5 meilleurs scores.",null,null,null,null,null,null,null,null,null,"2018-10-16","Saint Nom La Breteche"]
[null,"La remise des prix a lieu fin juin au cours du repas de clôture de la saison.",null,null,null,null,null,null,null,null,null,"2018-10-18","Rueil"]
[null,null,null,null,null,null,null,null,null,null,null,"2018-10-20","Cergy Vauréal"]
[null,null,null,null,null,null,null,null,null,null,null,"2018-11-10","Fourqueux"]
[null,"Rentrer des scores",null,null,null,null,null,null,null,null,null,"2018-11-24","CH Hersant"]
[null,null,null,null,null,null,null,null,null,null,null,"2018-11-29","CH Marivaux"]
[null,"Pour mettre à jour les scores d'une sortie, renseigner la date dans le menu déroulant en I2.",null,null,null,null,null,null,null,null,null,"2018-12-13","Rueil virtuel"]
[null,"Renseigner les scores net et brut pour les joueurs concernés.",null,null,null,null,null,null,null,null,null,"2019-01-12","CH Ableiges"]
[null,"Cliquer sur le bouton \"Dispatcher\".",null,null,null,null,null,null,null,null,null,"2019-02-06","CH Yvelines"]
[null,null,null,null,null,null,null,null,null,null,null,"2019-02-10","Aigle"]
[null,"Pour modifier un score déjà entré, le modifier directement dans la feuille du joueur.",null,null,null,null,null,null,null,null,null,"2019-02-16","CH Seraincourt"]
[null,null,null,null,null,null,null,null,null,null,null,"2019-02-20","CH Marivaux"]
[null,"Créer ou supprimer un nouveau joueur",null,null,null,null,null,null,null,null,null,"2019-03-09","CH Yvelines"]
[null,null,null,null,null,null,null,null,null,null,null,"2019-03-10","National - Aigle"]
[null,"Rentrer ses nom et prénom dans les cases et cliquer l'option voulue",null,null,null,null,null,null,null,null,null,"2019-03-16","CH Hersant"]
[null,null,null,null,null,null,null,null,null,null,null,"2019-03-23","Tremblay sur Mauldre"]
[null,null,"Nom : ","Prénom :",null,null,null,null,null,null,null,"2019-03-28","Rueil"]
[null,null,"BEHIRA","Hermann",null,null,null,null,null,null,null,"2019-04-06","Disney"]
[null,null,null,null,null,null,null,null,null,null,null,"2019-04-09","Rueil"]
[null,null,null,null,null,null,null,null,null,null,null,"2019-04-18","Rueil virtuel"]
[null,"Remise à zéro des scores en début d'année",null,null,null,null,null,null,null,null,null,"2019-04-25","Rueil"]
[null,null,null,null,null,null,null,null,null,null,null,"2019-04-28","Marivaux"]
[null,"Utiliser (avec précaution) la macro Remise_à_zéro",null,null,null,null,null,null,null,null,null,"2019-05-07","Rueil"]
[null,null,null,null,null,null,null,null,null,null,null,"2019-05-23","Rueil"]
[null,null,null,null,null,null,null,null,null,null,null,"2019-05-24","Haut Poitou"]
[null,"Recharger une rencontre",null,null,null,null,null,null,null,null,null,"2019-05-25","Mignaloux"]
[null,null,null,null,null,null,null,null,null,null,null,"2019-06-04","Rueil"]
[null,"Pour revoir les scores d'une rencontre, utiliser la macro ChargerRencontre",null,null,null,null,null,null,null,null,null,"2019-06-07","Isle Adam"]
[null,null,null,null,null,null,null,null,null,null,null,"2019-06-20","Rueil"]
[null,null,null,null,null,null,null,null,null,null,null,"2019-06-22","Golf Parc Hersant"]
[null,null,null,null,null,null,null,null,null,null,null,"2019-06-28","Vaucouleurs Rivière"]

{"sheet":"Adhérents","index":1,"n_rows":60,"n_cols":11,"rows_kept":60,"cut":false,"hidden":false,"merged":[[0,9,0,10]]}
[null,"Mise à jour :","2019-06-28",null,null,"Championnat_2018-2019"]
[null,null,null,null,null,null,null,null,null,"2019-06-28",{"$f":"VLOOKUP(J2,Règlement!L5:M41,2,FALSE)","v":"Vaucouleurs Rivière"}]
["Page","Nom","Prénom","Index","Cumul Net","Cumul Brut","Cumul 5 Net","Cumul 5 brut","Select","Net","Brut"]
["GATIGNOL_Christian",{"$f":"HYPERLINK(\"#'\"&A4&\"'!A1\",INDIRECT(CONCATENATE(\"'\",TEXT(A4,\"0\"),\"'!$A$1\")))","v":"GATIGNOL"},{"$f":"INDIRECT(CONCATENATE(\"'\",TEXT(A4,\"0\"),\"'!$B$1\"))","v":"Christian"},{"$f":"IF(ISBLANK($B4),\"\",VLOOKUP(CONCATENATE($B4,\" \",$C4),Table_membres,25,FALSE))","v":29},{"$f":"INDIRECT(CONCATENATE(\"'\",TEXT(A4,\"0\"),\"'!$c$29\"))","v":357},{"$f":"INDIRECT(CONCATENATE(\"'\",TEXT(A4,\"0\"),\"'!$f$29\"))","v":86},{"$f":"INDIRECT(CONCATENATE(\"'\",TEXT(A4,\"0\"),\"'!$c$30\"))","v":184},{"$f":"INDIRECT(CONCATENATE(\"'\",TEXT(A4,\"0\"),\"'!$f$30\"))","v":44},null,36,11]
["VILLANI_Mathieu",{"$f":"HYPERLINK(\"#'\"&A5&\"'!A1\",INDIRECT(CONCATENATE(\"'\",TEXT(A5,\"0\"),\"'!$A$1\")))","v":"VILLANI"},{"$f":"INDIRECT(CONCATENATE(\"'\",TEXT(A5,\"0\"),\"'!$B$1\"))","v":"Mathieu"},{"$f":"IF(ISBLANK($B5),\"\",VLOOKUP(CONCATENATE($B5,\" \",$C5),Table_membres,25,FALSE))","v":10},{"$f":"INDIRECT(CONCATENATE(\"'\",TEXT(A5,\"0\"),\"'!$c$29\"))","v":433},{"$f":"INDIRECT(CONCATENATE(\"'\",TEXT(A5,\"0\"),\"'!$f$29\"))","v":253},{"$f":"INDIRECT(CONCATENATE(\"'\",TEXT(A5,\"0\"),\"'!$c$30\"))","v":182},{"$f":"INDIRECT(CONCATENATE(\"'\",TEXT(A5,\"0\"),\"'!$f$30\"))","v":122},null,33,20]
["NOTARIANNI_Julien",{"$f":"HYPERLINK(\"#'\"&A6&\"'!A1\",INDIRECT(CONCATENATE(\"'\",TEXT(A6,\"0\"),\"'!$A$1\")))","v":"NOTARIANNI"},{"$f":"INDIRECT(CONCATENATE(\"'\",TEXT(A6,\"0\"),\"'!$B$1\"))","v":"Julien"},{"$f":"IF(ISBLANK($B6),\"\",VLOOKUP(CONCATENATE($B6,\" \",$C6),Table_membres,25,FALSE))","v":15.5},{"$f":"INDIRECT(CONCATENATE(\"'\",TEXT(A6,\"0\"),\"'!$c$29\"))","v":242},{"$f":"INDIRECT(CONCATENATE(\"'\",TEXT(A6,\"0\"),\"'!$f$29\"))","v":131},{"$f":"INDIRECT(CONCATENATE(\"'\",TEXT(A6,\"0\"),\"'!$c$30\"))","v":174},{"$f":"INDIRECT(CONCATENATE(\"'\",TEXT(A6,\"0\"),\"'!$f$30\"))","v":103}]
["TRAVERS_Philippe",{"$f":"HYPERLINK(\"#'\"&A7&\"'!A1\",INDIRECT(CONCATENATE(\"'\",TEXT(A7,\"0\"),\"'!$A$1\")))","v":"TRAVERS"},{"$f":"INDIRECT(CONCATENATE(\"'\",TEXT(A7,\"0\"),\"'!$B$1\"))","v":"Philippe"},{"$f":"IF(ISBLANK($B7),\"\",VLOOKUP(CONCATENATE($B7,\" \",$C7),Table_membres,25,FALSE))","v":34},{"$f":"INDIRECT(CONCATENATE(\"'\",TEXT(A7,\"0\"),\"'!$c$29\"))","v":261},{"$f":"INDIRECT(CONCATENATE(\"'\",TEXT(A7,\"0\"),\"'!$f$29\"))","v":63},{"$f":"INDIRECT(CONCATENATE(\"'\",TEXT(A7,\"0\"),\"'!$c$30\"))","v":172},{"$f":"INDIRECT(CONCATENATE(\"'\",TEXT(A7,\"0\"),\"'!$f$30\"))","v":39},null,39,10]
["JANOT_Nicolas",{"$f":"HYPERLINK(\"#'\"&A8&\"'!A1\",INDIRECT(CONCATENATE(\"'\",TEXT(A8,\"0\"),\"'!$A$1\")))","v":"JANOT"},{"$f":"INDIRECT(CONCATENATE(\"'\",TEXT(A8,\"0\"),\"'!$B$1\"))","v":"Nicolas"},{"$f":"IF(ISBLANK($B8),\"\",VLOOKUP(CONCATENATE($B8,\" \",$C8),Table_membres,25,FALSE))","v":33},{"$f":"INDIRECT(CONCATENATE(\"'\",TEXT(A8,\"0\"),\"'!$c$29\"))","v":285},{"$f":"INDIRECT(CONCATENATE(\"'\",TEXT(A8,\"0\"),\"'!$f$29\"))","v":58},{"$f":"INDIRECT(CONCATENATE(\"'\",TEXT(A8,\"0\"),\"'!$c$30\"))","v":172},{"$f":"INDIRECT(CONCATENATE(\"'\",TEXT(A8,\"0\"),\"'!$f$30\"))","v":38},null,38,13]
["MHAMDI_Jalel",{"$f":"HYPERLINK(\"#'\"&A9&\"'!A1\",INDIRECT(CONCATENATE(\"'\",TEXT(A9,\"0\"),\"'!$A$1\")))","v":"M'HAMDI"},{"$f":"INDIRECT(CONCATENATE(\"'\",TEXT(A9,\"0\"),\"'!$B$1\"))","v":"Jalel"},{"$f":"IF(ISBLANK($B9),\"\",VLOOKUP(CONCATENATE($B9,\" \",$C9),Table_membres,25,FALSE))","v":27.5},{"$f":"INDIRECT(CONCATENATE(\"'\",TEXT(A9,\"0\"),\"'!$c$29\"))","v":282},{"$f":"INDIRECT(CONCATENATE(\"'\",TEXT(A9,\"0\"),\"'!$f$29\"))","v":86},{"$f":"INDIRECT(CONCATENATE(\"'\",TEXT(A9,\"0\"),\"'!$c$30\"))","v":167},{"$f":"INDIRECT(CONCATENATE(\"'\",TEXT(A9,\"0\"),\"'!$f$30\"))","v":54}]
["BORDET_Bruno",{"$f":"HYPERLINK(\"#'\"&A10&\"'!A1\",INDIRECT(CONCATENATE(\"'\",TEXT(A10,\"0\"),\"'!$A$1\")))","v":"BORDET"},{"$f":"INDIRECT(CONCATENATE(\"'\",TEXT(A10,\"0\"),\"'!$B$1\"))","v":"Bruno"},{"$f":"IF(ISBLANK($B10),\"\",VLOOKUP(CONCATENATE($B10,\" \",$C10),Table_membres,25,FALSE))","v":24.8},{"$f":"INDIRECT(CONCATENATE(\"'\",TEXT(A10,\"0\"),\"'!$c$29\"))","v":282},{"$f":"INDIRECT(CONCATENATE(\"'\",TEXT(A10,\"0\"),\"'!$f$29\"))","v":74},{"$f":"INDIRECT(CONCATENATE(\"'\",TEXT(A10,\"0\"),\"'!$c$30\"))","v":166},{"$f":"INDIRECT(CONCATENATE(\"'\",TEXT(A10,\"0\"),\"'!$f$30\"))","v":45},null,23,6]
["GOBIN_Philippe",{"$f":"HYPERLINK(\"#'\"&A11&\"'!A1\",INDIRECT(CONCATENATE(\"'\",TEXT(A11,\"0\"),\"'!$A$1\")))","v":"GOBIN"},{"$f":"INDIRECT(CONCATENATE(\"'\",TEXT(A11,\"0\"),\"'!$B$1\"))","v":"Philippe"},{"$f":"IF(ISBLANK($B11),\"\",VLOOKUP(CONCATENATE($B11,\" \",$C11),Table_membres,25,FALSE))","v":19.600000000000001},{"$f":"INDIRECT(CONCATENATE(\"'\",TEXT(A11,\"0\"),\"'!$c$29\"))","v":431},{"$f":"INDIRECT(CONCATENATE(\"'\",TEXT(A11,\"0\"),\"'!$d$29\"))","v":153},{"$f":"INDIRECT(CONCATENATE(\"'\",TEXT(A11,\"0\"),\"'!$c$30\"))","v":165},{"$f":"INDIRECT(CONCATENATE(\"'\",TEXT(A11,\"0\"),\"'!$d$30\"))","v":68},null,20,6]
["LARRERE_Martin",{"$f":"HYPERLINK(\"#'\"&A12&\"'!A1\",INDIRECT(CONCATENATE(\"'\",TEXT(A12,\"0\"),\"'!$A$1\")))","v":"LARRERE"},{"$f":"INDIRECT(CONCATENATE(\"'\",TEXT(A12,\"0\"),\"'!$B$1\"))","v":"Martin"},{"$f":"IF(ISBLANK($B12),\"\",VLOOKUP(CONCATENATE($B12,\" \",$C12),Table_membres,25,FALSE))","v":24.4},{"$f":"INDIRECT(CONCATENATE(\"'\",TEXT(A12,\"0\"),\"'!$c$29\"))","v":206},{"$f":"INDIRECT(CONCATENATE(\"'\",TEXT(A12,\"0\"),\"'!$f$29\"))","v":77},{"$f":"INDIRECT(CONCATENATE(\"'\",TEXT(A12,\"0\"),\"'!$c$30\"))","v":164},{"$f":"INDIRECT(CONCATENATE(\"'\",TEXT(A12,\"0\"),\"'!$f$30\"))","v":64}]
["LEFRANC_Virginie",{"$f":"HYPERLINK(\"#'\"&A13&\"'!A1\",INDIRECT(CONCATENATE(\"'\",TEXT(A13,\"0\"),\"'!$A$1\")))","v":"LEFRANC"},{"$f":"INDIRECT(CONCATENATE(\"'\",TEXT(A13,\"0\"),\"'!$B$1\"))","v":"Virginie"},{"$f":"IF(ISBLANK($B13),\"\",VLOOKUP(CONCATENATE($B13,\" \",$C13),Table_membres,25,FALSE))","v":32.200000000000003},{"$f":"INDIRECT(CONCATENATE(\"'\",TEXT(A13,\"0\"),\"'!$c$29\"))","v":265},{"$f":"INDIRECT(CONCATENATE(\"'\",TEXT(A13,\"0\"),\"'!$f$29\"))","v":71},{"$f":"INDIRECT(CONCATENATE(\"'\",TEXT(A13,\"0\"),\"'!$c$30\"))","v":162},{"$f":"INDIRECT(CONCATENATE(\"'\",TEXT(A13,\"0\"),\"'!$f$30\"))","v":39},null,22,5]
["SZAFIR_Patrick",{"$f":"HYPERLINK(\"#'\"&A14&\"'!A1\",INDIRECT(CONCATENATE(\"'\",TEXT(A14,\"0\"),\"'!$A$1\")))","v":"SZAFIR"},{"$f":"INDIRECT(CONCATENATE(\"'\",TEXT(A14,\"0\"),\"'!$B$1\"))","v":"Patrick"},{"$f":"IF(ISBLANK($B14),\"\",VLOOKUP(CONCATENATE($B14,\" \",$C14),Table_membres,25,FALSE))","v":19.3},{"$f":"INDIRECT(CONCATENATE(\"'\",TEXT(A14,\"0\"),\"'!$c$29\"))","v":313},{"$f":"INDIRECT(CONCATENATE(\"'\",TEXT(A14,\"0\"),\"'!$f$29\"))","v":118},{"$f":"INDIRECT(CONCATENATE(\"'\",TEXT(A14,\"0\"),\"'!$c$30\"))","v":160},{"$f":"INDIRECT(CONCATENATE(\"'\",TEXT(A14,\"0\"),\"'!$f$30\"))","v":66},null,25,8]
["COULOMB_Thierry",{"$f":"HYPERLINK(\"#'\"&A15&\"'!A1\",INDIRECT(CONCATENATE(\"'\",TEXT(A15,\"0\"),\"'!$A$1\")))","v":"COULOMB"},{"$f":"INDIRECT(CONCATENATE(\"'\",TEXT(A15,\"0\"),\"'!$B$1\"))","v":"Thierry"},{"$f":"IF(ISBLANK($B15),\"\",VLOOKUP(CONCATENATE($B15,\" \",$C15),Table_membres,25,FALSE))","v":19.8},{"$f":"INDIRECT(CONCATENATE(\"'\",TEXT(A15,\"0\"),\"'!$c$29\"))","v":379},{"$f":"INDIRECT(CONCATENATE(\"'\",TEXT(A15,\"0\"),\"'!$f$29\"))","v":135},{"$f":"INDIRECT(CONCATENATE(\"'\",TEXT(A15,\"0\"),\"'!$c$30\"))","v":160},{"$f":"INDIRECT(CONCATENATE(\"'\",TEXT(A15,\"0\"),\"'!$f$30\"))","v":66},null,33,16]
["YUSTOS_Philippe",{"$f":"HYPERLINK(\"#'\"&A16&\"'!A1\",INDIRECT(CONCATENATE(\"'\",TEXT(A16,\"0\"),\"'!$A$1\")))","v":"YUSTOS"},{"$f":"INDIRECT(CONCATENATE(\"'\",TEXT(A16,\"0\"),\"'!$B$1\"))","v":"Philippe"},{"$f":"IF(ISBLANK($B16),\"\",VLOOKUP(CONCATENATE($B16,\" \",$C16),Table_membres,25,FALSE))","v":26},{"$f":"INDIRECT(CONCATENATE(\"'\",TEXT(A16,\"0\"),\"'!$c$29\"))","v":300},{"$f":"INDIRECT(CONCATENATE(\"'\",TEXT(A16,\"0\"),\"'!$f$29\"))","v":83},{"$f":"INDIRECT(CONCATENATE(\"'\",TEXT(A16,\"0\"),\"'!$c$30\"))","v":159},{"$f":"INDIRECT(CONCATENATE(\"'\",TEXT(A16,\"0\"),\"'!$f$30\"))","v":44},null,25,7]
["LACHAZETTE_Franck",{"$f":"HYPERLINK(\"#'\"&A17&\"'!A1\",INDIRECT(CONCATENATE(\"'\",TEXT(A17,\"0\"),\"'!$A$1\")))","v":"LACHAZETTE"},{"$f":"INDIRECT(CONCATENATE(\"'\",TEXT(A17,\"0\"),\"'!$B$1\"))","v":"Franck"},{"$f":"IF(ISBLANK($B17),\"\",VLOOKUP(CONCATENATE($B17,\" \",$C17),Table_membres,25,FALSE))","v":15.9},{"$f":"INDIRECT(CONCATENATE(\"'\",TEXT(A17,\"0\"),\"'!$c$29\"))","v":281},{"$f":"INDIRECT(CONCATENATE(\"'\",TEXT(A17,\"0\"),\"'!$f$29\"))","v":126},{"$f":"INDIRECT(CONCATENATE(\"'\",TEXT(A17,\"0\"),\"'!$c$30\"))","v":157},{"$f":"INDIRECT(CONCATENATE(\"'\",TEXT(A17,\"0\"),\"'!$f$30\"))","v":80},null,29,14]
["DOGUIN_Pierre",{"$f":"HYPERLINK(\"#'\"&A18&\"'!A1\",INDIRECT(CONCATENATE(\"'\",TEXT(A18,\"0\"),\"'!$A$1\")))","v":"DOGUIN"},{"$f":"INDIRECT(CONCATENATE(\"'\",TEXT(A18,\"0\"),\"'!$B$1\"))","v":"Pierre"},{"$f":"IF(ISBLANK($B18),\"\",VLOOKUP(CONCATENATE($B18,\" \",$C18),Table_membres,25,FALSE))","v":21.5},{"$f":"INDIRECT(CONCATENATE(\"'\",TEXT(A18,\"0\"),\"'!$c$29\"))","v":465},{"$f":"INDIRECT(CONCATENATE(\"'\",TEXT(A18,\"0\"),\"'!$f$29\"))","v":165},{"$f":"INDIRECT(CONCATENATE(\"'\",TEXT(A18,\"0\"),\"'!$c$30\"))","v":157},{"$f":"INDIRECT(CONCATENATE(\"'\",TEXT(A18,\"0\"),\"'!$f$30\"))","v":62},null,21,8]
["ROBERT_Valérie",{"$f":"HYPERLINK(\"#'\"&A19&\"'!A1\",INDIRECT(CONCATENATE(\"'\",TEXT(A19,\"0\"),\"'!$A$1\")))","v":"ROBERT"},{"$f":"INDIRECT(CONCATENATE(\"'\",TEXT(A19,\"0\"),\"'!$B$1\"))","v":"Valérie"},{"$f":"IF(ISBLANK($B19),\"\",VLOOKUP(CONCATENATE($B19,\" \",$C19),Table_membres,25,FALSE))","v":25},{"$f":"INDIRECT(CONCATENATE(\"'\",TEXT(A19,\"0\"),\"'!$c$29\"))","v":360},{"$f":"INDIRECT(CONCATENATE(\"'\",TEXT(A19,\"0\"),\"'!$f$29\"))","v":114},{"$f":"INDIRECT(CONCATENATE(\"'\",TEXT(A19,\"0\"),\"'!$c$30\"))","v":156},{"$f":"INDIRECT(CONCATENATE(\"'\",TEXT(A19,\"0\"),\"'!$f$30\"))","v":52},null,29,11]
["GOBIN_Lydie",{"$f":"HYPERLINK(\"#'\"&A20&\"'!A1\",INDIRECT(CONCATENATE(\"'\",TEXT(A20,\"0\"),\"'!$A$1\")))","v":"GOBIN"},{"$f":"INDIRECT(CONCATENATE(\"'\",TEXT(A20,\"0\"),\"'!$B$1\"))","v":"Lydie"},{"$f":"IF(ISBLANK($B20),\"\",VLOOKUP(CONCATENATE($B20,\" \",$C20),Table_membres,25,FALSE))","v":34},{"$f":"INDIRECT(CONCATENATE(\"'\",TEXT(A20,\"0\"),\"'!$c$29\"))","v":208},{"$f":"INDIRECT(CONCATENATE(\"'\",TEXT(A20,\"0\"),\"'!$f$29\"))","v":31},{"$f":"INDIRECT(CONCATENATE(\"'\",TEXT(A20,\"0\"),\"'!$c$30\"))","v":155},{"$f":"INDIRECT(CONCATENATE(\"'\",TEXT(A20,\"0\"),\"'!$f$30\"))","v":27},null,34,6]
["VINAY_Guillaume",{"$f":"HYPERLINK(\"#'\"&A21&\"'!A1\",INDIRECT(CONCATENATE(\"'\",TEXT(A21,\"0\"),\"'!$A$1\")))","v":"VINAY"},{"$f":"INDIRECT(CONCATENATE(\"'\",TEXT(A21,\"0\"),\"'!$B$1\"))","v":"Guillaume"},{"$f":"IF(ISBLANK($B21),\"\",VLOOKUP(CONCATENATE($B21,\" \",$C21),Table_membres,25,FALSE))","v":20.5},{"$f":"INDIRECT(CONCATENATE(\"'\",TEXT(A21,\"0\"),\"'!$c$29\"))","v":225},{"$f":"INDIRECT(CONCATENATE(\"'\",TEXT(A21,\"0\"),\"'!$f$29\"))","v":86},{"$f":"INDIRECT(CONCATENATE(\"'\",TEXT(A21,\"0\"),\"'!$c$30\"))","v":153},{"$f":"INDIRECT(CONCATENATE(\"'\",TEXT(A21,\"0\"),\"'!$f$30\"))","v":62},null,31,12]
["DASCOTTE_Philippe",{"$f":"HYPERLINK(\"#'\"&A22&\"'!A1\",INDIRECT(CONCATENATE(\"'\",TEXT(A22,\"0\"),\"'!$A$1\")))","v":"DASCOTTE"},{"$f":"INDIRECT(CONCATENATE(\"'\",TEXT(A22,\"0\"),\"'!$B$1\"))","v":"Philippe"},{"$f":"IF(ISBLANK($B22),\"\",VLOOKUP(CONCATENATE($B22,\" \",$C22),Table_membres,25,FALSE))","v":38},{"$f":"INDIRECT(CONCATENATE(\"'\",TEXT(A22,\"0\"),\"'!$c$29\"))","v":196},{"$f":"INDIRECT(CONCATENATE(\"'\",TEXT(A22,\"0\"),\"'!$f$29\"))","v":36},{"$f":"INDIRECT(CONCATENATE(\"'\",TEXT(A22,\"0\"),\"'!$c$30\"))","v":151},{"$f":"INDIRECT(CONCATENATE(\"'\",TEXT(A22,\"0\"),\"'!$f$30\"))","v":22}]
["GERSON_David",{"$f":"HYPERLINK(\"#'\"&A23&\"'!A1\",INDIRECT(CONCATENATE(\"'\",TEXT(A23,\"0\"),\"'!$A$1\")))","v":"GERSON"},{"$f":"INDIRECT(CONCATENATE(\"'\",TEXT(A23,\"0\"),\"'!$B$1\"))","v":"David"},{"$f":"IF(ISBLANK($B23),\"\",VLOOKUP(CONCATENATE($B23,\" \",$C23),Table_membres,25,FALSE))","v":21.6},{"$f":"INDIRECT(CONCATENATE(\"'\",TEXT(A23,\"0\"),\"'!$c$29\"))","v":274},{"$f":"INDIRECT(CONCATENATE(\"'\",TEXT(A23,\"0\"),\"'!$f$29\"))","v":92},{"$f":"INDIRECT(CONCATENATE(\"'\",TEXT(A23,\"0\"),\"'!$c$30\"))","v":143},{"$f":"INDIRECT(CONCATENATE(\"'\",TEXT(A23,\"0\"),\"'!$f$30\"))","v":52},null,24,8]
["NGUYEN_Jean-Paul",{"$f":"HYPERLINK(\"#'\"&A24&\"'!A1\",INDIRECT(CONCATENATE(\"'\",TEXT(A24,\"0\"),\"'!$A$1\")))","v":"NGUYEN"},{"$f":"INDIRECT(CONCATENATE(\"'\",TEXT(A24,\"0\"),\"'!$B$1\"))","v":"Jean-Paul"},{"$f":"IF(ISBLANK($B24),\"\",VLOOKUP(CONCATENATE($B24,\" \",$C24),Table_membres,25,FALSE))","v":20.3},{"$f":"INDIRECT(CONCATENATE(\"'\",TEXT(A24,\"0\"),\"'!$c$29\"))","v":206},{"$f":"INDIRECT(CONCATENATE(\"'\",TEXT(A24,\"0\"),\"'!$f$29\"))","v":66},{"$f":"INDIRECT(CONCATENATE(\"'\",TEXT(A24,\"0\"),\"'!$c$30\"))","v":138},{"$f":"INDIRECT(CONCATENATE(\"'\",TEXT(A24,\"0\"),\"'!$f$30\"))","v":47}]
["BOISSERPE_Patrick",{"$f":"HYPERLINK(\"#'\"&A25&\"'!A1\",INDIRECT(CONCATENATE(\"'\",TEXT(A25,\"0\"),\"'!$A$1\")))","v":"BOISSERPE"},{"$f":"INDIRECT(CONCATENATE(\"'\",TEXT(A25,\"0\"),\"'!$B$1\"))","v":"Patrick"},{"$f":"IF(ISBLANK($B25),\"\",VLOOKUP(CONCATENATE($B25,\" \",$C25),Table_membres,25,FALSE))","v":34.5},{"$f":"INDIRECT(CONCATENATE(\"'\",TEXT(A25,\"0\"),\"'!$c$29\"))","v":257},{"$f":"INDIRECT(CONCATENATE(\"'\",TEXT(A25,\"0\"),\"'!$f$29\"))","v":43},{"$f":"INDIRECT(CONCATENATE(\"'\",TEXT(A25,\"0\"),\"'!$c$30\"))","v":138},{"$f":"INDIRECT(CONCATENATE(\"'\",TEXT(A25,\"0\"),\"'!$f$30\"))","v":27},null,28,2]
["RIONDET_Jean-Claude",{"$f":"HYPERLINK(\"#'\"&A26&\"'!A1\",INDIRECT(CONCATENATE(\"'\",TEXT(A26,\"0\"),\"'!$A$1\")))","v":"RIONDET"},{"$f":"INDIRECT(CONCATENATE(\"'\",TEXT(A26,\"0\"),\"'!$B$1\"))","v":"Jean-Claude"},{"$f":"IF(ISBLANK($B26),\"\",VLOOKUP(CONCATENATE($B26,\" \",$C26),Table_membres,25,FALSE))","v":32},{"$f":"INDIRECT(CONCATENATE(\"'\",TEXT(A26,\"0\"),\"'!$c$29\"))","v":189},{"$f":"INDIRECT(CONCATENATE(\"'\",TEXT(A26,\"0\"),\"'!$f$29\"))","v":45},{"$f":"INDIRECT(CONCATENATE(\"'\",TEXT(A26,\"0\"),\"'!$c$30\"))","v":136},{"$f":"INDIRECT(CONCATENATE(\"'\",TEXT(A26,\"0\"),\"'!$f$30\"))","v":34}]
["DOGUIN_Dominique",{"$f":"HYPERLINK(\"#'\"&A27&\"'!A1\",INDIRECT(CONCATENATE(\"'\",TEXT(A27,\"0\"),\"'!$A$1\")))","v":"DOGUIN-SFEZ"},{"$f":"INDIRECT(CONCATENATE(\"'\",TEXT(A27,\"0\"),\"'!$B$1\"))","v":"Dominique"},{"$f":"IF(ISBLANK($B27),\"\",VLOOKUP(CONCATENATE($B27,\" \",$C27),Table_membres,25,FALSE))","v":32.5},{"$f":"INDIRECT(CONCATENATE(\"'\",TEXT(A27,\"0\"),\"'!$c$29\"))","v":172},{"$f":"INDIRECT(CONCATENATE(\"'\",TEXT(A27,\"0\"),\"'!$f$29\"))","v":38},{"$f":"INDIRECT(CONCATENATE(\"'\",TEXT(A27,\"0\"),\"'!$c$30\"))","v":136},{"$f":"INDIRECT(CONCATENATE(\"'\",TEXT(A27,\"0\"),\"'!$f$30\"))","v":32},null,24,2]
["PIERRE_Philippe",{"$f":"HYPERLINK(\"#'\"&A28&\"'!A1\",INDIRECT(CONCATENATE(\"'\",TEXT(A28,\"0\"),\"'!$A$1\")))","v":"PIERRE"},{"$f":"INDIRECT(CONCATENATE(\"'\",TEXT(A28,\"0\"),\"'!$B$1\"))","v":"Philippe"},{"$f":"IF(ISBLANK($B28),\"\",VLOOKUP(CONCATENATE($B28,\" \",$C28),Table_membres,25,FALSE))","v":29.1},{"$f":"INDIRECT(CONCATENATE(\"'\",TEXT(A28,\"0\"),\"'!$c$29\"))","v":188},{"$f":"INDIRECT(CONCATENATE(\"'\",TEXT(A28,\"0\"),\"'!$f$29\"))","v":56},{"$f":"INDIRECT(CONCATENATE(\"'\",TEXT(A28,\"0\"),\"'!$c$30\"))","v":134},{"$f":"INDIRECT(CONCATENATE(\"'\",TEXT(A28,\"0\"),\"'!$f$30\"))","v":39},null,30,11]
["MOISSON_Bernard",{"$f":"HYPERLINK(\"#'\"&A29&\"'!A1\",INDIRECT(CONCATENATE(\"'\",TEXT(A29,\"0\"),\"'!$A$1\")))","v":"MOISSON"},{"$f":"INDIRECT(CONCATENATE(\"'\",TEXT(A29,\"0\"),\"'!$B$1\"))","v":"Bernard"},{"$f":"IF(ISBLANK($B29),\"\",VLOOKUP(CONCATENATE($B29,\" \",$C29),Table_membres,25,FALSE))","v":31.7},{"$f":"INDIRECT(CONCATENATE(\"'\",TEXT(A29,\"0\"),\"'!$c$29\"))","v":163},{"$f":"INDIRECT(CONCATENATE(\"'\",TEXT(A29,\"0\"),\"'!$f$29\"))","v":36},{"$f":"INDIRECT(CONCATENATE(\"'\",TEXT(A29,\"0\"),\"'!$c$30\"))","v":130},{"$f":"INDIRECT(CONCATENATE(\"'\",TEXT(A29,\"0\"),\"'!$f$30\"))","v":29}]
["GATIGNOL_Patricia",{"$f":"HYPERLINK(\"#'\"&A30&\"'!A1\",INDIRECT(CONCATENATE(\"'\",TEXT(A30,\"0\"),\"'!$A$1\")))","v":"GATIGNOL"},{"$f":"INDIRECT(CONCATENATE(\"'\",TEXT(A30,\"0\"),\"'!$B$1\"))","v":"Patricia"},{"$f":"IF(ISBLANK($B30),\"\",VLOOKUP(CONCATENATE($B30,\" \",$C30),Table_membres,25,FALSE))","v":38},{"$f":"INDIRECT(CONCATENATE(\"'\",TEXT(A30,\"0\"),\"'!$c$29\"))","v":179},{"$f":"INDIRECT(CONCATENATE(\"'\",TEXT(A30,\"0\"),\"'!$f$29\"))","v":34},{"$f":"INDIRECT(CONCATENATE(\"'\",TEXT(A30,\"0\"),\"'!$c$30\"))","v":122},{"$f":"INDIRECT(CONCATENATE(\"'\",TEXT(A30,\"0\"),\"'!$f$30\"))","v":24},null,22,4]
["VERBRAEKEN_Erik",{"$f":"HYPERLINK(\"#'\"&A31&\"'!A1\",INDIRECT(CONCATENATE(\"'\",TEXT(A31,\"0\"),\"'!$A$1\")))","v":"VERBRAEKEN"},{"$f":"INDIRECT(CONCATENATE(\"'\",TEXT(A31,\"0\"),\"'!$B$1\"))","v":"Erik"},{"$f":"IF(ISBLANK($B31),\"\",VLOOKUP(CONCATENATE($B31,\" \",$C31),Table_membres,25,FALSE))","v":34.5},{"$f":"INDIRECT(CONCATENATE(\"'\",TEXT(A31,\"0\"),\"'!$c$29\"))","v":194},{"$f":"INDIRECT(CONCATENATE(\"'\",TEXT(A31,\"0\"),\"'!$f$29\"))","v":63},{"$f":"INDIRECT(CONCATENATE(\"'\",TEXT(A31,\"0\"),\"'!$c$30\"))","v":113},{"$f":"INDIRECT(CONCATENATE(\"'\",TEXT(A31,\"0\"),\"'!$f$30\"))","v":42},null,26,2]
["MABILE_Claude",{"$f":"HYPERLINK(\"#'\"&A32&\"'!A1\",INDIRECT(CONCATENATE(\"'\",TEXT(A32,\"0\"),\"'!$A$1\")))","v":"MABILE"},{"$f":"INDIRECT(CONCATENATE(\"'\",TEXT(A32,\"0\"),\"'!$B$1\"))","v":"Claude"},{"$f":"IF(ISBLANK($B32),\"\",VLOOKUP(CONCATENATE($B32,\" \",$C32),Table_membres,25,FALSE))","v":17.600000000000001},{"$f":"INDIRECT(CONCATENATE(\"'\",TEXT(A32,\"0\"),\"'!$c$29\"))","v":174},{"$f":"INDIRECT(CONCATENATE(\"'\",TEXT(A32,\"0\"),\"'!$f$29\"))","v":60},{"$f":"INDIRECT(CONCATENATE(\"'\",TEXT(A32,\"0\"),\"'!$c$30\"))","v":111},{"$f":"INDIRECT(CONCATENATE(\"'\",TEXT(A32,\"0\"),\"'!$f$30\"))","v":39}]
["CHEREL_Louis",{"$f":"HYPERLINK(\"#'\"&A33&\"'!A1\",INDIRECT(CONCATENATE(\"'\",TEXT(A33,\"0\"),\"'!$A$1\")))","v":"CHEREL"},{"$f":"INDIRECT(CONCATENATE(\"'\",TEXT(A33,\"0\"),\"'!$B$1\"))","v":"Louis"},{"$f":"IF(ISBLANK($B33),\"\",VLOOKUP(CONCATENATE($B33,\" \",$C33),Table_membres,25,FALSE))","v":35.5},{"$f":"INDIRECT(CONCATENATE(\"'\",TEXT(A33,\"0\"),\"'!$c$29\"))","v":127},{"$f":"INDIRECT(CONCATENATE(\"'\",TEXT(A33,\"0\"),\"'!$f$29\"))","v":31},{"$f":"INDIRECT(CONCATENATE(\"'\",TEXT(A33,\"0\"),\"'!$c$30\"))","v":100},{"$f":"INDIRECT(CONCATENATE(\"'\",TEXT(A33,\"0\"),\"'!$f$30\"))","v":24}]
["BERNARD_Yvon",{"$f":"HYPERLINK(\"#'\"&A34&\"'!A1\",INDIRECT(CONCATENATE(\"'\",TEXT(A34,\"0\"),\"'!$A$1\")))","v":"BERNARD"},{"$f":"INDIRECT(CONCATENATE(\"'\",TEXT(A34,\"0\"),\"'!$B$1\"))","v":"Yvon"},{"$f":"IF(ISBLANK($B34),\"\",VLOOKUP(CONCATENATE($B34,\" \",$C34),Table_membres,25,FALSE))","v":32.5},{"$f":"INDIRECT(CONCATENATE(\"'\",TEXT(A34,\"0\"),\"'!$c$29\"))","v":80},{"$f":"INDIRECT(CONCATENATE(\"'\",TEXT(A34,\"0\"),\"'!$f$29\"))","v":28},{"$f":"INDIRECT(CONCATENATE(\"'\",TEXT(A34,\"0\"),\"'!$c$30\"))","v":80},{"$f":"INDIRECT(CONCATENATE(\"'\",TEXT(A34,\"0\"),\"'!$f$30\"))","v":28}]
["ROME_Virginie",{"$f":"HYPERLINK(\"#'\"&A35&\"'!A1\",INDIRECT(CONCATENATE(\"'\",TEXT(A35,\"0\"),\"'!$A$1\")))","v":"ROME"},{"$f":"INDIRECT(CONCATENATE(\"'\",TEXT(A35,\"0\"),\"'!$B$1\"))","v":"Virginie"},{"$f":"IF(ISBLANK($B35),\"\",VLOOKUP(CONCATENATE($B35,\" \",$C35),Table_membres,25,FALSE))","v":34.5},{"$f":"INDIRECT(CONCATENATE(\"'\",TEXT(A35,\"0\"),\"'!$c$29\"))","v":80},{"$f":"INDIRECT(CONCATENATE(\"'\",TEXT(A35,\"0\"),\"'!$f$29\"))","v":17},{"$f":"INDIRECT(CONCATENATE(\"'\",TEXT(A35,\"0\"),\"'!$c$30\"))","v":80},{"$f":"INDIRECT(CONCATENATE(\"'\",TEXT(A35,\"0\"),\"'!$f$30\"))","v":17}]
["PICARD_Luc",{"$f":"HYPERLINK(\"#'\"&A36&\"'!A1\",INDIRECT(CONCATENATE(\"'\",TEXT(A36,\"0\"),\"'!$A$1\")))","v":"PICARD"},{"$f":"INDIRECT(CONCATENATE(\"'\",TEXT(A36,\"0\"),\"'!$B$1\"))","v":"Luc"},{"$f":"IF(ISBLANK($B36),\"\",VLOOKUP(CONCATENATE($B36,\" \",$C36),Table_membres,25,FALSE))","v":46},{"$f":"INDIRECT(CONCATENATE(\"'\",TEXT(A36,\"0\"),\"'!$c$29\"))","v":78},{"$f":"INDIRECT(CONCATENATE(\"'\",TEXT(A36,\"0\"),\"'!$f$29\"))","v":10},{"$f":"INDIRECT(CONCATENATE(\"'\",TEXT(A36,\"0\"),\"'!$c$30\"))","v":78},{"$f":"INDIRECT(CONCATENATE(\"'\",TEXT(A36,\"0\"),\"'!$f$30\"))","v":10}]
["SZAFIR_Nathalie",{"$f":"HYPERLINK(\"#'\"&A37&\"'!A1\",INDIRECT(CONCATENATE(\"'\",TEXT(A37,\"0\"),\"'!$A$1\")))","v":"SZAFIR"},{"$f":"INDIRECT(CONCATENATE(\"'\",TEXT(A37,\"0\"),\"'!$B$1\"))","v":"Nathalie"},{"$f":"IF(ISBLANK($B37),\"\",VLOOKUP(CONCATENATE($B37,\" \",$C37),Table_membres,25,FALSE))","v":54},{"$f":"INDIRECT(CONCATENATE(\"'\",TEXT(A37,\"0\"),\"'!$c$29\"))","v":76},{"$f":"INDIRECT(CONCATENATE(\"'\",TEXT(A37,\"0\"),\"'!$f$29\"))","v":9},{"$f":"INDIRECT(CONCATENATE(\"'\",TEXT(A37,\"0\"),\"'!$c$30\"))","v":76},{"$f":"INDIRECT(CONCATENATE(\"'\",TEXT(A37,\"0\"),\"'!$f$30\"))","v":9}]
["LE BON_Jean-François",{"$f":"HYPERLINK(\"#'\"&A38&\"'!A1\",INDIRECT(CONCATENATE(\"'\",TEXT(A38,\"0\"),\"'!$A$1\")))","v":"LE BON"},{"$f":"INDIRECT(CONCATENATE(\"'\",TEXT(A38,\"0\"),\"'!$B$1\"))","v":"Jean-François"},{"$f":"IF(ISBLANK($B38),\"\",VLOOKUP(CONCATENATE($B38,\" \",$C38),Table_membres,25,FALSE))","v":9},{"$f":"INDIRECT(CONCATENATE(\"'\",TEXT(A38,\"0\"),\"'!$c$29\"))","v":75},{"$f":"INDIRECT(CONCATENATE(\"'\",TEXT(A38,\"0\"),\"'!$f$29\"))","v":44},{"$f":"INDIRECT(CONCATENATE(\"'\",TEXT(A38,\"0\"),\"'!$c$30\"))","v":75},{"$f":"INDIRECT(CONCATENATE(\"'\",TEXT(A38,\"0\"),\"'!$f$30\"))","v":44}]
["BOUTEAUX_Anne-Marie",{"$f":"HYPERLINK(\"#'\"&A39&\"'!A1\",INDIRECT(CONCATENATE(\"'\",TEXT(A39,\"0\"),\"'!$A$1\")))","v":"PICARD"},{"$f":"INDIRECT(CONCATENATE(\"'\",TEXT(A39,\"0\"),\"'!$B$1\"))","v":"Anne-Marie"},{"$f":"IF(ISBLANK($B39),\"\",VLOOKUP(CONCATENATE($B39,\" \",$C39),Table_membres,25,FALSE))","v":54},{"$f":"INDIRECT(CONCATENATE(\"'\",TEXT(A39,\"0\"),\"'!$c$29\"))","v":74},{"$f":"INDIRECT(CONCATENATE(\"'\",TEXT(A39,\"0\"),\"'!$f$29\"))","v":14},{"$f":"INDIRECT(CONCATENATE(\"'\",TEXT(A39,\"0\"),\"'!$c$30\"))","v":74},{"$f":"INDIRECT(CONCATENATE(\"'\",TEXT(A39,\"0\"),\"'!$f$30\"))","v":14}]
["GU_Qin",{"$f":"HYPERLINK(\"#'\"&A40&\"'!A1\",INDIRECT(CONCATENATE(\"'\",TEXT(A40,\"0\"),\"'!$A$1\")))","v":"GU"},{"$f":"INDIRECT(CONCATENATE(\"'\",TEXT(A40,\"0\"),\"'!$B$1\"))","v":"Qin"},{"$f":"IF(ISBLANK($B40),\"\",VLOOKUP(CONCATENATE($B40,\" \",$C40),Table_membres,25,FALSE))","v":45},{"$f":"INDIRECT(CONCATENATE(\"'\",TEXT(A40,\"0\"),\"'!$c$29\"))","v":63},{"$f":"INDIRECT(CONCATENATE(\"'\",TEXT(A40,\"0\"),\"'!$f$29\"))","v":12},{"$f":"INDIRECT(CONCATENATE(\"'\",TEXT(A40,\"0\"),\"'!$c$30\"))","v":63},{"$f":"INDIRECT(CONCATENATE(\"'\",TEXT(A40,\"0\"),\"'!$f$30\"))","v":12}]
["PECH_Jean-François",{"$f":"HYPERLINK(\"#'\"&A41&\"'!A1\",INDIRECT(CONCATENATE(\"'\",TEXT(A41,\"0\"),\"'!$A$1\")))","v":"PECH"},{"$f":"INDIRECT(CONCATENATE(\"'\",TEXT(A41,\"0\"),\"'!$B$1\"))","v":"Jean-François"},{"$f":"IF(ISBLANK($B41),\"\",VLOOKUP(CONCATENATE($B41,\" \",$C41),Table_membres,25,FALSE))","v":54},{"$f":"INDIRECT(CONCATENATE(\"'\",TEXT(A41,\"0\"),\"'!$c$29\"))","v":46},{"$f":"INDIRECT(CONCATENATE(\"'\",TEXT(A41,\"0\"),\"'!$f$29\"))","v":15},{"$f":"INDIRECT(CONCATENATE(\"'\",TEXT(A41,\"0\"),\"'!$c$30\"))","v":45},{"$f":"INDIRECT(CONCATENATE(\"'\",TEXT(A41,\"0\"),\"'!$f$30\"))","v":15}]
["WERMESTER_Stéphane",{"$f":"HYPERLINK(\"#'\"&A42&\"'!A1\",INDIRECT(CONCATENATE(\"'\",TEXT(A42,\"0\"),\"'!$A$1\")))","v":"WERMESTER"},{"$f":"INDIRECT(CONCATENATE(\"'\",TEXT(A42,\"0\"),\"'!$B$1\"))","v":"Stéphane"},{"$f":"IF(ISBLANK($B42),\"\",VLOOKUP(CONCATENATE($B42,\" \",$C42),Table_membres,25,FALSE))","v":53},{"$f":"INDIRECT(CONCATENATE(\"'\",TEXT(A42,\"0\"),\"'!$c$29\"))","v":43},{"$f":"INDIRECT(CONCATENATE(\"'\",TEXT(A42,\"0\"),\"'!$f$29\"))","v":7},{"$f":"INDIRECT(CONCATENATE(\"'\",TEXT(A42,\"0\"),\"'!$c$30\"))","v":43},{"$f":"INDIRECT(CONCATENATE(\"'\",TEXT(A42,\"0\"),\"'!$f$30\"))","v":7}]
["PHULPIN_Brigitte",{"$f":"HYPERLINK(\"#'\"&A43&\"'!A1\",INDIRECT(CONCATENATE(\"'\",TEXT(A43,\"0\"),\"'!$A$1\")))","v":"PHULPIN"},{"$f":"INDIRECT(CONCATENATE(\"'\",TEXT(A43,\"0\"),\"'!$B$1\"))","v":"Brigitte"},{"$f":"IF(ISBLANK($B43),\"\",VLOOKUP(CONCATENATE($B43,\" \",$C43),Table_membres,25,FALSE))","v":28},{"$f":"INDIRECT(CONCATENATE(\"'\",TEXT(A43,\"0\"),\"'!$c$29\"))","v":37},{"$f":"INDIRECT(CONCATENATE(\"'\",TEXT(A43,\"0\"),\"'!$f$29\"))","v":13},{"$f":"INDIRECT(CONCATENATE(\"'\",TEXT(A43,\"0\"),\"'!$c$30\"))","v":37},{"$f":"INDIRECT(CONCATENATE(\"'\",TEXT(A43,\"0\"),\"'!$f$30\"))","v":13}]
["BENCHECROUN_Danielle",{"$f":"HYPERLINK(\"#'\"&A44&\"'!A1\",INDIRECT(CONCATENATE(\"'\",TEXT(A44,\"0\"),\"'!$A$1\")))","v":"BENCHECROUN"},{"$f":"INDIRECT(CONCATENATE(\"'\",TEXT(A44,\"0\"),\"'!$B$1\"))","v":"Danielle"},{"$f":"IF(ISBLANK($B44),\"\",VLOOKUP(CONCATENATE($B44,\" \",$C44),Table_membres,25,FALSE))","v":42},{"$f":"INDIRECT(CONCATENATE(\"'\",TEXT(A44,\"0\"),\"'!$c$29\"))","v":37},{"$f":"INDIRECT(CONCATENATE(\"'\",TEXT(A44,\"0\"),\"'!$f$29\"))","v":1},{"$f":"INDIRECT(CONCATENATE(\"'\",TEXT(A44,\"0\"),\"'!$c$30\"))","v":37},{"$f":"INDIRECT(CONCATENATE(\"'\",TEXT(A44,\"0\"),\"'!$f$30\"))","v":1}]
["LOPEZ_Cédric",{"$f":"HYPERLINK(\"#'\"&A45&\"'!A1\",INDIRECT(CONCATENATE(\"'\",TEXT(A45,\"0\"),\"'!$A$1\")))","v":"LOPEZ"},{"$f":"INDIRECT(CONCATENATE(\"'\",TEXT(A45,\"0\"),\"'!$B$1\"))","v":"Cédric"},{"$f":"IF(ISBLANK($B45),\"\",VLOOKUP(CONCATENATE($B45,\" \",$C45),Table_membres,25,FALSE))","v":54},{"$f":"INDIRECT(CONCATENATE(\"'\",TEXT(A45,\"0\"),\"'!$c$29\"))","v":36},{"$f":"INDIRECT(CONCATENATE(\"'\",TEXT(A45,\"0\"),\"'!$f$29\"))","v":12},{"$f":"INDIRECT(CONCATENATE(\"'\",TEXT(A45,\"0\"),\"'!$c$30\"))","v":36},{"$f":"INDIRECT(CONCATENATE(\"'\",TEXT(A45,\"0\"),\"'!$f$30\"))","v":12}]
["ROUSSEAU_Jean-Marc",{"$f":"HYPERLINK(\"#'\"&A46&\"'!A1\",INDIRECT(CONCATENATE(\"'\",TEXT(A46,\"0\"),\"'!$A$1\")))","v":"ROUSSEAU"},{"$f":"INDIRECT(CONCATENATE(\"'\",TEXT(A46,\"0\"),\"'!$B$1\"))","v":"Jean-Marc"},{"$f":"IF(ISBLANK($B46),\"\",VLOOKUP(CONCATENATE($B46,\" \",$C46),Table_membres,25,FALSE))","v":54},{"$f":"INDIRECT(CONCATENATE(\"'\",TEXT(A46,\"0\"),\"'!$c$29\"))","v":36},{"$f":"INDIRECT(CONCATENATE(\"'\",TEXT(A46,\"0\"),\"'!$f$29\"))","v":12},{"$f":"INDIRECT(CONCATENATE(\"'\",TEXT(A46,\"0\"),\"'!$c$30\"))","v":36},{"$f":"INDIRECT(CONCATENATE(\"'\",TEXT(A46,\"0\"),\"'!$f$30\"))","v":12}]
["BENCHECROUN_Nagib",{"$f":"HYPERLINK(\"#'\"&A47&\"'!A1\",INDIRECT(CONCATENATE(\"'\",TEXT(A47,\"0\"),\"'!$A$1\")))","v":"BENCHECROUN"},{"$f":"INDIRECT(CONCATENATE(\"'\",TEXT(A47,\"0\"),\"'!$B$1\"))","v":"Nagib"},{"$f":"IF(ISBLANK($B47),\"\",VLOOKUP(CONCATENATE($B47,\" \",$C47),Table_membres,25,FALSE))","v":54},{"$f":"INDIRECT(CONCATENATE(\"'\",TEXT(A47,\"0\"),\"'!$c$29\"))","v":28},{"$f":"INDIRECT(CONCATENATE(\"'\",TEXT(A47,\"0\"),\"'!$f$29\"))","v":1},{"$f":"INDIRECT(CONCATENATE(\"'\",TEXT(A47,\"0\"),\"'!$c$30\"))","v":28},{"$f":"INDIRECT(CONCATENATE(\"'\",TEXT(A47,\"0\"),\"'!$f$30\"))","v":1}]
["DELDIQUE_Denise",{"$f":"HYPERLINK(\"#'\"&A48&\"'!A1\",INDIRECT(CONCATENATE(\"'\",TEXT(A48,\"0\"),\"'!$A$1\")))","v":"DELDIQUE"},{"$f":"INDIRECT(CONCATENATE(\"'\",TEXT(A48,\"0\"),\"'!$B$1\"))","v":"Denise"},{"$f":"IF(ISBLANK($B48),\"\",VLOOKUP(CONCATENATE($B48,\" \",$C48),Table_membres,25,FALSE))","v":54},{"$f":"INDIRECT(CONCATENATE(\"'\",TEXT(A48,\"0\"),\"'!$c$29\"))","v":27},{"$f":"INDIRECT(CONCATENATE(\"'\",TEXT(A48,\"0\"),\"'!$f$29\"))","v":9},{"$f":"INDIRECT(CONCATENATE(\"'\",TEXT(A48,\"0\"),\"'!$c$30\"))","v":27},{"$f":"INDIRECT(CONCATENATE(\"'\",TEXT(A48,\"0\"),\"'!$f$30\"))","v":9}]
["PAUL_Albert",{"$f":"HYPERLINK(\"#'\"&A49&\"'!A1\",INDIRECT(CONCATENATE(\"'\",TEXT(A49,\"0\"),\"'!$A$1\")))","v":"PAUL"},{"$f":"INDIRECT(CONCATENATE(\"'\",TEXT(A49,\"0\"),\"'!$B$1\"))","v":"Albert"},{"$f":"IF(ISBLANK($B49),\"\",VLOOKUP(CONCATENATE($B49,\" \",$C49),Table_membres,25,FALSE))","v":54},{"$f":"INDIRECT(CONCATENATE(\"'\",TEXT(A49,\"0\"),\"'!$c$29\"))","v":27},{"$f":"INDIRECT(CONCATENATE(\"'\",TEXT(A49,\"0\"),\"'!$f$29\"))","v":9},{"$f":"INDIRECT(CONCATENATE(\"'\",TEXT(A49,\"0\"),\"'!$c$30\"))","v":27},{"$f":"INDIRECT(CONCATENATE(\"'\",TEXT(A49,\"0\"),\"'!$f$30\"))","v":9}]
["BORDET_Dominique",{"$f":"HYPERLINK(\"#'\"&A50&\"'!A1\",INDIRECT(CONCATENATE(\"'\",TEXT(A50,\"0\"),\"'!$A$1\")))","v":"BORDET"},{"$f":"INDIRECT(CONCATENATE(\"'\",TEXT(A50,\"0\"),\"'!$B$1\"))","v":"Dominique"},{"$f":"IF(ISBLANK($B50),\"\",VLOOKUP(CONCATENATE($B50,\" \",$C50),Table_membres,25,FALSE))","v":42},{"$f":"INDIRECT(CONCATENATE(\"'\",TEXT(A50,\"0\"),\"'!$c$29\"))","v":24},{"$f":"INDIRECT(CONCATENATE(\"'\",TEXT(A50,\"0\"),\"'!$d$29\"))","v":4},{"$f":"INDIRECT(CONCATENATE(\"'\",TEXT(A50,\"0\"),\"'!$c$30\"))","v":24},{"$f":"INDIRECT(CONCATENATE(\"'\",TEXT(A50,\"0\"),\"'!$d$30\"))","v":4},null,24,4]
["KUHFUSS MONVAL_Luce",{"$f":"HYPERLINK(\"#'\"&A51&\"'!A1\",INDIRECT(CONCATENATE(\"'\",TEXT(A51,\"0\"),\"'!$A$1\")))","v":"KUHFUSS MONVAL"},{"$f":"INDIRECT(CONCATENATE(\"'\",TEXT(A51,\"0\"),\"'!$B$1\"))","v":"Luce"},{"$f":"IF(ISBLANK($B51),\"\",VLOOKUP(CONCATENATE($B51,\" \",$C51),Table_membres,25,FALSE))","v":48},{"$f":"INDIRECT(CONCATENATE(\"'\",TEXT(A51,\"0\"),\"'!$c$29\"))","v":21},{"$f":"INDIRECT(CONCATENATE(\"'\",TEXT(A51,\"0\"),\"'!$f$29\"))","v":1},{"$f":"INDIRECT(CONCATENATE(\"'\",TEXT(A51,\"0\"),\"'!$c$30\"))","v":21},{"$f":"INDIRECT(CONCATENATE(\"'\",TEXT(A51,\"0\"),\"'!$f$30\"))","v":1}]
["DOGUIN_Yohann",{"$f":"HYPERLINK(\"#'\"&A52&\"'!A1\",INDIRECT(CONCATENATE(\"'\",TEXT(A52,\"0\"),\"'!$A$1\")))","v":"DOGUIN"},{"$f":"INDIRECT(CONCATENATE(\"'\",TEXT(A52,\"0\"),\"'!$B$1\"))","v":"Yohann"},{"$f":"IF(ISBLANK($B52),\"\",VLOOKUP(CONCATENATE($B52,\" \",$C52),Table_membres,25,FALSE))","v":50},{"$f":"INDIRECT(CONCATENATE(\"'\",TEXT(A52,\"0\"),\"'!$c$29\"))","v":18},{"$f":"INDIRECT(CONCATENATE(\"'\",TEXT(A52,\"0\"),\"'!$f$29\"))","v":6},{"$f":"INDIRECT(CONCATENATE(\"'\",TEXT(A52,\"0\"),\"'!$c$30\"))","v":18},{"$f":"INDIRECT(CONCATENATE(\"'\",TEXT(A52,\"0\"),\"'!$f$30\"))","v":6}]
["TERNEL_Cyprien",{"$f":"HYPERLINK(\"#'\"&A53&\"'!A1\",INDIRECT(CONCATENATE(\"'\",TEXT(A53,\"0\"),\"'!$A$1\")))","v":"TERNEL"},{"$f":"INDIRECT(CONCATENATE(\"'\",TEXT(A53,\"0\"),\"'!$B$1\"))","v":"Cyprien"},{"$f":"IF(ISBLANK($B53),\"\",VLOOKUP(CONCATENATE($B53,\" \",$C53),Table_membres,25,FALSE))","v":21.8},{"$f":"INDIRECT(CONCATENATE(\"'\",TEXT(A53,\"0\"),\"'!$c$29\"))","v":18},{"$f":"INDIRECT(CONCATENATE(\"'\",TEXT(A53,\"0\"),\"'!$f$29\"))","v":6},{"$f":"INDIRECT(CONCATENATE(\"'\",TEXT(A53,\"0\"),\"'!$c$30\"))","v":18},{"$f":"INDIRECT(CONCATENATE(\"'\",TEXT(A53,\"0\"),\"'!$f$30\"))","v":6}]
["WATIER_Laurent",{"$f":"HYPERLINK(\"#'\"&A54&\"'!A1\",INDIRECT(CONCATENATE(\"'\",TEXT(A54,\"0\"),\"'!$A$1\")))","v":"WATIER"},{"$f":"INDIRECT(CONCATENATE(\"'\",TEXT(A54,\"0\"),\"'!$B$1\"))","v":"Laurent"},{"$f":"IF(ISBLANK($B54),\"\",VLOOKUP(CONCATENATE($B54,\" \",$C54),Table_membres,25,FALSE))","v":50},{"$f":"INDIRECT(CONCATENATE(\"'\",TEXT(A54,\"0\"),\"'!$c$29\"))","v":18},{"$f":"INDIRECT(CONCATENATE(\"'\",TEXT(A54,\"0\"),\"'!$f$29\"))","v":2},{"$f":"INDIRECT(CONCATENATE(\"'\",TEXT(A54,\"0\"),\"'!$c$30\"))","v":18},{"$f":"INDIRECT(CONCATENATE(\"'\",TEXT(A54,\"0\"),\"'!$f$30\"))","v":2}]
["BEAUCHET_Sandra",{"$f":"HYPERLINK(\"#'\"&A55&\"'!A1\",INDIRECT(CONCATENATE(\"'\",TEXT(A55,\"0\"),\"'!$A$1\")))","v":"BEAUCHET"},{"$f":"INDIRECT(CONCATENATE(\"'\",TEXT(A55,\"0\"),\"'!$B$1\"))","v":"Sandra"},{"$f":"IF(ISBLANK($B55),\"\",VLOOKUP(CONCATENATE($B55,\" \",$C55),Table_membres,25,FALSE))","v":54},{"$f":"INDIRECT(CONCATENATE(\"'\",TEXT(A55,\"0\"),\"'!$c$29\"))","v":9},{"$f":"INDIRECT(CONCATENATE(\"'\",TEXT(A55,\"0\"),\"'!$f$29\"))","v":3},{"$f":"INDIRECT(CONCATENATE(\"'\",TEXT(A55,\"0\"),\"'!$c$30\"))","v":9},{"$f":"INDIRECT(CONCATENATE(\"'\",TEXT(A55,\"0\"),\"'!$f$30\"))","v":3}]
["BRUNEAU_Thomas",{"$f":"HYPERLINK(\"#'\"&A56&\"'!A1\",INDIRECT(CONCATENATE(\"'\",TEXT(A56,\"0\"),\"'!$A$1\")))","v":"BRUNEAU"},{"$f":"INDIRECT(CONCATENATE(\"'\",TEXT(A56,\"0\"),\"'!$B$1\"))","v":"Thomas"},{"$f":"IF(ISBLANK($B56),\"\",VLOOKUP(CONCATENATE($B56,\" \",$C56),Table_membres,25,FALSE))","v":54},{"$f":"INDIRECT(CONCATENATE(\"'\",TEXT(A56,\"0\"),\"'!$c$29\"))","v":9},{"$f":"INDIRECT(CONCATENATE(\"'\",TEXT(A56,\"0\"),\"'!$f$29\"))","v":3},{"$f":"INDIRECT(CONCATENATE(\"'\",TEXT(A56,\"0\"),\"'!$c$30\"))","v":9},{"$f":"INDIRECT(CONCATENATE(\"'\",TEXT(A56,\"0\"),\"'!$f$30\"))","v":3}]
["CRESTOIS_Christine",{"$f":"HYPERLINK(\"#'\"&A57&\"'!A1\",INDIRECT(CONCATENATE(\"'\",TEXT(A57,\"0\"),\"'!$A$1\")))","v":"CRESTOIS"},{"$f":"INDIRECT(CONCATENATE(\"'\",TEXT(A57,\"0\"),\"'!$B$1\"))","v":"Christine"},{"$f":"IF(ISBLANK($B57),\"\",VLOOKUP(CONCATENATE($B57,\" \",$C57),Table_membres,25,FALSE))","v":54},{"$f":"INDIRECT(CONCATENATE(\"'\",TEXT(A57,\"0\"),\"'!$c$29\"))","v":9},{"$f":"INDIRECT(CONCATENATE(\"'\",TEXT(A57,\"0\"),\"'!$f$29\"))","v":3},{"$f":"INDIRECT(CONCATENATE(\"'\",TEXT(A57,\"0\"),\"'!$c$30\"))","v":9},{"$f":"INDIRECT(CONCATENATE(\"'\",TEXT(A57,\"0\"),\"'!$f$30\"))","v":3}]
["CRESTOIS_Laurent",{"$f":"HYPERLINK(\"#'\"&A58&\"'!A1\",INDIRECT(CONCATENATE(\"'\",TEXT(A58,\"0\"),\"'!$A$1\")))","v":"CRESTOIS"},{"$f":"INDIRECT(CONCATENATE(\"'\",TEXT(A58,\"0\"),\"'!$B$1\"))","v":"Laurent"},{"$f":"IF(ISBLANK($B58),\"\",VLOOKUP(CONCATENATE($B58,\" \",$C58),Table_membres,25,FALSE))","v":54},{"$f":"INDIRECT(CONCATENATE(\"'\",TEXT(A58,\"0\"),\"'!$c$29\"))","v":9},{"$f":"INDIRECT(CONCATENATE(\"'\",TEXT(A58,\"0\"),\"'!$f$29\"))","v":3},{"$f":"INDIRECT(CONCATENATE(\"'\",TEXT(A58,\"0\"),\"'!$c$30\"))","v":9},{"$f":"INDIRECT(CONCATENATE(\"'\",TEXT(A58,\"0\"),\"'!$f$30\"))","v":3}]
["ELMALEH_Alfred",{"$f":"HYPERLINK(\"#'\"&A59&\"'!A1\",INDIRECT(CONCATENATE(\"'\",TEXT(A59,\"0\"),\"'!$A$1\")))","v":"ELMALEH"},{"$f":"INDIRECT(CONCATENATE(\"'\",TEXT(A59,\"0\"),\"'!$B$1\"))","v":"Alfred"},{"$f":"IF(ISBLANK($B59),\"\",VLOOKUP(CONCATENATE($B59,\" \",$C59),Table_membres,25,FALSE))","v":54},{"$f":"INDIRECT(CONCATENATE(\"'\",TEXT(A59,\"0\"),\"'!$c$29\"))","v":9},{"$f":"INDIRECT(CONCATENATE(\"'\",TEXT(A59,\"0\"),\"'!$f$29\"))","v":3},{"$f":"INDIRECT(CONCATENATE(\"'\",TEXT(A59,\"0\"),\"'!$c$30\"))","v":9},{"$f":"INDIRECT(CONCATENATE(\"'\",TEXT(A59,\"0\"),\"'!$f$30\"))","v":3}]
["PONSOT-JACQUIN_Catherine",{"$f":"HYPERLINK(\"#'\"&A60&\"'!A1\",INDIRECT(CONCATENATE(\"'\",TEXT(A60,\"0\"),\"'!$A$1\")))","v":"PONSOT-JACQUIN"},{"$f":"INDIRECT(CONCATENATE(\"'\",TEXT(A60,\"0\"),\"'!$B$1\"))","v":"Catherine"},{"$f":"IF(ISBLANK($B60),\"\",VLOOKUP(CONCATENATE($B60,\" \",$C60),Table_membres,25,FALSE))","v":54},{"$f":"INDIRECT(CONCATENATE(\"'\",TEXT(A60,\"0\"),\"'!$c$29\"))","v":9},{"$f":"INDIRECT(CONCATENATE(\"'\",TEXT(A60,\"0\"),\"'!$f$29\"))","v":3},{"$f":"INDIRECT(CONCATENATE(\"'\",TEXT(A60,\"0\"),\"'!$c$30\"))","v":9},{"$f":"INDIRECT(CONCATENATE(\"'\",TEXT(A60,\"0\"),\"'!$f$30\"))","v":3}]

{"sheet":"Modèle","index":2,"n_rows":30,"n_cols":8,"rows_kept":30,"cut":false,"hidden":true,"merged":[]}
["NOM","Prénom",null,{"$f":"HYPERLINK(\"#Adhérents!A1\",\"Retour\")","v":"Retour"}]
[]
["Date Sortie","Parcours","Net","Brut","Net+","Brut+","Rang Net","Rang Brut"]
[null,null,null,null,{"$f":"C4-ROW(C4)/1000","v":-4.0000000000000001E-3},{"$f":"D4-ROW(D4)/1000","v":-4.0000000000000001E-3},{"$f":"RANK(E4,$E$4:$E$28)","v":1},{"$f":"RANK(F4,$F$4:$F$28)","v":1}]
[null,null,null,null,{"$f":"C5-ROW(C5)/1000","v":-5.0000000000000001E-3},-5.0000000000000001E-3,2,{"$f":"RANK(F5,$F$4:$F$28)","v":2}]
[null,null,null,null,-6.0000000000000001E-3,-6.0000000000000001E-3,3,{"$f":"RANK(F6,$F$4:$F$28)","v":3}]
[null,null,null,null,-7.0000000000000001E-3,-7.0000000000000001E-3,4,4]
[null,null,null,null,-8.0000000000000002E-3,-8.0000000000000002E-3,5,5]
[null,null,null,null,-8.9999999999999993E-3,-8.9999999999999993E-3,6,6]
[null,null,null,null,-0.01,-0.01,7,7]
[null,null,null,null,-1.0999999999999999E-2,-1.0999999999999999E-2,8,8]
[null,null,null,null,-1.2E-2,-1.2E-2,9,9]
[null,null,null,null,-1.2999999999999999E-2,-1.2999999999999999E-2,10,10]
[null,null,null,null,-1.4E-2,-1.4E-2,11,11]
[null,null,null,null,-1.4999999999999999E-2,-1.4999999999999999E-2,12,12]
[null,null,null,null,-1.6E-2,-1.6E-2,13,13]
[null,null,null,null,-1.7000000000000001E-2,-1.7000000000000001E-2,14,14]
[null,null,null,null,-1.7999999999999999E-2,-1.7999999999999999E-2,15,15]
[null,null,null,null,-1.9E-2,-1.9E-2,16,16]
[null,null,null,null,-0.02,-0.02,17,17]
[null,null,null,null,-2.1000000000000001E-2,-2.1000000000000001E-2,18,18]
[null,null,null,null,-2.1999999999999999E-2,-2.1999999999999999E-2,19,19]
[null,null,null,null,-2.3E-2,-2.3E-2,20,20]
[null,null,null,null,-2.4E-2,-2.4E-2,21,21]
[null,null,null,null,-2.5000000000000001E-2,-2.5000000000000001E-2,22,22]
[null,null,null,null,-2.5999999999999999E-2,-2.5999999999999999E-2,23,23]
[null,null,null,null,-2.7E-2,-2.7E-2,24,24]
[null,null,null,null,-2.8000000000000001E-2,-2.8000000000000001E-2,25,25]
[null,"Cumul total",{"$f":"SUM(C4:C28)","v":0},{"$f":"SUM(D4:D28)","v":0}]
[null,"5 meilleurs scores",{"$f":"INDEX(C4:C28,MATCH(1,G4:G28,0))+INDEX(C4:C28,MATCH(2,G4:G28,0))+INDEX(C4:C28,MATCH(3,G4:G28,0))+INDEX(C4:C28,MATCH(4,G4:G28,0))+INDEX(C4:C28,MATCH(5,G4:G28,0))","v":0},{"$f":"INDEX(D4:D28,MATCH(1,H4:H28,0))+INDEX(D4:D28,MATCH(2,H4:H28,0))+INDEX(D4:D28,MATCH(3,H4:H28,0))+INDEX(D4:D28,MATCH(4,H4:H28,0))+INDEX(D4:D28,MATCH(5,H4:H28,0))","v":0}]

{"sheet":"BEAUCHET_Sandra","index":3,"n_rows":30,"n_cols":8,"rows_kept":30,"cut":false,"hidden":false,"merged":[]}
["BEAUCHET","Sandra",null,null,null,{"$f":"HYPERLINK(\"#Adhérents!A1\",\"Retour\")","v":"Retour"}]
[]
["Date Sortie","Parcours","Net","Net+","Rang Net","Brut","Brut+","Rang Brut"]
["2019-04-25","Rueil",9,{"$f":"C4+ROW(C4)/1000","v":9.0039999999999996},{"$f":"RANK(D4,$D$4:$D$28)","v":1},3,{"$f":"F4+ROW(F4)/1000","v":3.004},{"$f":"RANK(G4,$G$4:$G$28)","v":1}]
[null,null,null,5.0000000000000001E-3,{"$f":"RANK(D5,$D$4:$D$28)","v":25},null,5.0000000000000001E-3,{"$f":"RANK(G5,$G$4:$G$28)","v":25}]
[null,null,null,6.0000000000000001E-3,24,null,6.0000000000000001E-3,{"$f":"RANK(G6,$G$4:$G$28)","v":24}]
[null,null,null,7.0000000000000001E-3,23,null,7.0000000000000001E-3,23]
[null,null,null,8.0000000000000002E-3,22,null,8.0000000000000002E-3,22]
[null,null,null,8.9999999999999993E-3,21,null,8.9999999999999993E-3,21]
[null,null,null,0.01,20,null,0.01,20]
[null,null,null,1.0999999999999999E-2,19,null,1.0999999999999999E-2,19]
[null,null,null,1.2E-2,18,null,1.2E-2,18]
[null,null,null,1.2999999999999999E-2,17,null,1.2999999999999999E-2,17]
[null,null,null,1.4E-2,16,null,1.4E-2,16]
[null,null,null,1.4999999999999999E-2,15,null,1.4999999999999999E-2,15]
[null,null,null,1.6E-2,14,null,1.6E-2,14]
[null,null,null,1.7000000000000001E-2,13,null,1.7000000000000001E-2,13]
[null,null,null,1.7999999999999999E-2,12,null,1.7999999999999999E-2,12]
[null,null,null,1.9E-2,11,null,1.9E-2,11]
[null,null,null,0.02,10,null,0.02,10]
[null,null,null,2.1000000000000001E-2,9,null,2.1000000000000001E-2,9]
[null,null,null,2.1999999999999999E-2,8,null,2.1999999999999999E-2,8]
[null,null,null,2.3E-2,7,null,2.3E-2,7]
[null,null,null,2.4E-2,6,null,2.4E-2,6]
[null,null,null,2.5000000000000001E-2,5,null,2.5000000000000001E-2,5]
[null,null,null,2.5999999999999999E-2,4,null,2.5999999999999999E-2,4]
[null,null,null,2.7E-2,3,null,2.7E-2,3]
[null,null,null,2.8000000000000001E-2,2,null,2.8000000000000001E-2,2]
[null,"Cumul total",{"$f":"SUM(C4:C28)","v":9},null,null,{"$f":"SUM(F4:F28)","v":3}]
[null,"5 meilleurs scores",{"$f":"INDEX(C4:C28,MATCH(1,E4:E28,0))+INDEX(C4:C28,MATCH(2,E4:E28,0))+INDEX(C4:C28,MATCH(3,E4:E28,0))+INDEX(C4:C28,MATCH(4,E4:E28,0))+INDEX(C4:C28,MATCH(5,E4:E28,0))","v":9},null,null,{"$f":"INDEX(F4:F28,MATCH(1,H4:H28,0))+INDEX(F4:F28,MATCH(2,H4:H28,0))+INDEX(F4:F28,MATCH(3,H4:H28,0))+INDEX(F4:F28,MATCH(4,H4:H28,0))+INDEX(F4:F28,MATCH(5,H4:H28,0))","v":3}]

{"sheet":"BENCHECROUN_Danielle","index":4,"n_rows":30,"n_cols":8,"rows_kept":30,"cut":false,"hidden":false,"merged":[]}
["BENCHECROUN","Danielle",null,null,null,{"$f":"HYPERLINK(\"#Adhérents!A1\",\"Retour\")","v":"Retour"}]
[]
["Date Sortie","Parcours","Net","Net+","Rang Net","Brut","Brut+","Rang Brut"]
["2018-10-05","Isle Adam",13,{"$f":"C4+ROW(C4)/1000","v":13.004},{"$f":"RANK(D4,$D$4:$D$28)","v":2},0,{"$f":"F4+ROW(F4)/1000","v":4.0000000000000001E-3},{"$f":"RANK(G4,$G$4:$G$28)","v":25}]
["2018-10-20","Cergy Vauréal",24,24.004999999999999,{"$f":"RANK(D5,$D$4:$D$28)","v":1},1,1.0049999999999999,{"$f":"RANK(G5,$G$4:$G$28)","v":1}]
[null,null,null,6.0000000000000001E-3,25,null,6.0000000000000001E-3,{"$f":"RANK(G6,$G$4:$G$28)","v":24}]
[null,null,null,7.0000000000000001E-3,24,null,7.0000000000000001E-3,23]
[null,null,null,8.0000000000000002E-3,23,null,8.0000000000000002E-3,22]
[null,null,null,8.9999999999999993E-3,22,null,8.9999999999999993E-3,21]
[null,null,null,0.01,21,null,0.01,20]
[null,null,null,1.0999999999999999E-2,20,null,1.0999999999999999E-2,19]
[null,null,null,1.2E-2,19,null,1.2E-2,18]
[null,null,null,1.2999999999999999E-2,18,null,1.2999999999999999E-2,17]
[null,null,null,1.4E-2,17,null,1.4E-2,16]
[null,null,null,1.4999999999999999E-2,16,null,1.4999999999999999E-2,15]
[null,null,null,1.6E-2,15,null,1.6E-2,14]
[null,null,null,1.7000000000000001E-2,14,null,1.7000000000000001E-2,13]
[null,null,null,1.7999999999999999E-2,13,null,1.7999999999999999E-2,12]
[null,null,null,1.9E-2,12,null,1.9E-2,11]
[null,null,null,0.02,11,null,0.02,10]
[null,null,null,2.1000000000000001E-2,10,null,2.1000000000000001E-2,9]
[null,null,null,2.1999999999999999E-2,9,null,2.1999999999999999E-2,8]
[null,null,null,2.3E-2,8,null,2.3E-2,7]
[null,null,null,2.4E-2,7,null,2.4E-2,6]
[null,null,null,2.5000000000000001E-2,6,null,2.5000000000000001E-2,5]
[null,null,null,2.5999999999999999E-2,5,null,2.5999999999999999E-2,4]
[null,null,null,2.7E-2,4,null,2.7E-2,3]
[null,null,null,2.8000000000000001E-2,3,null,2.8000000000000001E-2,2]
[null,"Cumul total",{"$f":"SUM(C4:C28)","v":37},null,null,{"$f":"SUM(F4:F28)","v":1}]
[null,"5 meilleurs scores",{"$f":"INDEX(C4:C28,MATCH(1,E4:E28,0))+INDEX(C4:C28,MATCH(2,E4:E28,0))+INDEX(C4:C28,MATCH(3,E4:E28,0))+INDEX(C4:C28,MATCH(4,E4:E28,0))+INDEX(C4:C28,MATCH(5,E4:E28,0))","v":37},null,null,{"$f":"INDEX(F4:F28,MATCH(1,H4:H28,0))+INDEX(F4:F28,MATCH(2,H4:H28,0))+INDEX(F4:F28,MATCH(3,H4:H28,0))+INDEX(F4:F28,MATCH(4,H4:H28,0))+INDEX(F4:F28,MATCH(5,H4:H28,0))","v":1}]

{"sheet":"BENCHECROUN_Nagib","index":5,"n_rows":30,"n_cols":8,"rows_kept":30,"cut":false,"hidden":false,"merged":[]}
["BENCHECROUN","Nagib",null,null,null,{"$f":"HYPERLINK(\"#Adhérents!A1\",\"Retour\")","v":"Retour"}]
[]
["Date Sortie","Parcours","Net","Net+","Rang Net","Brut","Brut+","Rang Brut"]
["2018-10-05","Isle Adam",12,{"$f":"C4+ROW(C4)/1000","v":12.004},{"$f":"RANK(D4,$D$4:$D$28)","v":2},1,{"$f":"F4+ROW(F4)/1000","v":1.004},{"$f":"RANK(G4,$G$4:$G$28)","v":1}]
["2018-10-20","Cergy Vauréal",16,16.004999999999999,{"$f":"RANK(D5,$D$4:$D$28)","v":1},0,5.0000000000000001E-3,{"$f":"RANK(G5,$G$4:$G$28)","v":25}]
[null,null,null,6.0000000000000001E-3,25,null,6.0000000000000001E-3,{"$f":"RANK(G6,$G$4:$G$28)","v":24}]
[null,null,null,7.0000000000000001E-3,24,null,7.0000000000000001E-3,23]
[null,null,null,8.0000000000000002E-3,23,null,8.0000000000000002E-3,22]
[null,null,null,8.9999999999999993E-3,22,null,8.9999999999999993E-3,21]
[null,null,null,0.01,21,null,0.01,20]
[null,null,null,1.0999999999999999E-2,20,null,1.0999999999999999E-2,19]
[null,null,null,1.2E-2,19,null,1.2E-2,18]
[null,null,null,1.2999999999999999E-2,18,null,1.2999999999999999E-2,17]
[null,null,null,1.4E-2,17,null,1.4E-2,16]
[null,null,null,1.4999999999999999E-2,16,null,1.4999999999999999E-2,15]
[null,null,null,1.6E-2,15,null,1.6E-2,14]
[null,null,null,1.7000000000000001E-2,14,null,1.7000000000000001E-2,13]
[null,null,null,1.7999999999999999E-2,13,null,1.7999999999999999E-2,12]
[null,null,null,1.9E-2,12,null,1.9E-2,11]
[null,null,null,0.02,11,null,0.02,10]
[null,null,null,2.1000000000000001E-2,10,null,2.1000000000000001E-2,9]
[null,null,null,2.1999999999999999E-2,9,null,2.1999999999999999E-2,8]
[null,null,null,2.3E-2,8,null,2.3E-2,7]
[null,null,null,2.4E-2,7,null,2.4E-2,6]
[null,null,null,2.5000000000000001E-2,6,null,2.5000000000000001E-2,5]
[null,null,null,2.5999999999999999E-2,5,null,2.5999999999999999E-2,4]
[null,null,null,2.7E-2,4,null,2.7E-2,3]
[null,null,null,2.8000000000000001E-2,3,null,2.8000000000000001E-2,2]
[null,"Cumul total",{"$f":"SUM(C4:C28)","v":28},null,null,{"$f":"SUM(F4:F28)","v":1}]
[null,"5 meilleurs scores",{"$f":"INDEX(C4:C28,MATCH(1,E4:E28,0))+INDEX(C4:C28,MATCH(2,E4:E28,0))+INDEX(C4:C28,MATCH(3,E4:E28,0))+INDEX(C4:C28,MATCH(4,E4:E28,0))+INDEX(C4:C28,MATCH(5,E4:E28,0))","v":28},null,null,{"$f":"INDEX(F4:F28,MATCH(1,H4:H28,0))+INDEX(F4:F28,MATCH(2,H4:H28,0))+INDEX(F4:F28,MATCH(3,H4:H28,0))+INDEX(F4:F28,MATCH(4,H4:H28,0))+INDEX(F4:F28,MATCH(5,H4:H28,0))","v":1}]

{"sheet":"BERNARD_Yvon","index":6,"n_rows":30,"n_cols":8,"rows_kept":30,"cut":false,"hidden":false,"merged":[]}
["BERNARD","Yvon",null,null,null,{"$f":"HYPERLINK(\"#Adhérents!A1\",\"Retour\")","v":"Retour"}]
[]
["Date Sortie","Parcours","Net","Net+","Rang Net","Brut","Brut+","Rang Brut"]
["2019-01-12","CH Ableiges",35,{"$f":"C4+ROW(C4)/1000","v":35.003999999999998},{"$f":"RANK(D4,$D$4:$D$28)","v":1},10,{"$f":"F4+ROW(F4)/1000","v":10.004},{"$f":"RANK(G4,$G$4:$G$28)","v":1}]
["2018-12-13","Rueil virtuel",9,9.0050000000000008,{"$f":"RANK(D5,$D$4:$D$28)","v":4},3,3.0049999999999999,{"$f":"RANK(G5,$G$4:$G$28)","v":4}]
["2019-04-06","Disney",18,18.006,3,6,6.0060000000000002,{"$f":"RANK(G6,$G$4:$G$28)","v":3}]
["2019-04-28","Marivaux",18,18.007000000000001,2,9,9.0069999999999997,2]
[null,null,null,8.0000000000000002E-3,25,null,8.0000000000000002E-3,25]
[null,null,null,8.9999999999999993E-3,24,null,8.9999999999999993E-3,24]
[null,null,null,0.01,23,null,0.01,23]
[null,null,null,1.0999999999999999E-2,22,null,1.0999999999999999E-2,22]
[null,null,null,1.2E-2,21,null,1.2E-2,21]
[null,null,null,1.2999999999999999E-2,20,null,1.2999999999999999E-2,20]
[null,null,null,1.4E-2,19,null,1.4E-2,19]
[null,null,null,1.4999999999999999E-2,18,null,1.4999999999999999E-2,18]
[null,null,null,1.6E-2,17,null,1.6E-2,17]
[null,null,null,1.7000000000000001E-2,16,null,1.7000000000000001E-2,16]
[null,null,null,1.7999999999999999E-2,15,null,1.7999999999999999E-2,15]
[null,null,null,1.9E-2,14,null,1.9E-2,14]
[null,null,null,0.02,13,null,0.02,13]
[null,null,null,2.1000000000000001E-2,12,null,2.1000000000000001E-2,12]
[null,null,null,2.1999999999999999E-2,11,null,2.1999999999999999E-2,11]
[null,null,null,2.3E-2,10,null,2.3E-2,10]
[null,null,null,2.4E-2,9,null,2.4E-2,9]
[null,null,null,2.5000000000000001E-2,8,null,2.5000000000000001E-2,8]
[null,null,null,2.5999999999999999E-2,7,null,2.5999999999999999E-2,7]
[null,null,null,2.7E-2,6,null,2.7E-2,6]
[null,null,null,2.8000000000000001E-2,5,null,2.8000000000000001E-2,5]
[null,"Cumul total",{"$f":"SUM(C4:C28)","v":80},null,null,{"$f":"SUM(F4:F28)","v":28}]
[null,"5 meilleurs scores",{"$f":"INDEX(C4:C28,MATCH(1,E4:E28,0))+INDEX(C4:C28,MATCH(2,E4:E28,0))+INDEX(C4:C28,MATCH(3,E4:E28,0))+INDEX(C4:C28,MATCH(4,E4:E28,0))+INDEX(C4:C28,MATCH(5,E4:E28,0))","v":80},null,null,{"$f":"INDEX(F4:F28,MATCH(1,H4:H28,0))+INDEX(F4:F28,MATCH(2,H4:H28,0))+INDEX(F4:F28,MATCH(3,H4:H28,0))+INDEX(F4:F28,MATCH(4,H4:H28,0))+INDEX(F4:F28,MATCH(5,H4:H28,0))","v":28}]

{"sheet":"BOISSERPE_Patrick","index":7,"n_rows":30,"n_cols":8,"rows_kept":30,"cut":false,"hidden":false,"merged":[]}
["BOISSERPE","Patrick",null,null,null,{"$f":"HYPERLINK(\"#Adhérents!A1\",\"Retour\")","v":"Retour"}]
[]
["Date Sortie","Parcours","Net","Net+","Rang Net","Brut","Brut+","Rang Brut"]
["2018-09-21","Les Aisses",16,{"$f":"C4+ROW(C4)/1000","v":16.004000000000001},{"$f":"RANK(D4,$D$4:$D$28)","v":11},1,{"$f":"F4+ROW(F4)/1000","v":1.004},{"$f":"RANK(G4,$G$4:$G$28)","v":12}]
["2018-09-22","Sologne",18,18.004999999999999,{"$f":"RANK(D5,$D$4:$D$28)","v":10},6,6.0049999999999999,{"$f":"RANK(G5,$G$4:$G$28)","v":4}]
["2018-10-05","Isle Adam",29,29.006,2,3,3.0059999999999998,{"$f":"RANK(G6,$G$4:$G$28)","v":9}]
["2018-10-16","Saint Nom La Breteche",18,18.007000000000001,9,6,6.0069999999999997,3]
["2019-02-06","CH Yvelines",23,23.007999999999999,5,1,1.008,11]
["2019-03-10","National - Aigle",18,18.009,8,6,6.0090000000000003,2]
["2018-12-13","Rueil virtuel",9,9.01,12,3,3.01,8]
["2019-04-18","Rueil virtuel",null,1.0999999999999999E-2,25,null,1.0999999999999999E-2,25]
["2019-05-24","Haut Poitou",18,18.012,7,6,6.0119999999999996,1]
["2019-05-25","Mignaloux",28,28.013000000000002,4,3,3.0129999999999999,7]
["2019-06-07","Isle Adam",30,{"$f":"C14+ROW(C14)/1000","v":30.013999999999999},1,3,3.0139999999999998,6]
["2019-06-22","Golf Parc Hersant",22,22.015000000000001,6,3,3.0150000000000001,5]
["2019-06-28","Vaucouleurs Rivière",28,28.015999999999998,3,2,2.016,10]
[null,null,null,1.7000000000000001E-2,24,null,1.7000000000000001E-2,24]
[null,null,null,{"$f":"C18+ROW(C18)/1000","v":1.7999999999999999E-2},23,null,1.7999999999999999E-2,23]
[null,null,null,1.9E-2,22,null,1.9E-2,22]
[null,null,null,0.02,21,null,0.02,21]
[null,null,null,2.1000000000000001E-2,20,null,2.1000000000000001E-2,20]
[null,null,null,2.1999999999999999E-2,19,null,2.1999999999999999E-2,19]
[null,null,null,2.3E-2,18,null,2.3E-2,18]
[null,null,null,2.4E-2,17,null,2.4E-2,17]
[null,null,null,2.5000000000000001E-2,16,null,2.5000000000000001E-2,16]
[null,null,null,2.5999999999999999E-2,15,null,2.5999999999999999E-2,15]
[null,null,null,2.7E-2,14,null,2.7E-2,14]
[null,null,null,2.8000000000000001E-2,13,null,2.8000000000000001E-2,13]
[null,"Cumul total",{"$f":"SUM(C4:C28)","v":257},null,null,{"$f":"SUM(F4:F28)","v":43}]
[null,"5 meilleurs scores",{"$f":"INDEX(C4:C28,MATCH(1,E4:E28,0))+INDEX(C4:C28,MATCH(2,E4:E28,0))+INDEX(C4:C28,MATCH(3,E4:E28,0))+INDEX(C4:C28,MATCH(4,E4:E28,0))+INDEX(C4:C28,MATCH(5,E4:E28,0))","v":138},null,null,{"$f":"INDEX(F4:F28,MATCH(1,H4:H28,0))+INDEX(F4:F28,MATCH(2,H4:H28,0))+INDEX(F4:F28,MATCH(3,H4:H28,0))+INDEX(F4:F28,MATCH(4,H4:H28,0))+INDEX(F4:F28,MATCH(5,H4:H28,0))","v":27}]

{"sheet":"BORDET_Bruno","index":8,"n_rows":30,"n_cols":8,"rows_kept":30,"cut":false,"hidden":false,"merged":[]}
["BORDET","Bruno",null,null,null,{"$f":"HYPERLINK(\"#Adhérents!A1\",\"Retour\")","v":"Retour"}]
[]
["Date Sortie","Parcours","Net","Net+","Rang Net","Brut","Brut+","Rang Brut"]
["2018-09-09","Feucherolles",31,{"$f":"C4+ROW(C4)/1000","v":31.004000000000001},{"$f":"RANK(D4,$D$4:$D$28)","v":3},6,{"$f":"F4+ROW(F4)/1000","v":6.0039999999999996},{"$f":"RANK(G4,$G$4:$G$28)","v":7}]
["2018-11-10","Fourqueux",24,24.004999999999999,{"$f":"RANK(D5,$D$4:$D$28)","v":7},5,5.0049999999999999,{"$f":"RANK(G5,$G$4:$G$28)","v":9}]
["2018-11-24","CH Hersant",18,18.006,10,6,6.0060000000000002,{"$f":"RANK(G6,$G$4:$G$28)","v":6}]
["2018-11-29","CH Marivaux",24,24.007000000000001,6,4,4.0069999999999997,10]
["2019-02-06","CH Yvelines",36,36.008000000000003,2,9,9.0079999999999991,3]
["2019-02-10","Aigle",18,18.009,9,6,6.0090000000000003,5]
["2019-02-20","CH Marivaux",44,44.01,1,14,14.01,1]
["2019-03-16","CH Hersant",26,26.010999999999999,5,5,5.0110000000000001,8]
["2019-04-18","Rueil virtuel",9,9.0120000000000005,11,3,3.012,11]
["2019-04-28","Marivaux",29,29.013000000000002,4,10,10.013,2]
["2019-06-28","Vaucouleurs Rivière",23,{"$f":"C14+ROW(C14)/1000","v":23.013999999999999},8,6,6.0140000000000002,4]
[null,null,null,1.4999999999999999E-2,25,null,1.4999999999999999E-2,25]
[null,null,null,1.6E-2,24,null,1.6E-2,24]
[null,null,null,1.7000000000000001E-2,23,null,1.7000000000000001E-2,23]
[null,null,null,{"$f":"C18+ROW(C18)/1000","v":1.7999999999999999E-2},22,null,1.7999999999999999E-2,22]
[null,null,null,1.9E-2,21,null,1.9E-2,21]
[null,null,null,0.02,20,null,0.02,20]
[null,null,null,2.1000000000000001E-2,19,null,2.1000000000000001E-2,19]
[null,null,null,2.1999999999999999E-2,18,null,2.1999999999999999E-2,18]
[null,null,null,2.3E-2,17,null,2.3E-2,17]
[null,null,null,2.4E-2,16,null,2.4E-2,16]
[null,null,null,2.5000000000000001E-2,15,null,2.5000000000000001E-2,15]
[null,null,null,2.5999999999999999E-2,14,null,2.5999999999999999E-2,14]
[null,null,null,2.7E-2,13,null,2.7E-2,13]
[null,null,null,2.8000000000000001E-2,12,null,2.8000000000000001E-2,12]
[null,"Cumul total",{"$f":"SUM(C4:C28)","v":282},null,null,{"$f":"SUM(F4:F28)","v":74}]
[null,"5 meilleurs scores",{"$f":"INDEX(C4:C28,MATCH(1,E4:E28,0))+INDEX(C4:C28,MATCH(2,E4:E28,0))+INDEX(C4:C28,MATCH(3,E4:E28,0))+INDEX(C4:C28,MATCH(4,E4:E28,0))+INDEX(C4:C28,MATCH(5,E4:E28,0))","v":166},null,null,{"$f":"INDEX(F4:F28,MATCH(1,H4:H28,0))+INDEX(F4:F28,MATCH(2,H4:H28,0))+INDEX(F4:F28,MATCH(3,H4:H28,0))+INDEX(F4:F28,MATCH(4,H4:H28,0))+INDEX(F4:F28,MATCH(5,H4:H28,0))","v":45}]

{"sheet":"BORDET_Dominique","index":9,"n_rows":30,"n_cols":8,"rows_kept":30,"cut":false,"hidden":false,"merged":[]}
["BORDET","Dominique",null,{"$f":"HYPERLINK(\"#Adhérents!A1\",\"Retour\")","v":"Retour"}]
[]
["Date Sortie","Parcours","Net","Brut","Net+","Brut+","Rang Net","Rang Brut"]
["2019-06-28","Vaucouleurs Rivière",24,4,{"$f":"C4-ROW(C4)/1000","v":23.995999999999999},{"$f":"D4-ROW(D4)/1000","v":3.996},{"$f":"RANK(E4,$E$4:$E$28)","v":1},{"$f":"RANK(F4,$F$4:$F$28)","v":1}]
[null,null,null,null,{"$f":"C5-ROW(C5)/1000","v":-5.0000000000000001E-3},-5.0000000000000001E-3,2,{"$f":"RANK(F5,$F$4:$F$28)","v":2}]
[null,null,null,null,-6.0000000000000001E-3,-6.0000000000000001E-3,3,{"$f":"RANK(F6,$F$4:$F$28)","v":3}]
[null,null,null,null,-7.0000000000000001E-3,-7.0000000000000001E-3,4,4]
[null,null,null,null,-8.0000000000000002E-3,-8.0000000000000002E-3,5,5]
[null,null,null,null,-8.9999999999999993E-3,-8.9999999999999993E-3,6,6]
[null,null,null,null,-0.01,-0.01,7,7]
[null,null,null,null,-1.0999999999999999E-2,-1.0999999999999999E-2,8,8]
[null,null,null,null,-1.2E-2,-1.2E-2,9,9]
[null,null,null,null,-1.2999999999999999E-2,-1.2999999999999999E-2,10,10]
[null,null,null,null,-1.4E-2,-1.4E-2,11,11]
[null,null,null,null,-1.4999999999999999E-2,-1.4999999999999999E-2,12,12]
[null,null,null,null,-1.6E-2,-1.6E-2,13,13]
[null,null,null,null,-1.7000000000000001E-2,-1.7000000000000001E-2,14,14]
[null,null,null,null,-1.7999999999999999E-2,-1.7999999999999999E-2,15,15]
[null,null,null,null,-1.9E-2,-1.9E-2,16,16]
[null,null,null,null,-0.02,-0.02,17,17]
[null,null,null,null,-2.1000000000000001E-2,-2.1000000000000001E-2,18,18]
[null,null,null,null,-2.1999999999999999E-2,-2.1999999999999999E-2,19,19]
[null,null,null,null,-2.3E-2,-2.3E-2,20,20]
[null,null,null,null,-2.4E-2,-2.4E-2,21,21]
[null,null,null,null,-2.5000000000000001E-2,-2.5000000000000001E-2,22,22]
[null,null,null,null,-2.5999999999999999E-2,-2.5999999999999999E-2,23,23]
[null,null,null,null,-2.7E-2,-2.7E-2,24,24]
[null,null,null,null,-2.8000000000000001E-2,-2.8000000000000001E-2,25,25]
[null,"Cumul total",{"$f":"SUM(C4:C28)","v":24},{"$f":"SUM(D4:D28)","v":4}]
[null,"5 meilleurs scores",{"$f":"INDEX(C4:C28,MATCH(1,G4:G28,0))+INDEX(C4:C28,MATCH(2,G4:G28,0))+INDEX(C4:C28,MATCH(3,G4:G28,0))+INDEX(C4:C28,MATCH(4,G4:G28,0))+INDEX(C4:C28,MATCH(5,G4:G28,0))","v":24},{"$f":"INDEX(D4:D28,MATCH(1,H4:H28,0))+INDEX(D4:D28,MATCH(2,H4:H28,0))+INDEX(D4:D28,MATCH(3,H4:H28,0))+INDEX(D4:D28,MATCH(4,H4:H28,0))+INDEX(D4:D28,MATCH(5,H4:H28,0))","v":4}]

{"sheet":"BRUNEAU_Thomas","index":10,"n_rows":30,"n_cols":8,"rows_kept":30,"cut":false,"hidden":false,"merged":[]}
["BRUNEAU","Thomas",null,null,null,{"$f":"HYPERLINK(\"#Adhérents!A1\",\"Retour\")","v":"Retour"}]
[]
["Date Sortie","Parcours","Net","Net+","Rang Net","Brut","Brut+","Rang Brut"]
["2018-10-02","Rueil",9,{"$f":"C4+ROW(C4)/1000","v":9.0039999999999996},{"$f":"RANK(D4,$D$4:$D$28)","v":1},3,{"$f":"F4+ROW(F4)/1000","v":3.004},{"$f":"RANK(G4,$G$4:$G$28)","v":1}]
[null,null,null,5.0000000000000001E-3,{"$f":"RANK(D5,$D$4:$D$28)","v":25},null,5.0000000000000001E-3,{"$f":"RANK(G5,$G$4:$G$28)","v":25}]
[null,null,null,6.0000000000000001E-3,24,null,6.0000000000000001E-3,{"$f":"RANK(G6,$G$4:$G$28)","v":24}]
[null,null,null,7.0000000000000001E-3,23,null,7.0000000000000001E-3,23]
[null,null,null,8.0000000000000002E-3,22,null,8.0000000000000002E-3,22]
[null,null,null,8.9999999999999993E-3,21,null,8.9999999999999993E-3,21]
[null,null,null,0.01,20,null,0.01,20]
[null,null,null,1.0999999999999999E-2,19,null,1.0999999999999999E-2,19]
[null,null,null,1.2E-2,18,null,1.2E-2,18]
[null,null,null,1.2999999999999999E-2,17,null,1.2999999999999999E-2,17]
[null,null,null,1.4E-2,16,null,1.4E-2,16]
[null,null,null,1.4999999999999999E-2,15,null,1.4999999999999999E-2,15]
[null,null,null,1.6E-2,14,null,1.6E-2,14]
[null,null,null,1.7000000000000001E-2,13,null,1.7000000000000001E-2,13]
[null,null,null,1.7999999999999999E-2,12,null,1.7999999999999999E-2,12]
[null,null,null,1.9E-2,11,null,1.9E-2,11]
[null,null,null,0.02,10,null,0.02,10]
[null,null,null,2.1000000000000001E-2,9,null,2.1000000000000001E-2,9]
[null,null,null,2.1999999999999999E-2,8,null,2.1999999999999999E-2,8]
[null,null,null,2.3E-2,7,null,2.3E-2,7]
[null,null,null,2.4E-2,6,null,2.4E-2,6]
[null,null,null,2.5000000000000001E-2,5,null,2.5000000000000001E-2,5]
[null,null,null,2.5999999999999999E-2,4,null,2.5999999999999999E-2,4]
[null,null,null,2.7E-2,3,null,2.7E-2,3]
[null,null,null,2.8000000000000001E-2,2,null,2.8000000000000001E-2,2]
[null,"Cumul total",{"$f":"SUM(C4:C28)","v":9},null,null,{"$f":"SUM(F4:F28)","v":3}]
[null,"5 meilleurs scores",{"$f":"INDEX(C4:C28,MATCH(1,E4:E28,0))+INDEX(C4:C28,MATCH(2,E4:E28,0))+INDEX(C4:C28,MATCH(3,E4:E28,0))+INDEX(C4:C28,MATCH(4,E4:E28,0))+INDEX(C4:C28,MATCH(5,E4:E28,0))","v":9},null,null,{"$f":"INDEX(F4:F28,MATCH(1,H4:H28,0))+INDEX(F4:F28,MATCH(2,H4:H28,0))+INDEX(F4:F28,MATCH(3,H4:H28,0))+INDEX(F4:F28,MATCH(4,H4:H28,0))+INDEX(F4:F28,MATCH(5,H4:H28,0))","v":3}]

{"sheet":"BOUTEAUX_Anne-Marie","index":11,"n_rows":30,"n_cols":8,"rows_kept":30,"cut":false,"hidden":false,"merged":[]}
["PICARD","Anne-Marie",null,null,null,{"$f":"HYPERLINK(\"#Adhérents!A1\",\"Retour\")","v":"Retour"}]
[]
["Date Sortie","Parcours","Net","Net+","Rang Net","Brut","Brut+","Rang Brut"]
["2018-10-20","Cergy Vauréal",16,{"$f":"C4+ROW(C4)/1000","v":16.004000000000001},{"$f":"RANK(D4,$D$4:$D$28)","v":2},0,{"$f":"F4+ROW(F4)/1000","v":4.0000000000000001E-3},{"$f":"RANK(G4,$G$4:$G$28)","v":25}]
["2018-11-10","Fourqueux",10,10.005000000000001,{"$f":"RANK(D5,$D$4:$D$28)","v":3},3,3.0049999999999999,{"$f":"RANK(G5,$G$4:$G$28)","v":4}]
["2018-12-13","Rueil virtuel",9,9.0060000000000002,5,3,3.0059999999999998,{"$f":"RANK(G6,$G$4:$G$28)","v":3}]
["2019-04-18","Rueil virtuel",9,9.0069999999999997,4,3,3.0070000000000001,2]
["2019-06-22","Golf Parc Hersant",30,30.007999999999999,1,5,5.008,1]
[null,null,null,8.9999999999999993E-3,25,null,8.9999999999999993E-3,24]
[null,null,null,0.01,24,null,0.01,23]
[null,null,null,1.0999999999999999E-2,23,null,1.0999999999999999E-2,22]
[null,null,null,1.2E-2,22,null,1.2E-2,21]
[null,null,null,1.2999999999999999E-2,21,null,1.2999999999999999E-2,20]
[null,null,null,{"$f":"C14+ROW(C14)/1000","v":1.4E-2},20,null,1.4E-2,19]
[null,null,null,1.4999999999999999E-2,19,null,1.4999999999999999E-2,18]
[null,null,null,1.6E-2,18,null,1.6E-2,17]
[null,null,null,1.7000000000000001E-2,17,null,1.7000000000000001E-2,16]
[null,null,null,{"$f":"C18+ROW(C18)/1000","v":1.7999999999999999E-2},16,null,1.7999999999999999E-2,15]
[null,null,null,1.9E-2,15,null,1.9E-2,14]
[null,null,null,0.02,14,null,0.02,13]
[null,null,null,2.1000000000000001E-2,13,null,2.1000000000000001E-2,12]
[null,null,null,2.1999999999999999E-2,12,null,2.1999999999999999E-2,11]
[null,null,null,2.3E-2,11,null,2.3E-2,10]
[null,null,null,2.4E-2,10,null,2.4E-2,9]
[null,null,null,2.5000000000000001E-2,9,null,2.5000000000000001E-2,8]
[null,null,null,2.5999999999999999E-2,8,null,2.5999999999999999E-2,7]
[null,null,null,2.7E-2,7,null,2.7E-2,6]
[null,null,null,2.8000000000000001E-2,6,null,2.8000000000000001E-2,5]
[null,"Cumul total",{"$f":"SUM(C4:C28)","v":74},null,null,{"$f":"SUM(F4:F28)","v":14}]
[null,"5 meilleurs scores",{"$f":"INDEX(C4:C28,MATCH(1,E4:E28,0))+INDEX(C4:C28,MATCH(2,E4:E28,0))+INDEX(C4:C28,MATCH(3,E4:E28,0))+INDEX(C4:C28,MATCH(4,E4:E28,0))+INDEX(C4:C28,MATCH(5,E4:E28,0))","v":74},null,null,{"$f":"INDEX(F4:F28,MATCH(1,H4:H28,0))+INDEX(F4:F28,MATCH(2,H4:H28,0))+INDEX(F4:F28,MATCH(3,H4:H28,0))+INDEX(F4:F28,MATCH(4,H4:H28,0))+INDEX(F4:F28,MATCH(5,H4:H28,0))","v":14}]

{"sheet":"CHEREL_Louis","index":12,"n_rows":30,"n_cols":8,"rows_kept":30,"cut":false,"hidden":false,"merged":[]}
["CHEREL","Louis",null,null,null,{"$f":"HYPERLINK(\"#Adhérents!A1\",\"Retour\")","v":"Retour"}]
[]
["Date Sortie","Parcours","Net","Net+","Rang Net","Brut","Brut+","Rang Brut"]
["2018-09-09","Feucherolles",31,{"$f":"C4+ROW(C4)/1000","v":31.004000000000001},{"$f":"RANK(D4,$D$4:$D$28)","v":1},3,{"$f":"F4+ROW(F4)/1000","v":3.004},{"$f":"RANK(G4,$G$4:$G$28)","v":7}]
["2018-11-10","Fourqueux",15,15.005000000000001,{"$f":"RANK(D5,$D$4:$D$28)","v":5},1,1.0049999999999999,{"$f":"RANK(G5,$G$4:$G$28)","v":8}]
["2019-02-10","Aigle",18,18.006,4,6,6.0060000000000002,{"$f":"RANK(G6,$G$4:$G$28)","v":3}]
["2018-12-13","Rueil virtuel",9,9.0069999999999997,8,3,3.0070000000000001,6]
["2019-03-23","Tremblay sur Mauldre",18,18.007999999999999,3,6,6.008,2]
["2019-04-06","Disney",18,18.009,2,6,6.0090000000000003,1]
["2019-04-18","Rueil virtuel",9,9.01,7,3,3.01,5]
["2019-05-23","Rueil",9,9.0109999999999992,6,3,3.0110000000000001,4]
[null,null,null,1.2E-2,25,null,1.2E-2,25]
[null,null,null,1.2999999999999999E-2,24,null,1.2999999999999999E-2,24]
[null,null,null,{"$f":"C14+ROW(C14)/1000","v":1.4E-2},23,null,1.4E-2,23]
[null,null,null,1.4999999999999999E-2,22,null,1.4999999999999999E-2,22]
[null,null,null,1.6E-2,21,null,1.6E-2,21]
[null,null,null,1.7000000000000001E-2,20,null,1.7000000000000001E-2,20]
[null,null,null,{"$f":"C18+ROW(C18)/1000","v":1.7999999999999999E-2},19,null,1.7999999999999999E-2,19]
[null,null,null,1.9E-2,18,null,1.9E-2,18]
[null,null,null,0.02,17,null,0.02,17]
[null,null,null,2.1000000000000001E-2,16,null,2.1000000000000001E-2,16]
[null,null,null,2.1999999999999999E-2,15,null,2.1999999999999999E-2,15]
[null,null,null,2.3E-2,14,null,2.3E-2,14]
[null,null,null,2.4E-2,13,null,2.4E-2,13]
[null,null,null,2.5000000000000001E-2,12,null,2.5000000000000001E-2,12]
[null,null,null,2.5999999999999999E-2,11,null,2.5999999999999999E-2,11]
[null,null,null,2.7E-2,10,null,2.7E-2,10]
[null,null,null,2.8000000000000001E-2,9,null,2.8000000000000001E-2,9]
[null,"Cumul total",{"$f":"SUM(C4:C28)","v":127},null,null,{"$f":"SUM(F4:F28)","v":31}]
[null,"5 meilleurs scores",{"$f":"INDEX(C4:C28,MATCH(1,E4:E28,0))+INDEX(C4:C28,MATCH(2,E4:E28,0))+INDEX(C4:C28,MATCH(3,E4:E28,0))+INDEX(C4:C28,MATCH(4,E4:E28,0))+INDEX(C4:C28,MATCH(5,E4:E28,0))","v":100},null,null,{"$f":"INDEX(F4:F28,MATCH(1,H4:H28,0))+INDEX(F4:F28,MATCH(2,H4:H28,0))+INDEX(F4:F28,MATCH(3,H4:H28,0))+INDEX(F4:F28,MATCH(4,H4:H28,0))+INDEX(F4:F28,MATCH(5,H4:H28,0))","v":24}]

{"sheet":"CRESTOIS_Christine","index":13,"n_rows":30,"n_cols":8,"rows_kept":30,"cut":false,"hidden":false,"merged":[]}
["CRESTOIS","Christine",null,null,null,{"$f":"HYPERLINK(\"#Adhérents!A1\",\"Retour\")","v":"Retour"}]
[]
["Date Sortie","Parcours","Net","Net+","Rang Net","Brut","Brut+","Rang Brut"]
["2018-12-13","Rueil virtuel",9,{"$f":"C4+ROW(C4)/1000","v":9.0039999999999996},{"$f":"RANK(D4,$D$4:$D$28)","v":1},3,{"$f":"F4+ROW(F4)/1000","v":3.004},{"$f":"RANK(G4,$G$4:$G$28)","v":1}]
[null,null,null,5.0000000000000001E-3,{"$f":"RANK(D5,$D$4:$D$28)","v":25},null,5.0000000000000001E-3,{"$f":"RANK(G5,$G$4:$G$28)","v":25}]
[null,null,null,6.0000000000000001E-3,24,null,6.0000000000000001E-3,{"$f":"RANK(G6,$G$4:$G$28)","v":24}]
[null,null,null,7.0000000000000001E-3,23,null,7.0000000000000001E-3,23]
[null,null,null,8.0000000000000002E-3,22,null,8.0000000000000002E-3,22]
[null,null,null,8.9999999999999993E-3,21,null,8.9999999999999993E-3,21]
[null,null,null,0.01,20,null,0.01,20]
[null,null,null,1.0999999999999999E-2,19,null,1.0999999999999999E-2,19]
[null,null,null,1.2E-2,18,null,1.2E-2,18]
[null,null,null,1.2999999999999999E-2,17,null,1.2999999999999999E-2,17]
[null,null,null,1.4E-2,16,null,1.4E-2,16]
[null,null,null,1.4999999999999999E-2,15,null,1.4999999999999999E-2,15]
[null,null,null,1.6E-2,14,null,1.6E-2,14]
[null,null,null,1.7000000000000001E-2,13,null,1.7000000000000001E-2,13]
[null,null,null,1.7999999999999999E-2,12,null,1.7999999999999999E-2,12]
[null,null,null,1.9E-2,11,null,1.9E-2,11]
[null,null,null,0.02,10,null,0.02,10]
[null,null,null,2.1000000000000001E-2,9,null,2.1000000000000001E-2,9]
[null,null,null,2.1999999999999999E-2,8,null,2.1999999999999999E-2,8]
[null,null,null,2.3E-2,7,null,2.3E-2,7]
[null,null,null,2.4E-2,6,null,2.4E-2,6]
[null,null,null,2.5000000000000001E-2,5,null,2.5000000000000001E-2,5]
[null,null,null,2.5999999999999999E-2,4,null,2.5999999999999999E-2,4]
[null,null,null,2.7E-2,3,null,2.7E-2,3]
[null,null,null,2.8000000000000001E-2,2,null,2.8000000000000001E-2,2]
[null,"Cumul total",{"$f":"SUM(C4:C28)","v":9},null,null,{"$f":"SUM(F4:F28)","v":3}]
[null,"5 meilleurs scores",{"$f":"INDEX(C4:C28,MATCH(1,E4:E28,0))+INDEX(C4:C28,MATCH(2,E4:E28,0))+INDEX(C4:C28,MATCH(3,E4:E28,0))+INDEX(C4:C28,MATCH(4,E4:E28,0))+INDEX(C4:C28,MATCH(5,E4:E28,0))","v":9},null,null,{"$f":"INDEX(F4:F28,MATCH(1,H4:H28,0))+INDEX(F4:F28,MATCH(2,H4:H28,0))+INDEX(F4:F28,MATCH(3,H4:H28,0))+INDEX(F4:F28,MATCH(4,H4:H28,0))+INDEX(F4:F28,MATCH(5,H4:H28,0))","v":3}]

{"sheet":"CRESTOIS_Laurent","index":14,"n_rows":30,"n_cols":8,"rows_kept":30,"cut":false,"hidden":false,"merged":[]}
["CRESTOIS","Laurent",null,null,null,{"$f":"HYPERLINK(\"#Adhérents!A1\",\"Retour\")","v":"Retour"}]
[]
["Date Sortie","Parcours","Net","Net+","Rang Net","Brut","Brut+","Rang Brut"]
["2018-12-13","Rueil virtuel",9,{"$f":"C4+ROW(C4)/1000","v":9.0039999999999996},{"$f":"RANK(D4,$D$4:$D$28)","v":1},3,{"$f":"F4+ROW(F4)/1000","v":3.004},{"$f":"RANK(G4,$G$4:$G$28)","v":1}]
[null,null,null,5.0000000000000001E-3,{"$f":"RANK(D5,$D$4:$D$28)","v":25},null,5.0000000000000001E-3,{"$f":"RANK(G5,$G$4:$G$28)","v":25}]
[null,null,null,6.0000000000000001E-3,24,null,6.0000000000000001E-3,{"$f":"RANK(G6,$G$4:$G$28)","v":24}]
[null,null,null,7.0000000000000001E-3,23,null,7.0000000000000001E-3,23]
[null,null,null,8.0000000000000002E-3,22,null,8.0000000000000002E-3,22]
[null,null,null,8.9999999999999993E-3,21,null,8.9999999999999993E-3,21]
[null,null,null,0.01,20,null,0.01,20]
[null,null,null,1.0999999999999999E-2,19,null,1.0999999999999999E-2,19]
[null,null,null,1.2E-2,18,null,1.2E-2,18]
[null,null,null,1.2999999999999999E-2,17,null,1.2999999999999999E-2,17]
[null,null,null,1.4E-2,16,null,1.4E-2,16]
[null,null,null,1.4999999999999999E-2,15,null,1.4999999999999999E-2,15]
[null,null,null,1.6E-2,14,null,1.6E-2,14]
[null,null,null,1.7000000000000001E-2,13,null,1.7000000000000001E-2,13]
[null,null,null,1.7999999999999999E-2,12,null,1.7999999999999999E-2,12]
[null,null,null,1.9E-2,11,null,1.9E-2,11]
[null,null,null,0.02,10,null,0.02,10]
[null,null,null,2.1000000000000001E-2,9,null,2.1000000000000001E-2,9]
[null,null,null,2.1999999999999999E-2,8,null,2.1999999999999999E-2,8]
[null,null,null,2.3E-2,7,null,2.3E-2,7]
[null,null,null,2.4E-2,6,null,2.4E-2,6]
[null,null,null,2.5000000000000001E-2,5,null,2.5000000000000001E-2,5]
[null,null,null,2.5999999999999999E-2,4,null,2.5999999999999999E-2,4]
[null,null,null,2.7E-2,3,null,2.7E-2,3]
[null,null,null,2.8000000000000001E-2,2,null,2.8000000000000001E-2,2]
[null,"Cumul total",{"$f":"SUM(C4:C28)","v":9},null,null,{"$f":"SUM(F4:F28)","v":3}]
[null,"5 meilleurs scores",{"$f":"INDEX(C4:C28,MATCH(1,E4:E28,0))+INDEX(C4:C28,MATCH(2,E4:E28,0))+INDEX(C4:C28,MATCH(3,E4:E28,0))+INDEX(C4:C28,MATCH(4,E4:E28,0))+INDEX(C4:C28,MATCH(5,E4:E28,0))","v":9},null,null,{"$f":"INDEX(F4:F28,MATCH(1,H4:H28,0))+INDEX(F4:F28,MATCH(2,H4:H28,0))+INDEX(F4:F28,MATCH(3,H4:H28,0))+INDEX(F4:F28,MATCH(4,H4:H28,0))+INDEX(F4:F28,MATCH(5,H4:H28,0))","v":3}]

{"sheet":"DELDIQUE_Denise","index":15,"n_rows":30,"n_cols":8,"rows_kept":30,"cut":false,"hidden":false,"merged":[]}
["DELDIQUE","Denise",null,null,null,{"$f":"HYPERLINK(\"#Adhérents!A1\",\"Retour\")","v":"Retour"}]
[]
["Date Sortie","Parcours","Net","Net+","Rang Net","Brut","Brut+","Rang Brut"]
["2019-04-09","Rueil",9,{"$f":"C4+ROW(C4)/1000","v":9.0039999999999996},{"$f":"RANK(D4,$D$4:$D$28)","v":3},3,{"$f":"F4+ROW(F4)/1000","v":3.004},{"$f":"RANK(G4,$G$4:$G$28)","v":3}]
["2019-05-07","Rueil",9,9.0050000000000008,{"$f":"RANK(D5,$D$4:$D$28)","v":2},3,3.0049999999999999,{"$f":"RANK(G5,$G$4:$G$28)","v":2}]
["2019-06-20","Rueil",9,9.0060000000000002,1,3,3.0059999999999998,{"$f":"RANK(G6,$G$4:$G$28)","v":1}]
[null,null,null,7.0000000000000001E-3,25,null,7.0000000000000001E-3,25]
[null,null,null,8.0000000000000002E-3,24,null,8.0000000000000002E-3,24]
[null,null,null,8.9999999999999993E-3,23,null,8.9999999999999993E-3,23]
[null,null,null,0.01,22,null,0.01,22]
[null,null,null,1.0999999999999999E-2,21,null,1.0999999999999999E-2,21]
[null,null,null,1.2E-2,20,null,1.2E-2,20]
[null,null,null,1.2999999999999999E-2,19,null,1.2999999999999999E-2,19]
[null,null,null,1.4E-2,18,null,1.4E-2,18]
[null,null,null,1.4999999999999999E-2,17,null,1.4999999999999999E-2,17]
[null,null,null,1.6E-2,16,null,1.6E-2,16]
[null,null,null,1.7000000000000001E-2,15,null,1.7000000000000001E-2,15]
[null,null,null,1.7999999999999999E-2,14,null,1.7999999999999999E-2,14]
[null,null,null,1.9E-2,13,null,1.9E-2,13]
[null,null,null,0.02,12,null,0.02,12]
[null,null,null,2.1000000000000001E-2,11,null,2.1000000000000001E-2,11]
[null,null,null,2.1999999999999999E-2,10,null,2.1999999999999999E-2,10]
[null,null,null,2.3E-2,9,null,2.3E-2,9]
[null,null,null,2.4E-2,8,null,2.4E-2,8]
[null,null,null,2.5000000000000001E-2,7,null,2.5000000000000001E-2,7]
[null,null,null,2.5999999999999999E-2,6,null,2.5999999999999999E-2,6]
[null,null,null,2.7E-2,5,null,2.7E-2,5]
[null,null,null,2.8000000000000001E-2,4,null,2.8000000000000001E-2,4]
[null,"Cumul total",{"$f":"SUM(C4:C28)","v":27},null,null,{"$f":"SUM(F4:F28)","v":9}]
[null,"5 meilleurs scores",{"$f":"INDEX(C4:C28,MATCH(1,E4:E28,0))+INDEX(C4:C28,MATCH(2,E4:E28,0))+INDEX(C4:C28,MATCH(3,E4:E28,0))+INDEX(C4:C28,MATCH(4,E4:E28,0))+INDEX(C4:C28,MATCH(5,E4:E28,0))","v":27},null,null,{"$f":"INDEX(F4:F28,MATCH(1,H4:H28,0))+INDEX(F4:F28,MATCH(2,H4:H28,0))+INDEX(F4:F28,MATCH(3,H4:H28,0))+INDEX(F4:F28,MATCH(4,H4:H28,0))+INDEX(F4:F28,MATCH(5,H4:H28,0))","v":9}]

{"sheet":"COULOMB_Thierry","index":16,"n_rows":30,"n_cols":8,"rows_kept":30,"cut":false,"hidden":false,"merged":[]}
["COULOMB","Thierry",null,null,null,{"$f":"HYPERLINK(\"#Adhérents!A1\",\"Retour\")","v":"Retour"}]
[]
["Date Sortie","Parcours","Net","Net+","Rang Net","Brut","Brut+","Rang Brut"]
["2018-09-09","Feucherolles",36,{"$f":"C4+ROW(C4)/1000","v":36.003999999999998},{"$f":"RANK(D4,$D$4:$D$28)","v":1},13,{"$f":"F4+ROW(F4)/1000","v":13.004},{"$f":"RANK(G4,$G$4:$G$28)","v":3}]
["2018-09-21","Les Aisses",23,23.004999999999999,{"$f":"RANK(D5,$D$4:$D$28)","v":7},7,7.0049999999999999,{"$f":"RANK(G5,$G$4:$G$28)","v":6}]
["2018-09-22","Sologne",18,18.006,16,6,6.0060000000000002,{"$f":"RANK(G6,$G$4:$G$28)","v":15}]
["2018-10-05","Isle Adam",19,19.007000000000001,8,5,5.0069999999999997,16]
["2018-11-10","Fourqueux",24,24.007999999999999,6,10,10.007999999999999,5]
["2018-11-24","CH Hersant",18,18.009,15,6,6.0090000000000003,14]
["2019-02-10","Aigle",18,18.010000000000002,14,6,6.01,13]
["2019-03-09","CH Yvelines",32,32.011000000000003,4,12,12.010999999999999,4]
["2019-03-10","National - Aigle",18,18.012,13,6,6.0119999999999996,12]
["2018-12-13","Rueil virtuel",9,9.0129999999999999,17,3,3.0129999999999999,17]
["2019-03-23","Tremblay sur Mauldre",18,{"$f":"C14+ROW(C14)/1000","v":18.013999999999999},12,6,6.0140000000000002,11]
["2019-04-06","Disney",18,18.015000000000001,11,6,6.0149999999999997,10]
["2019-04-28","Marivaux",34,34.015999999999998,2,15,15.016,2]
["2019-05-24","Haut Poitou",18,18.016999999999999,10,6,6.0170000000000003,9]
["2019-05-25","Mignaloux",25,{"$f":"C18+ROW(C18)/1000","v":25.018000000000001},5,6,6.0179999999999998,8]
["2019-06-07","Isle Adam",18,18.018999999999998,9,6,6.0190000000000001,7]
["2019-06-28","Vaucouleurs Rivière",33,33.020000000000003,3,16,16.02,1]
[null,null,null,2.1000000000000001E-2,25,null,2.1000000000000001E-2,25]
[null,null,null,2.1999999999999999E-2,24,null,2.1999999999999999E-2,24]
[null,null,null,2.3E-2,23,null,2.3E-2,23]
[null,null,null,2.4E-2,22,null,2.4E-2,22]
[null,null,null,2.5000000000000001E-2,21,null,2.5000000000000001E-2,21]
[null,null,null,2.5999999999999999E-2,20,null,2.5999999999999999E-2,20]
[null,null,null,2.7E-2,19,null,2.7E-2,19]
[null,null,null,2.8000000000000001E-2,18,null,2.8000000000000001E-2,18]
[null,"Cumul total",{"$f":"SUM(C4:C28)","v":379},null,null,{"$f":"SUM(F4:F28)","v":135}]
[null,"5 meilleurs scores",{"$f":"INDEX(C4:C28,MATCH(1,E4:E28,0))+INDEX(C4:C28,MATCH(2,E4:E28,0))+INDEX(C4:C28,MATCH(3,E4:E28,0))+INDEX(C4:C28,MATCH(4,E4:E28,0))+INDEX(C4:C28,MATCH(5,E4:E28,0))","v":160},null,null,{"$f":"INDEX(F4:F28,MATCH(1,H4:H28,0))+INDEX(F4:F28,MATCH(2,H4:H28,0))+INDEX(F4:F28,MATCH(3,H4:H28,0))+INDEX(F4:F28,MATCH(4,H4:H28,0))+INDEX(F4:F28,MATCH(5,H4:H28,0))","v":66}]

{"sheet":"DASCOTTE_Philippe","index":17,"n_rows":30,"n_cols":8,"rows_kept":30,"cut":false,"hidden":false,"merged":[]}
["DASCOTTE","Philippe",null,null,null,{"$f":"HYPERLINK(\"#Adhérents!A1\",\"Retour\")","v":"Retour"}]
[]
["Date Sortie","Parcours","Net","Net+","Rang Net","Brut","Brut+","Rang Brut"]
["2018-09-09","Feucherolles",39,{"$f":"C4+ROW(C4)/1000","v":39.003999999999998},{"$f":"RANK(D4,$D$4:$D$28)","v":3},2,{"$f":"F4+ROW(F4)/1000","v":2.004},{"$f":"RANK(G4,$G$4:$G$28)","v":10}]
["2018-09-20","Rueil",9,9.0050000000000008,{"$f":"RANK(D5,$D$4:$D$28)","v":10},3,3.0049999999999999,{"$f":"RANK(G5,$G$4:$G$28)","v":9}]
["2018-10-02","Rueil",9,9.0060000000000002,9,3,3.0059999999999998,{"$f":"RANK(G6,$G$4:$G$28)","v":8}]
["2019-04-09","Rueil",9,9.0069999999999997,8,3,3.0070000000000001,7]
["2019-04-18","Rueil virtuel",9,9.0079999999999991,7,3,3.008,6]
["2019-04-28","Marivaux",46,46.009,1,4,4.0090000000000003,3]
["2019-03-23","Tremblay sur Mauldre",18,18.010000000000002,4,6,6.01,2]
["2019-05-23","Rueil",9,9.0109999999999992,6,3,3.0110000000000001,5]
["2019-06-07","Isle Adam",39,39.012,2,6,6.0119999999999996,1]
["2019-06-20","Rueil",9,9.0129999999999999,5,3,3.0129999999999999,4]
[null,null,null,{"$f":"C14+ROW(C14)/1000","v":1.4E-2},25,null,1.4E-2,25]
[null,null,null,1.4999999999999999E-2,24,null,1.4999999999999999E-2,24]
[null,null,null,1.6E-2,23,null,1.6E-2,23]
[null,null,null,1.7000000000000001E-2,22,null,1.7000000000000001E-2,22]
[null,null,null,{"$f":"C18+ROW(C18)/1000","v":1.7999999999999999E-2},21,null,1.7999999999999999E-2,21]
[null,null,null,1.9E-2,20,null,1.9E-2,20]
[null,null,null,0.02,19,null,0.02,19]
[null,null,null,2.1000000000000001E-2,18,null,2.1000000000000001E-2,18]
[null,null,null,2.1999999999999999E-2,17,null,2.1999999999999999E-2,17]
[null,null,null,2.3E-2,16,null,2.3E-2,16]
[null,null,null,2.4E-2,15,null,2.4E-2,15]
[null,null,null,2.5000000000000001E-2,14,null,2.5000000000000001E-2,14]
[null,null,null,2.5999999999999999E-2,13,null,2.5999999999999999E-2,13]
[null,null,null,2.7E-2,12,null,2.7E-2,12]
[null,null,null,2.8000000000000001E-2,11,null,2.8000000000000001E-2,11]
[null,"Cumul total",{"$f":"SUM(C4:C28)","v":196},null,null,{"$f":"SUM(F4:F28)","v":36}]
[null,"5 meilleurs scores",{"$f":"INDEX(C4:C28,MATCH(1,E4:E28,0))+INDEX(C4:C28,MATCH(2,E4:E28,0))+INDEX(C4:C28,MATCH(3,E4:E28,0))+INDEX(C4:C28,MATCH(4,E4:E28,0))+INDEX(C4:C28,MATCH(5,E4:E28,0))","v":151},null,null,{"$f":"INDEX(F4:F28,MATCH(1,H4:H28,0))+INDEX(F4:F28,MATCH(2,H4:H28,0))+INDEX(F4:F28,MATCH(3,H4:H28,0))+INDEX(F4:F28,MATCH(4,H4:H28,0))+INDEX(F4:F28,MATCH(5,H4:H28,0))","v":22}]

{"sheet":"DOGUIN_Dominique","index":18,"n_rows":30,"n_cols":8,"rows_kept":30,"cut":false,"hidden":false,"merged":[]}
["DOGUIN-SFEZ","Dominique",null,null,null,{"$f":"HYPERLINK(\"#Adhérents!A1\",\"Retour\")","v":"Retour"}]
[]
["Date Sortie","Parcours","Net","Net+","Rang Net","Brut","Brut+","Rang Brut"]
["2018-10-05","Isle Adam",30,{"$f":"C4+ROW(C4)/1000","v":30.004000000000001},{"$f":"RANK(D4,$D$4:$D$28)","v":2},5,{"$f":"F4+ROW(F4)/1000","v":5.0039999999999996},{"$f":"RANK(G4,$G$4:$G$28)","v":5}]
["2018-10-20","Cergy Vauréal",25,25.004999999999999,{"$f":"RANK(D5,$D$4:$D$28)","v":3},4,4.0049999999999999,{"$f":"RANK(G5,$G$4:$G$28)","v":6}]
["2019-03-10","National - Aigle",18,18.006,7,6,6.0060000000000002,{"$f":"RANK(G6,$G$4:$G$28)","v":4}]
["2019-03-23","Tremblay sur Mauldre",18,18.007000000000001,6,6,6.0069999999999997,3]
["2019-05-24","Haut Poitou",18,18.007999999999999,5,6,6.008,2]
["2019-05-25","Mignaloux",39,39.009,1,9,9.0090000000000003,1]
["2019-06-28","Vaucouleurs Rivière",24,24.01,4,2,2.0099999999999998,7]
[null,null,null,1.0999999999999999E-2,25,null,1.0999999999999999E-2,25]
[null,null,null,1.2E-2,24,null,1.2E-2,24]
[null,null,null,1.2999999999999999E-2,23,null,1.2999999999999999E-2,23]
[null,null,null,{"$f":"C14+ROW(C14)/1000","v":1.4E-2},22,null,1.4E-2,22]
[null,null,null,1.4999999999999999E-2,21,null,1.4999999999999999E-2,21]
[null,null,null,1.6E-2,20,null,1.6E-2,20]
[null,null,null,1.7000000000000001E-2,19,null,1.7000000000000001E-2,19]
[null,null,null,{"$f":"C18+ROW(C18)/1000","v":1.7999999999999999E-2},18,null,1.7999999999999999E-2,18]
[null,null,null,1.9E-2,17,null,1.9E-2,17]
[null,null,null,0.02,16,null,0.02,16]
[null,null,null,2.1000000000000001E-2,15,null,2.1000000000000001E-2,15]
[null,null,null,2.1999999999999999E-2,14,null,2.1999999999999999E-2,14]
[null,null,null,2.3E-2,13,null,2.3E-2,13]
[null,null,null,2.4E-2,12,null,2.4E-2,12]
[null,null,null,2.5000000000000001E-2,11,null,2.5000000000000001E-2,11]
[null,null,null,2.5999999999999999E-2,10,null,2.5999999999999999E-2,10]
[null,null,null,2.7E-2,9,null,2.7E-2,9]
[null,null,null,2.8000000000000001E-2,8,null,2.8000000000000001E-2,8]
[null,"Cumul total",{"$f":"SUM(C4:C28)","v":172},null,null,{"$f":"SUM(F4:F28)","v":38}]
[null,"5 meilleurs scores",{"$f":"INDEX(C4:C28,MATCH(1,E4:E28,0))+INDEX(C4:C28,MATCH(2,E4:E28,0))+INDEX(C4:C28,MATCH(3,E4:E28,0))+INDEX(C4:C28,MATCH(4,E4:E28,0))+INDEX(C4:C28,MATCH(5,E4:E28,0))","v":136},null,null,{"$f":"INDEX(F4:F28,MATCH(1,H4:H28,0))+INDEX(F4:F28,MATCH(2,H4:H28,0))+INDEX(F4:F28,MATCH(3,H4:H28,0))+INDEX(F4:F28,MATCH(4,H4:H28,0))+INDEX(F4:F28,MATCH(5,H4:H28,0))","v":32}]

{"sheet":"DOGUIN_Yohann","index":19,"n_rows":30,"n_cols":8,"rows_kept":30,"cut":false,"hidden":false,"merged":[]}
["DOGUIN","Yohann",null,null,null,{"$f":"HYPERLINK(\"#Adhérents!A1\",\"Retour\")","v":"Retour"}]
[]
["Date Sortie","Parcours","Net","Net+","Rang Net","Brut","Brut+","Rang Brut"]
["2019-03-23","Tremblay sur Mauldre",18,{"$f":"C4+ROW(C4)/1000","v":18.004000000000001},{"$f":"RANK(D4,$D$4:$D$28)","v":1},6,{"$f":"F4+ROW(F4)/1000","v":6.0039999999999996},{"$f":"RANK(G4,$G$4:$G$28)","v":1}]
[null,null,null,5.0000000000000001E-3,{"$f":"RANK(D5,$D$4:$D$28)","v":25},null,5.0000000000000001E-3,{"$f":"RANK(G5,$G$4:$G$28)","v":25}]
[null,null,null,6.0000000000000001E-3,24,null,6.0000000000000001E-3,{"$f":"RANK(G6,$G$4:$G$28)","v":24}]
[null,null,null,7.0000000000000001E-3,23,null,7.0000000000000001E-3,23]
[null,null,null,8.0000000000000002E-3,22,null,8.0000000000000002E-3,22]
[null,null,null,8.9999999999999993E-3,21,null,8.9999999999999993E-3,21]
[null,null,null,0.01,20,null,0.01,20]
[null,null,null,1.0999999999999999E-2,19,null,1.0999999999999999E-2,19]
[null,null,null,1.2E-2,18,null,1.2E-2,18]
[null,null,null,1.2999999999999999E-2,17,null,1.2999999999999999E-2,17]
[null,null,null,1.4E-2,16,null,1.4E-2,16]
[null,null,null,1.4999999999999999E-2,15,null,1.4999999999999999E-2,15]
[null,null,null,1.6E-2,14,null,1.6E-2,14]
[null,null,null,1.7000000000000001E-2,13,null,1.7000000000000001E-2,13]
[null,null,null,1.7999999999999999E-2,12,null,1.7999999999999999E-2,12]
[null,null,null,1.9E-2,11,null,1.9E-2,11]
[null,null,null,0.02,10,null,0.02,10]
[null,null,null,2.1000000000000001E-2,9,null,2.1000000000000001E-2,9]
[null,null,null,2.1999999999999999E-2,8,null,2.1999999999999999E-2,8]
[null,null,null,2.3E-2,7,null,2.3E-2,7]
[null,null,null,2.4E-2,6,null,2.4E-2,6]
[null,null,null,2.5000000000000001E-2,5,null,2.5000000000000001E-2,5]
[null,null,null,2.5999999999999999E-2,4,null,2.5999999999999999E-2,4]
[null,null,null,2.7E-2,3,null,2.7E-2,3]
[null,null,null,2.8000000000000001E-2,2,null,2.8000000000000001E-2,2]
[null,"Cumul total",{"$f":"SUM(C4:C28)","v":18},null,null,{"$f":"SUM(F4:F28)","v":6}]
[null,"5 meilleurs scores",{"$f":"INDEX(C4:C28,MATCH(1,E4:E28,0))+INDEX(C4:C28,MATCH(2,E4:E28,0))+INDEX(C4:C28,MATCH(3,E4:E28,0))+INDEX(C4:C28,MATCH(4,E4:E28,0))+INDEX(C4:C28,MATCH(5,E4:E28,0))","v":18},null,null,{"$f":"INDEX(F4:F28,MATCH(1,H4:H28,0))+INDEX(F4:F28,MATCH(2,H4:H28,0))+INDEX(F4:F28,MATCH(3,H4:H28,0))+INDEX(F4:F28,MATCH(4,H4:H28,0))+INDEX(F4:F28,MATCH(5,H4:H28,0))","v":6}]

{"sheet":"ELMALEH_Alfred","index":20,"n_rows":30,"n_cols":8,"rows_kept":30,"cut":false,"hidden":false,"merged":[]}
["ELMALEH","Alfred",null,null,null,{"$f":"HYPERLINK(\"#Adhérents!A1\",\"Retour\")","v":"Retour"}]
[]
["Date Sortie","Parcours","Net","Net+","Rang Net","Brut","Brut+","Rang Brut"]
["2018-12-13","Rueil virtuel",9,{"$f":"C4+ROW(C4)/1000","v":9.0039999999999996},{"$f":"RANK(D4,$D$4:$D$28)","v":1},3,{"$f":"F4+ROW(F4)/1000","v":3.004},{"$f":"RANK(G4,$G$4:$G$28)","v":1}]
[null,null,null,5.0000000000000001E-3,{"$f":"RANK(D5,$D$4:$D$28)","v":25},null,5.0000000000000001E-3,{"$f":"RANK(G5,$G$4:$G$28)","v":25}]
[null,null,null,6.0000000000000001E-3,24,null,6.0000000000000001E-3,{"$f":"RANK(G6,$G$4:$G$28)","v":24}]
[null,null,null,7.0000000000000001E-3,23,null,7.0000000000000001E-3,23]
[null,null,null,8.0000000000000002E-3,22,null,8.0000000000000002E-3,22]
[null,null,null,8.9999999999999993E-3,21,null,8.9999999999999993E-3,21]
[null,null,null,0.01,20,null,0.01,20]
[null,null,null,1.0999999999999999E-2,19,null,1.0999999999999999E-2,19]
[null,null,null,1.2E-2,18,null,1.2E-2,18]
[null,null,null,1.2999999999999999E-2,17,null,1.2999999999999999E-2,17]
[null,null,null,1.4E-2,16,null,1.4E-2,16]
[null,null,null,1.4999999999999999E-2,15,null,1.4999999999999999E-2,15]
[null,null,null,1.6E-2,14,null,1.6E-2,14]
[null,null,null,1.7000000000000001E-2,13,null,1.7000000000000001E-2,13]
[null,null,null,1.7999999999999999E-2,12,null,1.7999999999999999E-2,12]
[null,null,null,1.9E-2,11,null,1.9E-2,11]
[null,null,null,0.02,10,null,0.02,10]
[null,null,null,2.1000000000000001E-2,9,null,2.1000000000000001E-2,9]
[null,null,null,2.1999999999999999E-2,8,null,2.1999999999999999E-2,8]
[null,null,null,2.3E-2,7,null,2.3E-2,7]
[null,null,null,2.4E-2,6,null,2.4E-2,6]
[null,null,null,2.5000000000000001E-2,5,null,2.5000000000000001E-2,5]
[null,null,null,2.5999999999999999E-2,4,null,2.5999999999999999E-2,4]
[null,null,null,2.7E-2,3,null,2.7E-2,3]
[null,null,null,2.8000000000000001E-2,2,null,2.8000000000000001E-2,2]
[null,"Cumul total",{"$f":"SUM(C4:C28)","v":9},null,null,{"$f":"SUM(F4:F28)","v":3}]
[null,"5 meilleurs scores",{"$f":"INDEX(C4:C28,MATCH(1,E4:E28,0))+INDEX(C4:C28,MATCH(2,E4:E28,0))+INDEX(C4:C28,MATCH(3,E4:E28,0))+INDEX(C4:C28,MATCH(4,E4:E28,0))+INDEX(C4:C28,MATCH(5,E4:E28,0))","v":9},null,null,{"$f":"INDEX(F4:F28,MATCH(1,H4:H28,0))+INDEX(F4:F28,MATCH(2,H4:H28,0))+INDEX(F4:F28,MATCH(3,H4:H28,0))+INDEX(F4:F28,MATCH(4,H4:H28,0))+INDEX(F4:F28,MATCH(5,H4:H28,0))","v":3}]

{"sheet":"DOGUIN_Pierre","index":21,"n_rows":30,"n_cols":8,"rows_kept":30,"cut":false,"hidden":false,"merged":[]}
["DOGUIN","Pierre",null,null,null,{"$f":"HYPERLINK(\"#Adhérents!A1\",\"Retour\")","v":"Retour"}]
[]
["Date Sortie","Parcours","Net","Net+","Rang Net","Brut","Brut+","Rang Brut"]
["2018-09-09","Feucherolles",28,{"$f":"C4+ROW(C4)/1000","v":28.004000000000001},{"$f":"RANK(D4,$D$4:$D$28)","v":7},8,{"$f":"F4+ROW(F4)/1000","v":8.0039999999999996},{"$f":"RANK(G4,$G$4:$G$28)","v":10}]
["2018-09-20","Rueil",9,9.0050000000000008,{"$f":"RANK(D5,$D$4:$D$28)","v":22},3,3.0049999999999999,{"$f":"RANK(G5,$G$4:$G$28)","v":22}]
["2018-10-05","Isle Adam",27,27.006,8,9,9.0060000000000002,{"$f":"RANK(G6,$G$4:$G$28)","v":8}]
["2018-10-20","Cergy Vauréal",24,24.007000000000001,10,10,10.007,7]
["2018-11-10","Fourqueux",20,20.007999999999999,12,5,5.008,17]
["2018-11-24","CH Hersant",18,18.009,17,6,6.0090000000000003,16]
["2018-11-29","CH Marivaux",28,28.01,6,7,7.01,11]
["2019-02-10","Aigle",18,18.010999999999999,16,6,6.0110000000000001,15]
["2019-02-16","CH Seraincourt",41,41.012,1,15,15.012,1]
["2019-03-16","CH Hersant",28,28.013000000000002,5,11,11.013,6]
["2018-12-13","Rueil virtuel",9,{"$f":"C14+ROW(C14)/1000","v":9.0139999999999993},21,3,3.0139999999999998,21]
["2018-10-02","Rueil",9,9.0150000000000006,20,3,3.0150000000000001,20]
["2019-04-06","Disney",18,18.015999999999998,15,6,6.016,14]
["2019-04-09","Rueil",9,9.0169999999999995,19,3,3.0169999999999999,19]
["2019-04-18","Rueil virtuel",9,{"$f":"C18+ROW(C18)/1000","v":9.0180000000000007},18,3,3.0179999999999998,18]
["2019-04-28","Marivaux",29,29.018999999999998,3,12,12.019,3]
["2019-03-23","Tremblay sur Mauldre",18,18.02,14,6,6.02,13]
["2019-05-24","Haut Poitou",18,18.021000000000001,13,6,6.0209999999999999,12]
["2019-05-25","Mignaloux",31,31.021999999999998,2,13,13.022,2]
["2019-06-07","Isle Adam",28,28.023,4,11,11.023,5]
["2019-06-22","Golf Parc Hersant",25,25.024000000000001,9,11,11.023999999999999,4]
["2019-06-28","Vaucouleurs Rivière",21,21.024999999999999,11,8,8.0250000000000004,9]
[null,null,null,2.5999999999999999E-2,25,null,2.5999999999999999E-2,25]
[null,null,null,2.7E-2,24,null,2.7E-2,24]
[null,null,null,2.8000000000000001E-2,23,null,2.8000000000000001E-2,23]
[null,"Cumul total",{"$f":"SUM(C4:C28)","v":465},null,null,{"$f":"SUM(F4:F28)","v":165}]
[null,"5 meilleurs scores",{"$f":"INDEX(C4:C28,MATCH(1,E4:E28,0))+INDEX(C4:C28,MATCH(2,E4:E28,0))+INDEX(C4:C28,MATCH(3,E4:E28,0))+INDEX(C4:C28,MATCH(4,E4:E28,0))+INDEX(C4:C28,MATCH(5,E4:E28,0))","v":157},null,null,{"$f":"INDEX(F4:F28,MATCH(1,H4:H28,0))+INDEX(F4:F28,MATCH(2,H4:H28,0))+INDEX(F4:F28,MATCH(3,H4:H28,0))+INDEX(F4:F28,MATCH(4,H4:H28,0))+INDEX(F4:F28,MATCH(5,H4:H28,0))","v":62}]

{"sheet":"GATIGNOL_Christian","index":22,"n_rows":30,"n_cols":8,"rows_kept":30,"cut":false,"hidden":false,"merged":[]}
["GATIGNOL","Christian",null,null,null,{"$f":"HYPERLINK(\"#Adhérents!A1\",\"Retour\")","v":"Retour"}]
[]
["Date Sortie","Parcours","Net","Net+","Rang Net","Brut","Brut+","Rang Brut"]
["2018-09-09","Feucherolles",44,{"$f":"C4+ROW(C4)/1000","v":44.003999999999998},{"$f":"RANK(D4,$D$4:$D$28)","v":1},8,{"$f":"F4+ROW(F4)/1000","v":8.0039999999999996},{"$f":"RANK(G4,$G$4:$G$28)","v":5}]
["2018-09-21","Les Aisses",28,28.004999999999999,{"$f":"RANK(D5,$D$4:$D$28)","v":7},6,6.0049999999999999,{"$f":"RANK(G5,$G$4:$G$28)","v":10}]
["2018-09-22","Sologne",18,18.006,12,6,6.0060000000000002,{"$f":"RANK(G6,$G$4:$G$28)","v":9}]
["2018-10-05","Isle Adam",31,31.007000000000001,5,4,4.0069999999999997,11]
["2019-02-10","Aigle",18,18.007999999999999,11,6,6.008,8]
["2019-03-10","National - Aigle",18,18.009,10,6,6.0090000000000003,7]
["2018-12-13","Rueil virtuel",9,9.01,14,3,3.01,13]
["2019-04-18","Rueil virtuel",9,9.0109999999999992,13,3,3.0110000000000001,12]
["2019-04-28","Marivaux",37,37.012,2,8,8.0120000000000005,4]
["2019-05-24","Haut Poitou",18,18.013000000000002,9,6,6.0129999999999999,6]
["2019-05-25","Mignaloux",29,{"$f":"C14+ROW(C14)/1000","v":29.013999999999999},6,2,2.0139999999999998,14]
["2019-06-07","Isle Adam",36,36.015000000000001,4,9,9.0150000000000006,2]
["2019-06-22","Golf Parc Hersant",26,26.015999999999998,8,8,8.016,3]
["2019-06-28","Vaucouleurs Rivière",36,36.017000000000003,3,11,11.016999999999999,1]
[null,null,null,{"$f":"C18+ROW(C18)/1000","v":1.7999999999999999E-2},25,null,1.7999999999999999E-2,25]
[null,null,null,1.9E-2,24,null,1.9E-2,24]
[null,null,null,0.02,23,null,0.02,23]
[null,null,null,2.1000000000000001E-2,22,null,2.1000000000000001E-2,22]
[null,null,null,2.1999999999999999E-2,21,null,2.1999999999999999E-2,21]
[null,null,null,2.3E-2,20,null,2.3E-2,20]
[null,null,null,2.4E-2,19,null,2.4E-2,19]
[null,null,null,2.5000000000000001E-2,18,null,2.5000000000000001E-2,18]
[null,null,null,2.5999999999999999E-2,17,null,2.5999999999999999E-2,17]
[null,null,null,2.7E-2,16,null,2.7E-2,16]
[null,null,null,2.8000000000000001E-2,15,null,2.8000000000000001E-2,15]
[null,"Cumul total",{"$f":"SUM(C4:C28)","v":357},null,null,{"$f":"SUM(F4:F28)","v":86}]
[null,"5 meilleurs scores",{"$f":"INDEX(C4:C28,MATCH(1,E4:E28,0))+INDEX(C4:C28,MATCH(2,E4:E28,0))+INDEX(C4:C28,MATCH(3,E4:E28,0))+INDEX(C4:C28,MATCH(4,E4:E28,0))+INDEX(C4:C28,MATCH(5,E4:E28,0))","v":184},null,null,{"$f":"INDEX(F4:F28,MATCH(1,H4:H28,0))+INDEX(F4:F28,MATCH(2,H4:H28,0))+INDEX(F4:F28,MATCH(3,H4:H28,0))+INDEX(F4:F28,MATCH(4,H4:H28,0))+INDEX(F4:F28,MATCH(5,H4:H28,0))","v":44}]

{"sheet":"GATIGNOL_Patricia","index":23,"n_rows":30,"n_cols":8,"rows_kept":30,"cut":false,"hidden":false,"merged":[]}
["GATIGNOL","Patricia",null,null,null,{"$f":"HYPERLINK(\"#Adhérents!A1\",\"Retour\")","v":"Retour"}]
[]
["Date Sortie","Parcours","Net","Net+","Rang Net","Brut","Brut+","Rang Brut"]
["2018-09-09","Feucherolles",26,{"$f":"C4+ROW(C4)/1000","v":26.004000000000001},{"$f":"RANK(D4,$D$4:$D$28)","v":1},1,{"$f":"F4+ROW(F4)/1000","v":1.004},{"$f":"RANK(G4,$G$4:$G$28)","v":9}]
["2018-09-21","Les Aisses",25,25.004999999999999,{"$f":"RANK(D5,$D$4:$D$28)","v":3},3,3.0049999999999999,{"$f":"RANK(G5,$G$4:$G$28)","v":8}]
["2018-09-22","Sologne",18,18.006,7,6,6.0060000000000002,{"$f":"RANK(G6,$G$4:$G$28)","v":2}]
["2018-10-05","Isle Adam",24,24.007000000000001,4,6,6.0069999999999997,1]
["2018-12-13","Rueil virtuel",9,9.0079999999999991,9,3,3.008,7]
["2019-04-18","Rueil virtuel",9,9.0090000000000003,8,3,3.0089999999999999,6]
["2019-04-28","Marivaux",21,21.01,6,3,3.01,5]
["2019-06-22","Golf Parc Hersant",25,25.010999999999999,2,5,5.0110000000000001,3]
["2019-06-28","Vaucouleurs Rivière",22,22.012,5,4,4.0119999999999996,4]
[null,null,null,1.2999999999999999E-2,25,null,1.2999999999999999E-2,25]
[null,null,null,{"$f":"C14+ROW(C14)/1000","v":1.4E-2},24,null,1.4E-2,24]
[null,null,null,1.4999999999999999E-2,23,null,1.4999999999999999E-2,23]
[null,null,null,1.6E-2,22,null,1.6E-2,22]
[null,null,null,1.7000000000000001E-2,21,null,1.7000000000000001E-2,21]
[null,null,null,{"$f":"C18+ROW(C18)/1000","v":1.7999999999999999E-2},20,null,1.7999999999999999E-2,20]
[null,null,null,1.9E-2,19,null,1.9E-2,19]
[null,null,null,0.02,18,null,0.02,18]
[null,null,null,2.1000000000000001E-2,17,null,2.1000000000000001E-2,17]
[null,null,null,2.1999999999999999E-2,16,null,2.1999999999999999E-2,16]
[null,null,null,2.3E-2,15,null,2.3E-2,15]
[null,null,null,2.4E-2,14,null,2.4E-2,14]
[null,null,null,2.5000000000000001E-2,13,null,2.5000000000000001E-2,13]
[null,null,null,2.5999999999999999E-2,12,null,2.5999999999999999E-2,12]
[null,null,null,2.7E-2,11,null,2.7E-2,11]
[null,null,null,2.8000000000000001E-2,10,null,2.8000000000000001E-2,10]
[null,"Cumul total",{"$f":"SUM(C4:C28)","v":179},null,null,{"$f":"SUM(F4:F28)","v":34}]
[null,"5 meilleurs scores",{"$f":"INDEX(C4:C28,MATCH(1,E4:E28,0))+INDEX(C4:C28,MATCH(2,E4:E28,0))+INDEX(C4:C28,MATCH(3,E4:E28,0))+INDEX(C4:C28,MATCH(4,E4:E28,0))+INDEX(C4:C28,MATCH(5,E4:E28,0))","v":122},null,null,{"$f":"INDEX(F4:F28,MATCH(1,H4:H28,0))+INDEX(F4:F28,MATCH(2,H4:H28,0))+INDEX(F4:F28,MATCH(3,H4:H28,0))+INDEX(F4:F28,MATCH(4,H4:H28,0))+INDEX(F4:F28,MATCH(5,H4:H28,0))","v":24}]

{"sheet":"GERSON_David","index":24,"n_rows":30,"n_cols":8,"rows_kept":30,"cut":false,"hidden":false,"merged":[]}
["GERSON","David",null,null,null,{"$f":"HYPERLINK(\"#Adhérents!A1\",\"Retour\")","v":"Retour"}]
[]
["Date Sortie","Parcours","Net","Net+","Rang Net","Brut","Brut+","Rang Brut"]
["2018-09-09","Feucherolles",39,{"$f":"C4+ROW(C4)/1000","v":39.003999999999998},{"$f":"RANK(D4,$D$4:$D$28)","v":1},15,{"$f":"F4+ROW(F4)/1000","v":15.004},{"$f":"RANK(G4,$G$4:$G$28)","v":1}]
["2018-09-21","Les Aisses",26,26.004999999999999,{"$f":"RANK(D5,$D$4:$D$28)","v":3},11,11.005000000000001,{"$f":"RANK(G5,$G$4:$G$28)","v":2}]
["2018-09-22","Sologne",18,18.006,12,6,6.0060000000000002,{"$f":"RANK(G6,$G$4:$G$28)","v":11}]
["2018-11-10","Fourqueux",18,18.007000000000001,11,4,4.0069999999999997,12]
["2019-02-10","Aigle",18,18.007999999999999,10,6,6.008,10]
["2019-03-10","National - Aigle",18,18.009,9,6,6.0090000000000003,9]
["2019-04-06","Disney",18,18.010000000000002,8,6,6.01,8]
["2019-04-28","Marivaux",25,25.010999999999999,4,6,6.0110000000000001,7]
["2019-05-24","Haut Poitou",18,18.012,7,6,6.0119999999999996,6]
["2019-05-25","Mignaloux",29,29.013000000000002,2,10,10.013,3]
["2019-06-22","Golf Parc Hersant",23,{"$f":"C14+ROW(C14)/1000","v":23.013999999999999},6,8,8.0139999999999993,5]
["2019-06-28","Vaucouleurs Rivière",24,24.015000000000001,5,8,8.0150000000000006,4]
[null,null,null,1.6E-2,25,null,1.6E-2,25]
[null,null,null,1.7000000000000001E-2,24,null,1.7000000000000001E-2,24]
[null,null,null,{"$f":"C18+ROW(C18)/1000","v":1.7999999999999999E-2},23,null,1.7999999999999999E-2,23]
[null,null,null,1.9E-2,22,null,1.9E-2,22]
[null,null,null,0.02,21,null,0.02,21]
[null,null,null,2.1000000000000001E-2,20,null,2.1000000000000001E-2,20]
[null,null,null,2.1999999999999999E-2,19,null,2.1999999999999999E-2,19]
[null,null,null,2.3E-2,18,null,2.3E-2,18]
[null,null,null,2.4E-2,17,null,2.4E-2,17]
[null,null,null,2.5000000000000001E-2,16,null,2.5000000000000001E-2,16]
[null,null,null,2.5999999999999999E-2,15,null,2.5999999999999999E-2,15]
[null,null,null,2.7E-2,14,null,2.7E-2,14]
[null,null,null,2.8000000000000001E-2,13,null,2.8000000000000001E-2,13]
[null,"Cumul total",{"$f":"SUM(C4:C28)","v":274},null,null,{"$f":"SUM(F4:F28)","v":92}]
[null,"5 meilleurs scores",{"$f":"INDEX(C4:C28,MATCH(1,E4:E28,0))+INDEX(C4:C28,MATCH(2,E4:E28,0))+INDEX(C4:C28,MATCH(3,E4:E28,0))+INDEX(C4:C28,MATCH(4,E4:E28,0))+INDEX(C4:C28,MATCH(5,E4:E28,0))","v":143},null,null,{"$f":"INDEX(F4:F28,MATCH(1,H4:H28,0))+INDEX(F4:F28,MATCH(2,H4:H28,0))+INDEX(F4:F28,MATCH(3,H4:H28,0))+INDEX(F4:F28,MATCH(4,H4:H28,0))+INDEX(F4:F28,MATCH(5,H4:H28,0))","v":52}]

{"sheet":"GOBIN_Lydie","index":25,"n_rows":30,"n_cols":8,"rows_kept":30,"cut":false,"hidden":false,"merged":[]}
["GOBIN","Lydie",null,null,null,{"$f":"HYPERLINK(\"#Adhérents!A1\",\"Retour\")","v":"Retour"}]
[]
["Date Sortie","Parcours","Net","Net+","Rang Net","Brut","Brut+","Rang Brut"]
["2018-09-09","Feucherolles",34,{"$f":"C4+ROW(C4)/1000","v":34.003999999999998},{"$f":"RANK(D4,$D$4:$D$28)","v":2},4,{"$f":"F4+ROW(F4)/1000","v":4.0039999999999996},{"$f":"RANK(G4,$G$4:$G$28)","v":4}]
["2018-09-21","Les Aisses",18,18.004999999999999,{"$f":"RANK(D5,$D$4:$D$28)","v":7},1,1.0049999999999999,{"$f":"RANK(G5,$G$4:$G$28)","v":8}]
["2018-09-22","Sologne",18,18.006,6,6,6.0060000000000002,{"$f":"RANK(G6,$G$4:$G$28)","v":3}]
["2018-10-05","Isle Adam",23,23.007000000000001,5,3,3.0070000000000001,5]
["2018-10-20","Cergy Vauréal",31,31.007999999999999,4,8,8.0079999999999991,1]
["2018-11-10","Fourqueux",17,17.009,8,1,1.0089999999999999,7]
["2019-05-25","Mignaloux",33,33.01,3,2,2.0099999999999998,6]
["2019-06-28","Vaucouleurs Rivière",34,34.011000000000003,1,6,6.0110000000000001,2]
[null,null,null,1.2E-2,25,null,1.2E-2,25]
[null,null,null,1.2999999999999999E-2,24,null,1.2999999999999999E-2,24]
[null,null,null,1.4E-2,23,null,1.4E-2,23]
[null,null,null,1.4999999999999999E-2,22,null,1.4999999999999999E-2,22]
[null,null,null,1.6E-2,21,null,1.6E-2,21]
[null,null,null,1.7000000000000001E-2,20,null,1.7000000000000001E-2,20]
[null,null,null,1.7999999999999999E-2,19,null,1.7999999999999999E-2,19]
[null,null,null,1.9E-2,18,null,1.9E-2,18]
[null,null,null,0.02,17,null,0.02,17]
[null,null,null,2.1000000000000001E-2,16,null,2.1000000000000001E-2,16]
[null,null,null,2.1999999999999999E-2,15,null,2.1999999999999999E-2,15]
[null,null,null,2.3E-2,14,null,2.3E-2,14]
[null,null,null,2.4E-2,13,null,2.4E-2,13]
[null,null,null,2.5000000000000001E-2,12,null,2.5000000000000001E-2,12]
[null,null,null,2.5999999999999999E-2,11,null,2.5999999999999999E-2,11]
[null,null,null,2.7E-2,10,null,2.7E-2,10]
[null,null,null,2.8000000000000001E-2,9,null,2.8000000000000001E-2,9]
[null,"Cumul total",{"$f":"SUM(C4:C28)","v":208},null,null,{"$f":"SUM(F4:F28)","v":31}]
[null,"5 meilleurs scores",{"$f":"INDEX(C4:C28,MATCH(1,E4:E28,0))+INDEX(C4:C28,MATCH(2,E4:E28,0))+INDEX(C4:C28,MATCH(3,E4:E28,0))+INDEX(C4:C28,MATCH(4,E4:E28,0))+INDEX(C4:C28,MATCH(5,E4:E28,0))","v":155},null,null,{"$f":"INDEX(F4:F28,MATCH(1,H4:H28,0))+INDEX(F4:F28,MATCH(2,H4:H28,0))+INDEX(F4:F28,MATCH(3,H4:H28,0))+INDEX(F4:F28,MATCH(4,H4:H28,0))+INDEX(F4:F28,MATCH(5,H4:H28,0))","v":27}]

{"sheet":"GOBIN_Philippe","index":26,"n_rows":30,"n_cols":8,"rows_kept":30,"cut":false,"hidden":false,"merged":[]}
["GOBIN","Philippe",null,{"$f":"HYPERLINK(\"#Adhérents!A1\",\"Retour\")","v":"Retour"}]
[]
["Date Sortie","Parcours","Net","Brut","Net+","Brut+","Rang Net","Rang Brut"]
["2018-09-09","Feucherolles",33,10,{"$f":"C4-ROW(C4)/1000","v":32.996000000000002},{"$f":"D4-ROW(D4)/1000","v":9.9960000000000004},{"$f":"RANK(E4,$E$4:$E$28)","v":3},{"$f":"RANK(F4,$F$4:$F$28)","v":4}]
["2018-09-21","Les Aisses",22,6,{"$f":"C5-ROW(C5)/1000","v":21.995000000000001},5.9950000000000001,7,8]
["2018-09-22","Sologne",18,6,17.994,5.9939999999999998,10,9]
["2018-10-05","Isle Adam",38,18,37.993000000000002,17.992999999999999,1,1]
["2018-10-16","Saint Nom La Breteche",18,6,17.992000000000001,5.992,11,10]
["2018-10-20","Cergy Vauréal",21,8,20.991,7.9909999999999997,8,6]
["2018-11-10","Fourqueux",18,3,17.989999999999998,2.99,12,17]
["2018-11-24","CH Hersant",18,6,17.989000000000001,5.9889999999999999,13,11]
["2018-11-29","CH Marivaux",23,10,22.988,9.9879999999999995,6,5]
["2019-01-12","CH Ableiges",31,12,30.986999999999998,11.987,4,3]
["2019-02-10","Aigle",18,6,17.986000000000001,5.9859999999999998,14,12]
["2019-02-16","CH Seraincourt",25,8,24.984999999999999,7.9850000000000003,5,7]
["2018-12-13","Rueil virtuel",9,3,8.984,2.984,18,18]
["2018-10-02","Rueil",9,3,8.9830000000000005,2.9830000000000001,19,19]
["2019-04-06","Disney",18,6,17.981999999999999,5.9820000000000002,15,13]
["2019-04-09","Rueil",9,3,8.9809999999999999,2.9809999999999999,20,20]
["2019-04-18","Rueil virtuel",9,3,8.98,2.98,21,21]
["2019-03-23","Tremblay sur Mauldre",18,6,17.978999999999999,5.9790000000000001,16,14]
["2019-05-24","Haut Poitou",18,6,17.978000000000002,5.9779999999999998,17,15]
["2019-05-25","Mignaloux",38,18,37.976999999999997,17.977,2,2]
["2019-06-28","Vaucouleurs Rivière",20,6,19.975999999999999,5.976,9,16]
[null,null,null,null,-2.5000000000000001E-2,-2.5000000000000001E-2,22,22]
[null,null,null,null,-2.5999999999999999E-2,-2.5999999999999999E-2,23,23]
[null,null,null,null,-2.7E-2,-2.7E-2,24,24]
[null,null,null,null,-2.8000000000000001E-2,-2.8000000000000001E-2,25,25]
[null,"Cumul total",{"$f":"SUM(C4:C28)","v":431},{"$f":"SUM(D4:D28)","v":153}]
[null,"5 meilleurs scores",{"$f":"INDEX(C4:C28,MATCH(1,G4:G28,0))+INDEX(C4:C28,MATCH(2,G4:G28,0))+INDEX(C4:C28,MATCH(3,G4:G28,0))+INDEX(C4:C28,MATCH(4,G4:G28,0))+INDEX(C4:C28,MATCH(5,G4:G28,0))","v":165},{"$f":"INDEX(D4:D28,MATCH(1,H4:H28,0))+INDEX(D4:D28,MATCH(2,H4:H28,0))+INDEX(D4:D28,MATCH(3,H4:H28,0))+INDEX(D4:D28,MATCH(4,H4:H28,0))+INDEX(D4:D28,MATCH(5,H4:H28,0))","v":68}]

{"sheet":"GU_Qin","index":27,"n_rows":30,"n_cols":8,"rows_kept":30,"cut":false,"hidden":false,"merged":[]}
["GU","Qin",null,null,null,{"$f":"HYPERLINK(\"#Adhérents!A1\",\"Retour\")","v":"Retour"}]
[]
["Date Sortie","Parcours","Net","Net+","Rang Net","Brut","Brut+","Rang Brut"]
["2018-09-09","Feucherolles",27,{"$f":"C4+ROW(C4)/1000","v":27.004000000000001},{"$f":"RANK(D4,$D$4:$D$28)","v":1},0,{"$f":"F4+ROW(F4)/1000","v":4.0000000000000001E-3},{"$f":"RANK(G4,$G$4:$G$28)","v":25}]
["2019-03-10","National - Aigle",18,18.004999999999999,{"$f":"RANK(D5,$D$4:$D$28)","v":2},6,6.0049999999999999,{"$f":"RANK(G5,$G$4:$G$28)","v":1}]
["2019-05-23","Rueil",9,9.0060000000000002,4,3,3.0059999999999998,{"$f":"RANK(G6,$G$4:$G$28)","v":3}]
["2019-06-20","Rueil",9,9.0069999999999997,3,3,3.0070000000000001,2]
[null,null,null,8.0000000000000002E-3,25,null,8.0000000000000002E-3,24]
[null,null,null,8.9999999999999993E-3,24,null,8.9999999999999993E-3,23]
[null,null,null,0.01,23,null,0.01,22]
[null,null,null,1.0999999999999999E-2,22,null,1.0999999999999999E-2,21]
[null,null,null,1.2E-2,21,null,1.2E-2,20]
[null,null,null,1.2999999999999999E-2,20,null,1.2999999999999999E-2,19]
[null,null,null,{"$f":"C14+ROW(C14)/1000","v":1.4E-2},19,null,1.4E-2,18]
[null,null,null,1.4999999999999999E-2,18,null,1.4999999999999999E-2,17]
[null,null,null,1.6E-2,17,null,1.6E-2,16]
[null,null,null,1.7000000000000001E-2,16,null,1.7000000000000001E-2,15]
[null,null,null,{"$f":"C18+ROW(C18)/1000","v":1.7999999999999999E-2},15,null,1.7999999999999999E-2,14]
[null,null,null,1.9E-2,14,null,1.9E-2,13]
[null,null,null,0.02,13,null,0.02,12]
[null,null,null,2.1000000000000001E-2,12,null,2.1000000000000001E-2,11]
[null,null,null,2.1999999999999999E-2,11,null,2.1999999999999999E-2,10]
[null,null,null,2.3E-2,10,null,2.3E-2,9]
[null,null,null,2.4E-2,9,null,2.4E-2,8]
[null,null,null,2.5000000000000001E-2,8,null,2.5000000000000001E-2,7]
[null,null,null,2.5999999999999999E-2,7,null,2.5999999999999999E-2,6]
[null,null,null,2.7E-2,6,null,2.7E-2,5]
[null,null,null,2.8000000000000001E-2,5,null,2.8000000000000001E-2,4]
[null,"Cumul total",{"$f":"SUM(C4:C28)","v":63},null,null,{"$f":"SUM(F4:F28)","v":12}]
[null,"5 meilleurs scores",{"$f":"INDEX(C4:C28,MATCH(1,E4:E28,0))+INDEX(C4:C28,MATCH(2,E4:E28,0))+INDEX(C4:C28,MATCH(3,E4:E28,0))+INDEX(C4:C28,MATCH(4,E4:E28,0))+INDEX(C4:C28,MATCH(5,E4:E28,0))","v":63},null,null,{"$f":"INDEX(F4:F28,MATCH(1,H4:H28,0))+INDEX(F4:F28,MATCH(2,H4:H28,0))+INDEX(F4:F28,MATCH(3,H4:H28,0))+INDEX(F4:F28,MATCH(4,H4:H28,0))+INDEX(F4:F28,MATCH(5,H4:H28,0))","v":12}]

{"sheet":"KUHFUSS MONVAL_Luce","index":28,"n_rows":30,"n_cols":8,"rows_kept":30,"cut":false,"hidden":false,"merged":[]}
["KUHFUSS MONVAL","Luce",null,null,null,{"$f":"HYPERLINK(\"#Adhérents!A1\",\"Retour\")","v":"Retour"}]
[]
["Date Sortie","Parcours","Net","Net+","Rang Net","Brut","Brut+","Rang Brut"]
["2019-04-28","Marivaux",21,{"$f":"C4+ROW(C4)/1000","v":21.004000000000001},{"$f":"RANK(D4,$D$4:$D$28)","v":1},1,{"$f":"F4+ROW(F4)/1000","v":1.004},{"$f":"RANK(G4,$G$4:$G$28)","v":1}]
[null,null,null,5.0000000000000001E-3,{"$f":"RANK(D5,$D$4:$D$28)","v":25},null,5.0000000000000001E-3,{"$f":"RANK(G5,$G$4:$G$28)","v":25}]
[null,null,null,6.0000000000000001E-3,24,null,6.0000000000000001E-3,{"$f":"RANK(G6,$G$4:$G$28)","v":24}]
[null,null,null,7.0000000000000001E-3,23,null,7.0000000000000001E-3,23]
[null,null,null,8.0000000000000002E-3,22,null,8.0000000000000002E-3,22]
[null,null,null,8.9999999999999993E-3,21,null,8.9999999999999993E-3,21]
[null,null,null,0.01,20,null,0.01,20]
[null,null,null,1.0999999999999999E-2,19,null,1.0999999999999999E-2,19]
[null,null,null,1.2E-2,18,null,1.2E-2,18]
[null,null,null,1.2999999999999999E-2,17,null,1.2999999999999999E-2,17]
[null,null,null,1.4E-2,16,null,1.4E-2,16]
[null,null,null,1.4999999999999999E-2,15,null,1.4999999999999999E-2,15]
[null,null,null,1.6E-2,14,null,1.6E-2,14]
[null,null,null,1.7000000000000001E-2,13,null,1.7000000000000001E-2,13]
[null,null,null,1.7999999999999999E-2,12,null,1.7999999999999999E-2,12]
[null,null,null,1.9E-2,11,null,1.9E-2,11]
[null,null,null,0.02,10,null,0.02,10]
[null,null,null,2.1000000000000001E-2,9,null,2.1000000000000001E-2,9]
[null,null,null,2.1999999999999999E-2,8,null,2.1999999999999999E-2,8]
[null,null,null,2.3E-2,7,null,2.3E-2,7]
[null,null,null,2.4E-2,6,null,2.4E-2,6]
[null,null,null,2.5000000000000001E-2,5,null,2.5000000000000001E-2,5]
[null,null,null,2.5999999999999999E-2,4,null,2.5999999999999999E-2,4]
[null,null,null,2.7E-2,3,null,2.7E-2,3]
[null,null,null,2.8000000000000001E-2,2,null,2.8000000000000001E-2,2]
[null,"Cumul total",{"$f":"SUM(C4:C28)","v":21},null,null,{"$f":"SUM(F4:F28)","v":1}]
[null,"5 meilleurs scores",{"$f":"INDEX(C4:C28,MATCH(1,E4:E28,0))+INDEX(C4:C28,MATCH(2,E4:E28,0))+INDEX(C4:C28,MATCH(3,E4:E28,0))+INDEX(C4:C28,MATCH(4,E4:E28,0))+INDEX(C4:C28,MATCH(5,E4:E28,0))","v":21},null,null,{"$f":"INDEX(F4:F28,MATCH(1,H4:H28,0))+INDEX(F4:F28,MATCH(2,H4:H28,0))+INDEX(F4:F28,MATCH(3,H4:H28,0))+INDEX(F4:F28,MATCH(4,H4:H28,0))+INDEX(F4:F28,MATCH(5,H4:H28,0))","v":1}]

{"sheet":"JANOT_Nicolas","index":29,"n_rows":30,"n_cols":8,"rows_kept":30,"cut":false,"hidden":false,"merged":[]}
["JANOT","Nicolas",null,null,null,{"$f":"HYPERLINK(\"#Adhérents!A1\",\"Retour\")","v":"Retour"}]
[]
["Date Sortie","Parcours","Net","Net+","Rang Net","Brut","Brut+","Rang Brut"]
["2018-09-09","Feucherolles",47,{"$f":"C4+ROW(C4)/1000","v":47.003999999999998},{"$f":"RANK(D4,$D$4:$D$28)","v":1},8,{"$f":"F4+ROW(F4)/1000","v":8.0039999999999996},{"$f":"RANK(G4,$G$4:$G$28)","v":2}]
["2018-10-05","Isle Adam",29,29.004999999999999,{"$f":"RANK(D5,$D$4:$D$28)","v":4},6,6.0049999999999999,{"$f":"RANK(G5,$G$4:$G$28)","v":4}]
["2018-10-20","Cergy Vauréal",20,20.006,8,3,3.0059999999999998,{"$f":"RANK(G6,$G$4:$G$28)","v":11}]
["2019-02-20","CH Marivaux",30,30.007000000000001,3,5,5.0069999999999997,5]
["2019-03-10","National - Aigle",18,18.007999999999999,9,6,6.008,3]
["2019-03-16","CH Hersant",28,28.009,5,3,3.0089999999999999,10]
["2019-03-28","Rueil",9,9.01,12,3,3.01,9]
["2019-04-09","Rueil",9,9.0109999999999992,11,3,3.0110000000000001,8]
["2019-04-28","Marivaux",27,27.012,6,3,3.012,7]
["2019-05-23","Rueil",9,9.0129999999999999,10,3,3.0129999999999999,6]
["2019-06-22","Golf Parc Hersant",21,21.013999999999999,7,2,2.0139999999999998,12]
["2019-06-28","Vaucouleurs Rivière",38,38.015000000000001,2,13,13.015000000000001,1]
[null,null,null,1.6E-2,25,null,1.6E-2,25]
[null,null,null,1.7000000000000001E-2,24,null,1.7000000000000001E-2,24]
[null,null,null,1.7999999999999999E-2,23,null,1.7999999999999999E-2,23]
[null,null,null,1.9E-2,22,null,1.9E-2,22]
[null,null,null,0.02,21,null,0.02,21]
[null,null,null,2.1000000000000001E-2,20,null,2.1000000000000001E-2,20]
[null,null,null,2.1999999999999999E-2,19,null,2.1999999999999999E-2,19]
[null,null,null,2.3E-2,18,null,2.3E-2,18]
[null,null,null,2.4E-2,17,null,2.4E-2,17]
[null,null,null,2.5000000000000001E-2,16,null,2.5000000000000001E-2,16]
[null,null,null,2.5999999999999999E-2,15,null,2.5999999999999999E-2,15]
[null,null,null,2.7E-2,14,null,2.7E-2,14]
[null,null,null,2.8000000000000001E-2,13,null,2.8000000000000001E-2,13]
[null,"Cumul total",{"$f":"SUM(C4:C28)","v":285},null,null,{"$f":"SUM(F4:F28)","v":58}]
[null,"5 meilleurs scores",{"$f":"INDEX(C4:C28,MATCH(1,E4:E28,0))+INDEX(C4:C28,MATCH(2,E4:E28,0))+INDEX(C4:C28,MATCH(3,E4:E28,0))+INDEX(C4:C28,MATCH(4,E4:E28,0))+INDEX(C4:C28,MATCH(5,E4:E28,0))","v":172},null,null,{"$f":"INDEX(F4:F28,MATCH(1,H4:H28,0))+INDEX(F4:F28,MATCH(2,H4:H28,0))+INDEX(F4:F28,MATCH(3,H4:H28,0))+INDEX(F4:F28,MATCH(4,H4:H28,0))+INDEX(F4:F28,MATCH(5,H4:H28,0))","v":38}]

{"sheet":"LE BON_Jean-François","index":30,"n_rows":30,"n_cols":8,"rows_kept":30,"cut":false,"hidden":false,"merged":[]}
["LE BON","Jean-François",null,null,null,{"$f":"HYPERLINK(\"#Adhérents!A1\",\"Retour\")","v":"Retour"}]
[]
["Date Sortie","Parcours","Net","Net+","Rang Net","Brut","Brut+","Rang Brut"]
["2018-09-09","Feucherolles",32,{"$f":"C4+ROW(C4)/1000","v":32.003999999999998},{"$f":"RANK(D4,$D$4:$D$28)","v":1},18,{"$f":"F4+ROW(F4)/1000","v":18.004000000000001},{"$f":"RANK(G4,$G$4:$G$28)","v":2}]
["2019-03-23","Tremblay sur Mauldre",18,18.004999999999999,{"$f":"RANK(D5,$D$4:$D$28)","v":3},6,6.0049999999999999,{"$f":"RANK(G5,$G$4:$G$28)","v":3}]
["2019-06-22","Golf Parc Hersant",25,25.006,2,20,20.006,{"$f":"RANK(G6,$G$4:$G$28)","v":1}]
[null,null,null,7.0000000000000001E-3,25,null,7.0000000000000001E-3,25]
[null,null,null,8.0000000000000002E-3,24,null,8.0000000000000002E-3,24]
[null,null,null,8.9999999999999993E-3,23,null,8.9999999999999993E-3,23]
[null,null,null,0.01,22,null,0.01,22]
[null,null,null,1.0999999999999999E-2,21,null,1.0999999999999999E-2,21]
[null,null,null,1.2E-2,20,null,1.2E-2,20]
[null,null,null,1.2999999999999999E-2,19,null,1.2999999999999999E-2,19]
[null,null,null,1.4E-2,18,null,1.4E-2,18]
[null,null,null,1.4999999999999999E-2,17,null,1.4999999999999999E-2,17]
[null,null,null,1.6E-2,16,null,1.6E-2,16]
[null,null,null,1.7000000000000001E-2,15,null,1.7000000000000001E-2,15]
[null,null,null,1.7999999999999999E-2,14,null,1.7999999999999999E-2,14]
[null,null,null,1.9E-2,13,null,1.9E-2,13]
[null,null,null,0.02,12,null,0.02,12]
[null,null,null,2.1000000000000001E-2,11,null,2.1000000000000001E-2,11]
[null,null,null,2.1999999999999999E-2,10,null,2.1999999999999999E-2,10]
[null,null,null,2.3E-2,9,null,2.3E-2,9]
[null,null,null,2.4E-2,8,null,2.4E-2,8]
[null,null,null,2.5000000000000001E-2,7,null,2.5000000000000001E-2,7]
[null,null,null,2.5999999999999999E-2,6,null,2.5999999999999999E-2,6]
[null,null,null,2.7E-2,5,null,2.7E-2,5]
[null,null,null,2.8000000000000001E-2,4,null,2.8000000000000001E-2,4]
[null,"Cumul total",{"$f":"SUM(C4:C28)","v":75},null,null,{"$f":"SUM(F4:F28)","v":44}]
[null,"5 meilleurs scores",{"$f":"INDEX(C4:C28,MATCH(1,E4:E28,0))+INDEX(C4:C28,MATCH(2,E4:E28,0))+INDEX(C4:C28,MATCH(3,E4:E28,0))+INDEX(C4:C28,MATCH(4,E4:E28,0))+INDEX(C4:C28,MATCH(5,E4:E28,0))","v":75},null,null,{"$f":"INDEX(F4:F28,MATCH(1,H4:H28,0))+INDEX(F4:F28,MATCH(2,H4:H28,0))+INDEX(F4:F28,MATCH(3,H4:H28,0))+INDEX(F4:F28,MATCH(4,H4:H28,0))+INDEX(F4:F28,MATCH(5,H4:H28,0))","v":44}]

{"sheet":"LACHAZETTE_Franck","index":31,"n_rows":30,"n_cols":8,"rows_kept":30,"cut":false,"hidden":false,"merged":[]}
["LACHAZETTE","Franck",null,null,null,{"$f":"HYPERLINK(\"#Adhérents!A1\",\"Retour\")","v":"Retour"}]
[]
["Date Sortie","Parcours","Net","Net+","Rang Net","Brut","Brut+","Rang Brut"]
["2018-09-21","Les Aisses",31,{"$f":"C4+ROW(C4)/1000","v":31.004000000000001},{"$f":"RANK(D4,$D$4:$D$28)","v":3},14,{"$f":"F4+ROW(F4)/1000","v":14.004},{"$f":"RANK(G4,$G$4:$G$28)","v":5}]
["2018-09-22","Sologne",18,18.004999999999999,{"$f":"RANK(D5,$D$4:$D$28)","v":11},6,6.0049999999999999,{"$f":"RANK(G5,$G$4:$G$28)","v":11}]
["2018-10-20","Cergy Vauréal",25,25.006,6,13,13.006,{"$f":"RANK(G6,$G$4:$G$28)","v":6}]
["2019-02-10","Aigle",18,18.007000000000001,10,6,6.0069999999999997,10]
["2019-03-10","National - Aigle",18,18.007999999999999,9,6,6.008,9]
["2019-04-06","Disney",18,18.009,8,6,6.0090000000000003,8]
["2019-04-18","Rueil virtuel",9,9.01,12,3,3.01,12]
["2019-04-28","Marivaux",33,33.011000000000003,2,18,18.010999999999999,1]
["2019-05-24","Haut Poitou",18,18.012,7,6,6.0119999999999996,7]
["2019-05-25","Mignaloux",36,36.012999999999998,1,17,17.013000000000002,3]
["2019-06-22","Golf Parc Hersant",28,{"$f":"C14+ROW(C14)/1000","v":28.013999999999999},5,17,17.013999999999999,2]
["2019-06-28","Vaucouleurs Rivière",29,29.015000000000001,4,14,14.015000000000001,4]
[null,null,null,1.6E-2,25,null,1.6E-2,25]
[null,null,null,1.7000000000000001E-2,24,null,1.7000000000000001E-2,24]
[null,null,null,{"$f":"C18+ROW(C18)/1000","v":1.7999999999999999E-2},23,null,1.7999999999999999E-2,23]
[null,null,null,1.9E-2,22,null,1.9E-2,22]
[null,null,null,0.02,21,null,0.02,21]
[null,null,null,2.1000000000000001E-2,20,null,2.1000000000000001E-2,20]
[null,null,null,2.1999999999999999E-2,19,null,2.1999999999999999E-2,19]
[null,null,null,2.3E-2,18,null,2.3E-2,18]
[null,null,null,2.4E-2,17,null,2.4E-2,17]
[null,null,null,2.5000000000000001E-2,16,null,2.5000000000000001E-2,16]
[null,null,null,2.5999999999999999E-2,15,null,2.5999999999999999E-2,15]
[null,null,null,2.7E-2,14,null,2.7E-2,14]
[null,null,null,2.8000000000000001E-2,13,null,2.8000000000000001E-2,13]
[null,"Cumul total",{"$f":"SUM(C4:C28)","v":281},null,null,{"$f":"SUM(F4:F28)","v":126}]
[null,"5 meilleurs scores",{"$f":"INDEX(C4:C28,MATCH(1,E4:E28,0))+INDEX(C4:C28,MATCH(2,E4:E28,0))+INDEX(C4:C28,MATCH(3,E4:E28,0))+INDEX(C4:C28,MATCH(4,E4:E28,0))+INDEX(C4:C28,MATCH(5,E4:E28,0))","v":157},null,null,{"$f":"INDEX(F4:F28,MATCH(1,H4:H28,0))+INDEX(F4:F28,MATCH(2,H4:H28,0))+INDEX(F4:F28,MATCH(3,H4:H28,0))+INDEX(F4:F28,MATCH(4,H4:H28,0))+INDEX(F4:F28,MATCH(5,H4:H28,0))","v":80}]

{"sheet":"LARRERE_Martin","index":32,"n_rows":30,"n_cols":8,"rows_kept":30,"cut":false,"hidden":false,"merged":[]}
["LARRERE","Martin",null,null,null,{"$f":"HYPERLINK(\"#Adhérents!A1\",\"Retour\")","v":"Retour"}]
[]
["Date Sortie","Parcours","Net","Net+","Rang Net","Brut","Brut+","Rang Brut"]
["2018-11-10","Fourqueux",24,{"$f":"C4+ROW(C4)/1000","v":24.004000000000001},{"$f":"RANK(D4,$D$4:$D$28)","v":6},7,{"$f":"F4+ROW(F4)/1000","v":7.0039999999999996},{"$f":"RANK(G4,$G$4:$G$28)","v":6}]
["2019-01-12","CH Ableiges",33,33.005000000000003,{"$f":"RANK(D5,$D$4:$D$28)","v":4},15,15.005000000000001,{"$f":"RANK(G5,$G$4:$G$28)","v":1}]
["2019-02-10","Aigle",18,18.006,7,6,6.0060000000000002,{"$f":"RANK(G6,$G$4:$G$28)","v":7}]
["2019-02-16","CH Seraincourt",35,35.006999999999998,3,13,13.007,4]
["2019-03-09","CH Yvelines",26,26.007999999999999,5,9,9.0079999999999991,5]
["2019-06-07","Isle Adam",35,35.009,2,14,14.009,2]
["2019-06-22","Golf Parc Hersant",35,35.01,1,13,13.01,3]
[null,null,null,1.0999999999999999E-2,25,null,1.0999999999999999E-2,25]
[null,null,null,1.2E-2,24,null,1.2E-2,24]
[null,null,null,1.2999999999999999E-2,23,null,1.2999999999999999E-2,23]
[null,null,null,1.4E-2,22,null,1.4E-2,22]
[null,null,null,1.4999999999999999E-2,21,null,1.4999999999999999E-2,21]
[null,null,null,1.6E-2,20,null,1.6E-2,20]
[null,null,null,1.7000000000000001E-2,19,null,1.7000000000000001E-2,19]
[null,null,null,1.7999999999999999E-2,18,null,1.7999999999999999E-2,18]
[null,null,null,1.9E-2,17,null,1.9E-2,17]
[null,null,null,0.02,16,null,0.02,16]
[null,null,null,2.1000000000000001E-2,15,null,2.1000000000000001E-2,15]
[null,null,null,2.1999999999999999E-2,14,null,2.1999999999999999E-2,14]
[null,null,null,2.3E-2,13,null,2.3E-2,13]
[null,null,null,2.4E-2,12,null,2.4E-2,12]
[null,null,null,2.5000000000000001E-2,11,null,2.5000000000000001E-2,11]
[null,null,null,2.5999999999999999E-2,10,null,2.5999999999999999E-2,10]
[null,null,null,2.7E-2,9,null,2.7E-2,9]
[null,null,null,2.8000000000000001E-2,8,null,2.8000000000000001E-2,8]
[null,"Cumul total",{"$f":"SUM(C4:C28)","v":206},null,null,{"$f":"SUM(F4:F28)","v":77}]
[null,"5 meilleurs scores",{"$f":"INDEX(C4:C28,MATCH(1,E4:E28,0))+INDEX(C4:C28,MATCH(2,E4:E28,0))+INDEX(C4:C28,MATCH(3,E4:E28,0))+INDEX(C4:C28,MATCH(4,E4:E28,0))+INDEX(C4:C28,MATCH(5,E4:E28,0))","v":164},null,null,{"$f":"INDEX(F4:F28,MATCH(1,H4:H28,0))+INDEX(F4:F28,MATCH(2,H4:H28,0))+INDEX(F4:F28,MATCH(3,H4:H28,0))+INDEX(F4:F28,MATCH(4,H4:H28,0))+INDEX(F4:F28,MATCH(5,H4:H28,0))","v":64}]

{"sheet":"LOPEZ_Cédric","index":33,"n_rows":30,"n_cols":8,"rows_kept":30,"cut":false,"hidden":false,"merged":[]}
["LOPEZ","Cédric",null,null,null,{"$f":"HYPERLINK(\"#Adhérents!A1\",\"Retour\")","v":"Retour"}]
[]
["Date Sortie","Parcours","Net","Net+","Rang Net","Brut","Brut+","Rang Brut"]
["2019-03-28","Rueil",9,{"$f":"C4+ROW(C4)/1000","v":9.0039999999999996},{"$f":"RANK(D4,$D$4:$D$28)","v":4},3,{"$f":"F4+ROW(F4)/1000","v":3.004},{"$f":"RANK(G4,$G$4:$G$28)","v":4}]
["2019-04-25","Rueil",9,9.0050000000000008,{"$f":"RANK(D5,$D$4:$D$28)","v":3},3,3.0049999999999999,{"$f":"RANK(G5,$G$4:$G$28)","v":3}]
["2019-05-07","Rueil",9,9.0060000000000002,2,3,3.0059999999999998,{"$f":"RANK(G6,$G$4:$G$28)","v":2}]
["2019-05-23","Rueil",9,9.0069999999999997,1,3,3.0070000000000001,1]
[null,null,null,8.0000000000000002E-3,25,null,8.0000000000000002E-3,25]
[null,null,null,8.9999999999999993E-3,24,null,8.9999999999999993E-3,24]
[null,null,null,0.01,23,null,0.01,23]
[null,null,null,1.0999999999999999E-2,22,null,1.0999999999999999E-2,22]
[null,null,null,1.2E-2,21,null,1.2E-2,21]
[null,null,null,1.2999999999999999E-2,20,null,1.2999999999999999E-2,20]
[null,null,null,1.4E-2,19,null,1.4E-2,19]
[null,null,null,1.4999999999999999E-2,18,null,1.4999999999999999E-2,18]
[null,null,null,1.6E-2,17,null,1.6E-2,17]
[null,null,null,1.7000000000000001E-2,16,null,1.7000000000000001E-2,16]
[null,null,null,1.7999999999999999E-2,15,null,1.7999999999999999E-2,15]
[null,null,null,1.9E-2,14,null,1.9E-2,14]
[null,null,null,0.02,13,null,0.02,13]
[null,null,null,2.1000000000000001E-2,12,null,2.1000000000000001E-2,12]
[null,null,null,2.1999999999999999E-2,11,null,2.1999999999999999E-2,11]
[null,null,null,2.3E-2,10,null,2.3E-2,10]
[null,null,null,2.4E-2,9,null,2.4E-2,9]
[null,null,null,2.5000000000000001E-2,8,null,2.5000000000000001E-2,8]
[null,null,null,2.5999999999999999E-2,7,null,2.5999999999999999E-2,7]
[null,null,null,2.7E-2,6,null,2.7E-2,6]
[null,null,null,2.8000000000000001E-2,5,null,2.8000000000000001E-2,5]
[null,"Cumul total",{"$f":"SUM(C4:C28)","v":36},null,null,{"$f":"SUM(F4:F28)","v":12}]
[null,"5 meilleurs scores",{"$f":"INDEX(C4:C28,MATCH(1,E4:E28,0))+INDEX(C4:C28,MATCH(2,E4:E28,0))+INDEX(C4:C28,MATCH(3,E4:E28,0))+INDEX(C4:C28,MATCH(4,E4:E28,0))+INDEX(C4:C28,MATCH(5,E4:E28,0))","v":36},null,null,{"$f":"INDEX(F4:F28,MATCH(1,H4:H28,0))+INDEX(F4:F28,MATCH(2,H4:H28,0))+INDEX(F4:F28,MATCH(3,H4:H28,0))+INDEX(F4:F28,MATCH(4,H4:H28,0))+INDEX(F4:F28,MATCH(5,H4:H28,0))","v":12}]

{"sheet":"LEFRANC_Virginie","index":34,"n_rows":30,"n_cols":8,"rows_kept":30,"cut":false,"hidden":false,"merged":[]}
["LEFRANC","Virginie",null,null,null,{"$f":"HYPERLINK(\"#Adhérents!A1\",\"Retour\")","v":"Retour"}]
[]
["Date Sortie","Parcours","Net","Net+","Rang Net","Brut","Brut+","Rang Brut"]
["2018-09-21","Les Aisses",30,{"$f":"C4+ROW(C4)/1000","v":30.004000000000001},{"$f":"RANK(D4,$D$4:$D$28)","v":4},6,{"$f":"F4+ROW(F4)/1000","v":6.0039999999999996},{"$f":"RANK(G4,$G$4:$G$28)","v":8}]
["2018-09-22","Sologne",18,18.004999999999999,{"$f":"RANK(D5,$D$4:$D$28)","v":9},6,6.0049999999999999,{"$f":"RANK(G5,$G$4:$G$28)","v":7}]
["2018-10-05","Isle Adam",32,32.006,3,6,6.0060000000000002,{"$f":"RANK(G6,$G$4:$G$28)","v":6}]
["2018-10-20","Cergy Vauréal",37,37.006999999999998,1,11,11.007,1]
["2019-03-10","National - Aigle",18,18.007999999999999,8,6,6.008,5]
["2018-12-13","Rueil virtuel",9,9.0090000000000003,12,3,3.0089999999999999,12]
["2019-04-09","Rueil",9,{"$f":"C10+ROW(C10)/1000","v":9.01},11,3,3.01,11]
["2019-04-28","Marivaux",36,{"$f":"C11+ROW(C11)/1000","v":36.011000000000003},2,10,10.010999999999999,2]
["2019-05-07","Rueil",9,{"$f":"C12+ROW(C12)/1000","v":9.0120000000000005},10,3,3.012,10]
["2019-03-23","Tremblay sur Mauldre",18,18.013000000000002,7,6,6.0129999999999999,4]
["2019-06-22","Golf Parc Hersant",27,{"$f":"C14+ROW(C14)/1000","v":27.013999999999999},5,6,6.0140000000000002,3]
["2019-06-28","Vaucouleurs Rivière",22,22.015000000000001,6,5,5.0149999999999997,9]
[null,null,null,1.6E-2,25,null,1.6E-2,25]
[null,null,null,1.7000000000000001E-2,24,null,1.7000000000000001E-2,24]
[null,null,null,{"$f":"C18+ROW(C18)/1000","v":1.7999999999999999E-2},23,null,1.7999999999999999E-2,23]
[null,null,null,1.9E-2,22,null,1.9E-2,22]
[null,null,null,0.02,21,null,0.02,21]
[null,null,null,2.1000000000000001E-2,20,null,2.1000000000000001E-2,20]
[null,null,null,2.1999999999999999E-2,19,null,2.1999999999999999E-2,19]
[null,null,null,2.3E-2,18,null,2.3E-2,18]
[null,null,null,2.4E-2,17,null,2.4E-2,17]
[null,null,null,2.5000000000000001E-2,16,null,2.5000000000000001E-2,16]
[null,null,null,2.5999999999999999E-2,15,null,2.5999999999999999E-2,15]
[null,null,null,2.7E-2,14,null,2.7E-2,14]
[null,null,null,2.8000000000000001E-2,13,null,2.8000000000000001E-2,13]
[null,"Cumul total",{"$f":"SUM(C4:C28)","v":265},null,null,{"$f":"SUM(F4:F28)","v":71}]
[null,"5 meilleurs scores",{"$f":"INDEX(C4:C28,MATCH(1,E4:E28,0))+INDEX(C4:C28,MATCH(2,E4:E28,0))+INDEX(C4:C28,MATCH(3,E4:E28,0))+INDEX(C4:C28,MATCH(4,E4:E28,0))+INDEX(C4:C28,MATCH(5,E4:E28,0))","v":162},null,null,{"$f":"INDEX(F4:F28,MATCH(1,H4:H28,0))+INDEX(F4:F28,MATCH(2,H4:H28,0))+INDEX(F4:F28,MATCH(3,H4:H28,0))+INDEX(F4:F28,MATCH(4,H4:H28,0))+INDEX(F4:F28,MATCH(5,H4:H28,0))","v":39}]

{"sheet":"MABILE_Claude","index":35,"n_rows":30,"n_cols":8,"rows_kept":30,"cut":false,"hidden":false,"merged":[]}
["MABILE","Claude",null,null,null,{"$f":"HYPERLINK(\"#Adhérents!A1\",\"Retour\")","v":"Retour"}]
[]
["Date Sortie","Parcours","Net","Net+","Rang Net","Brut","Brut+","Rang Brut"]
["2018-09-21","Les Aisses",24,{"$f":"C4+ROW(C4)/1000","v":24.004000000000001},{"$f":"RANK(D4,$D$4:$D$28)","v":2},7,{"$f":"F4+ROW(F4)/1000","v":7.0039999999999996},{"$f":"RANK(G4,$G$4:$G$28)","v":3}]
["2018-09-22","Sologne",18,18.004999999999999,{"$f":"RANK(D5,$D$4:$D$28)","v":8},6,6.0049999999999999,{"$f":"RANK(G5,$G$4:$G$28)","v":8}]
["2018-10-16","Saint Nom La Breteche",18,18.006,7,6,6.0060000000000002,{"$f":"RANK(G6,$G$4:$G$28)","v":7}]
["2018-11-10","Fourqueux",21,21.007000000000001,3,8,8.0069999999999997,2]
["2019-04-06","Disney",18,18.007999999999999,6,6,6.008,6]
["2019-04-18","Rueil virtuel",9,9.0090000000000003,9,3,3.0089999999999999,9]
["2019-03-23","Tremblay sur Mauldre",18,18.010000000000002,5,6,6.01,5]
["2019-05-24","Haut Poitou",18,18.010999999999999,4,6,6.0110000000000001,4]
["2019-05-25","Mignaloux",30,30.012,1,12,12.012,1]
[null,null,null,1.2999999999999999E-2,25,null,1.2999999999999999E-2,25]
[null,null,null,{"$f":"C14+ROW(C14)/1000","v":1.4E-2},24,null,1.4E-2,24]
[null,null,null,1.4999999999999999E-2,23,null,1.4999999999999999E-2,23]
[null,null,null,1.6E-2,22,null,1.6E-2,22]
[null,null,null,1.7000000000000001E-2,21,null,1.7000000000000001E-2,21]
[null,null,null,{"$f":"C18+ROW(C18)/1000","v":1.7999999999999999E-2},20,null,1.7999999999999999E-2,20]
[null,null,null,1.9E-2,19,null,1.9E-2,19]
[null,null,null,0.02,18,null,0.02,18]
[null,null,null,2.1000000000000001E-2,17,null,2.1000000000000001E-2,17]
[null,null,null,2.1999999999999999E-2,16,null,2.1999999999999999E-2,16]
[null,null,null,2.3E-2,15,null,2.3E-2,15]
[null,null,null,2.4E-2,14,null,2.4E-2,14]
[null,null,null,2.5000000000000001E-2,13,null,2.5000000000000001E-2,13]
[null,null,null,2.5999999999999999E-2,12,null,2.5999999999999999E-2,12]
[null,null,null,2.7E-2,11,null,2.7E-2,11]
[null,null,null,2.8000000000000001E-2,10,null,2.8000000000000001E-2,10]
[null,"Cumul total",{"$f":"SUM(C4:C28)","v":174},null,null,{"$f":"SUM(F4:F28)","v":60}]
[null,"5 meilleurs scores",{"$f":"INDEX(C4:C28,MATCH(1,E4:E28,0))+INDEX(C4:C28,MATCH(2,E4:E28,0))+INDEX(C4:C28,MATCH(3,E4:E28,0))+INDEX(C4:C28,MATCH(4,E4:E28,0))+INDEX(C4:C28,MATCH(5,E4:E28,0))","v":111},null,null,{"$f":"INDEX(F4:F28,MATCH(1,H4:H28,0))+INDEX(F4:F28,MATCH(2,H4:H28,0))+INDEX(F4:F28,MATCH(3,H4:H28,0))+INDEX(F4:F28,MATCH(4,H4:H28,0))+INDEX(F4:F28,MATCH(5,H4:H28,0))","v":39}]

{"sheet":"MHAMDI_Jalel","index":36,"n_rows":30,"n_cols":8,"rows_kept":30,"cut":false,"hidden":false,"merged":[]}
["M'HAMDI","Jalel",null,null,null,{"$f":"HYPERLINK(\"#Adhérents!A1\",\"Retour\")","v":"Retour"}]
[]
["Date Sortie","Parcours","Net","Net+","Rang Net","Brut","Brut+","Rang Brut"]
["2018-09-09","Feucherolles",33,{"$f":"C4+ROW(C4)/1000","v":33.003999999999998},{"$f":"RANK(D4,$D$4:$D$28)","v":3},10,{"$f":"F4+ROW(F4)/1000","v":10.004},{"$f":"RANK(G4,$G$4:$G$28)","v":4}]
["2018-09-21","Les Aisses",35,35.005000000000003,{"$f":"RANK(D5,$D$4:$D$28)","v":2},11,11.005000000000001,{"$f":"RANK(G5,$G$4:$G$28)","v":3}]
["2018-09-22","Sologne",18,18.006,10,6,6.0060000000000002,{"$f":"RANK(G6,$G$4:$G$28)","v":9}]
["2018-10-05","Isle Adam",26,26.007000000000001,7,6,6.0069999999999997,8]
["2018-10-20","Cergy Vauréal",29,29.007999999999999,5,9,9.0079999999999991,5]
["2019-03-10","National - Aigle",18,18.009,9,6,6.0090000000000003,7]
["2019-04-18","Rueil virtuel",9,9.01,11,3,3.01,11]
["2019-05-24","Haut Poitou",18,18.010999999999999,8,6,6.0110000000000001,6]
["2019-05-25","Mignaloux",26,26.012,6,5,5.0119999999999996,10]
["2019-06-07","Isle Adam",32,32.012999999999998,4,11,11.013,2]
["2019-06-22","Golf Parc Hersant",38,{"$f":"C14+ROW(C14)/1000","v":38.014000000000003},1,13,13.013999999999999,1]
[null,null,null,1.4999999999999999E-2,25,null,1.4999999999999999E-2,25]
[null,null,null,1.6E-2,24,null,1.6E-2,24]
[null,null,null,1.7000000000000001E-2,23,null,1.7000000000000001E-2,23]
[null,null,null,{"$f":"C18+ROW(C18)/1000","v":1.7999999999999999E-2},22,null,1.7999999999999999E-2,22]
[null,null,null,1.9E-2,21,null,1.9E-2,21]
[null,null,null,0.02,20,null,0.02,20]
[null,null,null,2.1000000000000001E-2,19,null,2.1000000000000001E-2,19]
[null,null,null,2.1999999999999999E-2,18,null,2.1999999999999999E-2,18]
[null,null,null,2.3E-2,17,null,2.3E-2,17]
[null,null,null,2.4E-2,16,null,2.4E-2,16]
[null,null,null,2.5000000000000001E-2,15,null,2.5000000000000001E-2,15]
[null,null,null,2.5999999999999999E-2,14,null,2.5999999999999999E-2,14]
[null,null,null,2.7E-2,13,null,2.7E-2,13]
[null,null,null,2.8000000000000001E-2,12,null,2.8000000000000001E-2,12]
[null,"Cumul total",{"$f":"SUM(C4:C28)","v":282},null,null,{"$f":"SUM(F4:F28)","v":86}]
[null,"5 meilleurs scores",{"$f":"INDEX(C4:C28,MATCH(1,E4:E28,0))+INDEX(C4:C28,MATCH(2,E4:E28,0))+INDEX(C4:C28,MATCH(3,E4:E28,0))+INDEX(C4:C28,MATCH(4,E4:E28,0))+INDEX(C4:C28,MATCH(5,E4:E28,0))","v":167},null,null,{"$f":"INDEX(F4:F28,MATCH(1,H4:H28,0))+INDEX(F4:F28,MATCH(2,H4:H28,0))+INDEX(F4:F28,MATCH(3,H4:H28,0))+INDEX(F4:F28,MATCH(4,H4:H28,0))+INDEX(F4:F28,MATCH(5,H4:H28,0))","v":54}]

{"sheet":"MOISSON_Bernard","index":37,"n_rows":30,"n_cols":8,"rows_kept":30,"cut":false,"hidden":false,"merged":[]}
["MOISSON","Bernard",null,null,null,{"$f":"HYPERLINK(\"#Adhérents!A1\",\"Retour\")","v":"Retour"}]
[]
["Date Sortie","Parcours","Net","Net+","Rang Net","Brut","Brut+","Rang Brut"]
["2018-10-20","Cergy Vauréal",35,{"$f":"C4+ROW(C4)/1000","v":35.003999999999998},{"$f":"RANK(D4,$D$4:$D$28)","v":1},9,{"$f":"F4+ROW(F4)/1000","v":9.0039999999999996},{"$f":"RANK(G4,$G$4:$G$28)","v":1}]
["2018-11-10","Fourqueux",15,15.005000000000001,{"$f":"RANK(D5,$D$4:$D$28)","v":6},1,1.0049999999999999,{"$f":"RANK(G5,$G$4:$G$28)","v":8}]
["2019-02-10","Aigle",18,18.006,5,6,6.0060000000000002,{"$f":"RANK(G6,$G$4:$G$28)","v":3}]
["2019-03-10","National - Aigle",18,18.007000000000001,4,6,6.0069999999999997,2]
["2018-12-13","Rueil virtuel",9,9.0079999999999991,8,3,3.008,7]
["2019-04-09","Rueil",9,9.0090000000000003,7,3,3.0089999999999999,6]
["2019-04-28","Marivaux",31,31.01,2,5,5.01,4]
["2019-06-07","Isle Adam",28,28.010999999999999,3,3,3.0110000000000001,5]
[null,null,null,1.2E-2,25,null,1.2E-2,25]
[null,null,null,1.2999999999999999E-2,24,null,1.2999999999999999E-2,24]
[null,null,null,{"$f":"C14+ROW(C14)/1000","v":1.4E-2},23,null,1.4E-2,23]
[null,null,null,1.4999999999999999E-2,22,null,1.4999999999999999E-2,22]
[null,null,null,1.6E-2,21,null,1.6E-2,21]
[null,null,null,1.7000000000000001E-2,20,null,1.7000000000000001E-2,20]
[null,null,null,{"$f":"C18+ROW(C18)/1000","v":1.7999999999999999E-2},19,null,1.7999999999999999E-2,19]
[null,null,null,1.9E-2,18,null,1.9E-2,18]
[null,null,null,0.02,17,null,0.02,17]
[null,null,null,2.1000000000000001E-2,16,null,2.1000000000000001E-2,16]
[null,null,null,2.1999999999999999E-2,15,null,2.1999999999999999E-2,15]
[null,null,null,2.3E-2,14,null,2.3E-2,14]
[null,null,null,2.4E-2,13,null,2.4E-2,13]
[null,null,null,2.5000000000000001E-2,12,null,2.5000000000000001E-2,12]
[null,null,null,2.5999999999999999E-2,11,null,2.5999999999999999E-2,11]
[null,null,null,2.7E-2,10,null,2.7E-2,10]
[null,null,null,2.8000000000000001E-2,9,null,2.8000000000000001E-2,9]
[null,"Cumul total",{"$f":"SUM(C4:C28)","v":163},null,null,{"$f":"SUM(F4:F28)","v":36}]
[null,"5 meilleurs scores",{"$f":"INDEX(C4:C28,MATCH(1,E4:E28,0))+INDEX(C4:C28,MATCH(2,E4:E28,0))+INDEX(C4:C28,MATCH(3,E4:E28,0))+INDEX(C4:C28,MATCH(4,E4:E28,0))+INDEX(C4:C28,MATCH(5,E4:E28,0))","v":130},null,null,{"$f":"INDEX(F4:F28,MATCH(1,H4:H28,0))+INDEX(F4:F28,MATCH(2,H4:H28,0))+INDEX(F4:F28,MATCH(3,H4:H28,0))+INDEX(F4:F28,MATCH(4,H4:H28,0))+INDEX(F4:F28,MATCH(5,H4:H28,0))","v":29}]

{"sheet":"NGUYEN_Jean-Paul","index":38,"n_rows":30,"n_cols":8,"rows_kept":30,"cut":false,"hidden":false,"merged":[]}
["NGUYEN","Jean-Paul",null,null,null,{"$f":"HYPERLINK(\"#Adhérents!A1\",\"Retour\")","v":"Retour"}]
[]
["Date Sortie","Parcours","Net","Net+","Rang Net","Brut","Brut+","Rang Brut"]
["2018-09-09","Feucherolles",43,{"$f":"C4+ROW(C4)/1000","v":43.003999999999998},{"$f":"RANK(D4,$D$4:$D$28)","v":1},16,{"$f":"F4+ROW(F4)/1000","v":16.004000000000001},{"$f":"RANK(G4,$G$4:$G$28)","v":1}]
["2018-09-21","Les Aisses",28,28.004999999999999,{"$f":"RANK(D5,$D$4:$D$28)","v":2},8,8.0050000000000008,{"$f":"RANK(G5,$G$4:$G$28)","v":4}]
["2018-09-22","Sologne",18,18.006,8,6,6.0060000000000002,{"$f":"RANK(G6,$G$4:$G$28)","v":8}]
["2018-10-05","Isle Adam",26,26.007000000000001,3,8,8.0069999999999997,3]
["2019-02-06","CH Yvelines",14,14.007999999999999,9,1,1.008,9]
["2019-03-10","National - Aigle",18,18.009,7,6,6.0090000000000003,7]
["2019-03-23","Tremblay sur Mauldre",18,18.010000000000002,6,6,6.01,6]
["2019-05-24","Haut Poitou",18,18.010999999999999,5,6,6.0110000000000001,5]
["2019-05-25","Mignaloux",23,23.012,4,9,9.0120000000000005,2]
[null,null,null,1.2999999999999999E-2,25,null,1.2999999999999999E-2,25]
[null,null,null,{"$f":"C14+ROW(C14)/1000","v":1.4E-2},24,null,1.4E-2,24]
[null,null,null,1.4999999999999999E-2,23,null,1.4999999999999999E-2,23]
[null,null,null,1.6E-2,22,null,1.6E-2,22]
[null,null,null,1.7000000000000001E-2,21,null,1.7000000000000001E-2,21]
[null,null,null,{"$f":"C18+ROW(C18)/1000","v":1.7999999999999999E-2},20,null,1.7999999999999999E-2,20]
[null,null,null,1.9E-2,19,null,1.9E-2,19]
[null,null,null,0.02,18,null,0.02,18]
[null,null,null,2.1000000000000001E-2,17,null,2.1000000000000001E-2,17]
[null,null,null,2.1999999999999999E-2,16,null,2.1999999999999999E-2,16]
[null,null,null,2.3E-2,15,null,2.3E-2,15]
[null,null,null,2.4E-2,14,null,2.4E-2,14]
[null,null,null,2.5000000000000001E-2,13,null,2.5000000000000001E-2,13]
[null,null,null,2.5999999999999999E-2,12,null,2.5999999999999999E-2,12]
[null,null,null,2.7E-2,11,null,2.7E-2,11]
[null,null,null,2.8000000000000001E-2,10,null,2.8000000000000001E-2,10]
[null,"Cumul total",{"$f":"SUM(C4:C28)","v":206},null,null,{"$f":"SUM(F4:F28)","v":66}]
[null,"5 meilleurs scores",{"$f":"INDEX(C4:C28,MATCH(1,E4:E28,0))+INDEX(C4:C28,MATCH(2,E4:E28,0))+INDEX(C4:C28,MATCH(3,E4:E28,0))+INDEX(C4:C28,MATCH(4,E4:E28,0))+INDEX(C4:C28,MATCH(5,E4:E28,0))","v":138},null,null,{"$f":"INDEX(F4:F28,MATCH(1,H4:H28,0))+INDEX(F4:F28,MATCH(2,H4:H28,0))+INDEX(F4:F28,MATCH(3,H4:H28,0))+INDEX(F4:F28,MATCH(4,H4:H28,0))+INDEX(F4:F28,MATCH(5,H4:H28,0))","v":47}]

{"sheet":"PAUL_Albert","index":39,"n_rows":30,"n_cols":8,"rows_kept":30,"cut":false,"hidden":false,"merged":[]}
["PAUL","Albert",null,null,null,{"$f":"HYPERLINK(\"#Adhérents!A1\",\"Retour\")","v":"Retour"}]
[]
["Date Sortie","Parcours","Net","Net+","Rang Net","Brut","Brut+","Rang Brut"]
["2019-04-09","Rueil",9,{"$f":"C4+ROW(C4)/1000","v":9.0039999999999996},{"$f":"RANK(D4,$D$4:$D$28)","v":3},3,{"$f":"F4+ROW(F4)/1000","v":3.004},{"$f":"RANK(G4,$G$4:$G$28)","v":3}]
["2019-04-25","Rueil",9,9.0050000000000008,{"$f":"RANK(D5,$D$4:$D$28)","v":2},3,3.0049999999999999,{"$f":"RANK(G5,$G$4:$G$28)","v":2}]
["2019-06-20","Rueil",9,9.0060000000000002,1,3,3.0059999999999998,{"$f":"RANK(G6,$G$4:$G$28)","v":1}]
[null,null,null,7.0000000000000001E-3,25,null,7.0000000000000001E-3,25]
[null,null,null,8.0000000000000002E-3,24,null,8.0000000000000002E-3,24]
[null,null,null,8.9999999999999993E-3,23,null,8.9999999999999993E-3,23]
[null,null,null,0.01,22,null,0.01,22]
[null,null,null,1.0999999999999999E-2,21,null,1.0999999999999999E-2,21]
[null,null,null,1.2E-2,20,null,1.2E-2,20]
[null,null,null,1.2999999999999999E-2,19,null,1.2999999999999999E-2,19]
[null,null,null,1.4E-2,18,null,1.4E-2,18]
[null,null,null,1.4999999999999999E-2,17,null,1.4999999999999999E-2,17]
[null,null,null,1.6E-2,16,null,1.6E-2,16]
[null,null,null,1.7000000000000001E-2,15,null,1.7000000000000001E-2,15]
[null,null,null,1.7999999999999999E-2,14,null,1.7999999999999999E-2,14]
[null,null,null,1.9E-2,13,null,1.9E-2,13]
[null,null,null,0.02,12,null,0.02,12]
[null,null,null,2.1000000000000001E-2,11,null,2.1000000000000001E-2,11]
[null,null,null,2.1999999999999999E-2,10,null,2.1999999999999999E-2,10]
[null,null,null,2.3E-2,9,null,2.3E-2,9]
[null,null,null,2.4E-2,8,null,2.4E-2,8]
[null,null,null,2.5000000000000001E-2,7,null,2.5000000000000001E-2,7]
[null,null,null,2.5999999999999999E-2,6,null,2.5999999999999999E-2,6]
[null,null,null,2.7E-2,5,null,2.7E-2,5]
[null,null,null,2.8000000000000001E-2,4,null,2.8000000000000001E-2,4]
[null,"Cumul total",{"$f":"SUM(C4:C28)","v":27},null,null,{"$f":"SUM(F4:F28)","v":9}]
[null,"5 meilleurs scores",{"$f":"INDEX(C4:C28,MATCH(1,E4:E28,0))+INDEX(C4:C28,MATCH(2,E4:E28,0))+INDEX(C4:C28,MATCH(3,E4:E28,0))+INDEX(C4:C28,MATCH(4,E4:E28,0))+INDEX(C4:C28,MATCH(5,E4:E28,0))","v":27},null,null,{"$f":"INDEX(F4:F28,MATCH(1,H4:H28,0))+INDEX(F4:F28,MATCH(2,H4:H28,0))+INDEX(F4:F28,MATCH(3,H4:H28,0))+INDEX(F4:F28,MATCH(4,H4:H28,0))+INDEX(F4:F28,MATCH(5,H4:H28,0))","v":9}]

{"sheet":"PECH_Jean-François","index":40,"n_rows":30,"n_cols":8,"rows_kept":30,"cut":false,"hidden":false,"merged":[]}
["PECH","Jean-François",null,null,null,{"$f":"HYPERLINK(\"#Adhérents!A1\",\"Retour\")","v":"Retour"}]
[]
["Date Sortie","Parcours","Net","Net+","Rang Net","Brut","Brut+","Rang Brut"]
["2019-04-09","Rueil",9,{"$f":"C4+ROW(C4)/1000","v":9.0039999999999996},{"$f":"RANK(D4,$D$4:$D$28)","v":5},3,{"$f":"F4+ROW(F4)/1000","v":3.004},{"$f":"RANK(G4,$G$4:$G$28)","v":5}]
["2019-04-25","Rueil",9,9.0050000000000008,{"$f":"RANK(D5,$D$4:$D$28)","v":4},3,3.0049999999999999,{"$f":"RANK(G5,$G$4:$G$28)","v":4}]
["2019-04-28","Marivaux",1,1.006,6,0,6.0000000000000001E-3,{"$f":"RANK(G6,$G$4:$G$28)","v":25}]
["2019-05-07","Rueil",9,9.0069999999999997,3,3,3.0070000000000001,3]
["2019-05-23","Rueil",9,9.0079999999999991,2,3,3.008,2]
["2019-06-20","Rueil",9,9.0090000000000003,1,3,3.0089999999999999,1]
[null,null,null,0.01,25,null,0.01,24]
[null,null,null,1.0999999999999999E-2,24,null,1.0999999999999999E-2,23]
[null,null,null,1.2E-2,23,null,1.2E-2,22]
[null,null,null,1.2999999999999999E-2,22,null,1.2999999999999999E-2,21]
[null,null,null,1.4E-2,21,null,1.4E-2,20]
[null,null,null,1.4999999999999999E-2,20,null,1.4999999999999999E-2,19]
[null,null,null,1.6E-2,19,null,1.6E-2,18]
[null,null,null,1.7000000000000001E-2,18,null,1.7000000000000001E-2,17]
[null,null,null,1.7999999999999999E-2,17,null,1.7999999999999999E-2,16]
[null,null,null,1.9E-2,16,null,1.9E-2,15]
[null,null,null,0.02,15,null,0.02,14]
[null,null,null,2.1000000000000001E-2,14,null,2.1000000000000001E-2,13]
[null,null,null,2.1999999999999999E-2,13,null,2.1999999999999999E-2,12]
[null,null,null,2.3E-2,12,null,2.3E-2,11]
[null,null,null,2.4E-2,11,null,2.4E-2,10]
[null,null,null,2.5000000000000001E-2,10,null,2.5000000000000001E-2,9]
[null,null,null,2.5999999999999999E-2,9,null,2.5999999999999999E-2,8]
[null,null,null,2.7E-2,8,null,2.7E-2,7]
[null,null,null,2.8000000000000001E-2,7,null,2.8000000000000001E-2,6]
[null,"Cumul total",{"$f":"SUM(C4:C28)","v":46},null,null,{"$f":"SUM(F4:F28)","v":15}]
[null,"5 meilleurs scores",{"$f":"INDEX(C4:C28,MATCH(1,E4:E28,0))+INDEX(C4:C28,MATCH(2,E4:E28,0))+INDEX(C4:C28,MATCH(3,E4:E28,0))+INDEX(C4:C28,MATCH(4,E4:E28,0))+INDEX(C4:C28,MATCH(5,E4:E28,0))","v":45},null,null,{"$f":"INDEX(F4:F28,MATCH(1,H4:H28,0))+INDEX(F4:F28,MATCH(2,H4:H28,0))+INDEX(F4:F28,MATCH(3,H4:H28,0))+INDEX(F4:F28,MATCH(4,H4:H28,0))+INDEX(F4:F28,MATCH(5,H4:H28,0))","v":15}]

{"sheet":"NOTARIANNI_Julien","index":41,"n_rows":30,"n_cols":8,"rows_kept":30,"cut":false,"hidden":false,"merged":[]}
["NOTARIANNI","Julien",null,null,null,{"$f":"HYPERLINK(\"#Adhérents!A1\",\"Retour\")","v":"Retour"}]
[]
["Date Sortie","Parcours","Net","Net+","Rang Net","Brut","Brut+","Rang Brut"]
["2018-11-10","Fourqueux",32,{"$f":"C4+ROW(C4)/1000","v":32.003999999999998},{"$f":"RANK(D4,$D$4:$D$28)","v":6},18,{"$f":"F4+ROW(F4)/1000","v":18.004000000000001},{"$f":"RANK(G4,$G$4:$G$28)","v":5}]
["2019-01-12","CH Ableiges",32,32.005000000000003,{"$f":"RANK(D5,$D$4:$D$28)","v":5},16,16.004999999999999,{"$f":"RANK(G5,$G$4:$G$28)","v":6}]
["2019-02-10","Aigle",18,18.006,8,6,6.0060000000000002,{"$f":"RANK(G6,$G$4:$G$28)","v":8}]
["2019-02-16","CH Seraincourt",35,35.006999999999998,3,21,21.007000000000001,3]
["2019-03-16","CH Hersant",39,39.008000000000003,1,25,25.007999999999999,1]
["2019-04-06","Disney",18,18.009,7,6,6.0090000000000003,7]
["2019-06-07","Isle Adam",36,36.01,2,21,21.01,2]
["2019-06-22","Golf Parc Hersant",32,32.011000000000003,4,18,18.010999999999999,4]
[null,null,null,1.2E-2,25,null,1.2E-2,25]
[null,null,null,1.2999999999999999E-2,24,null,1.2999999999999999E-2,24]
[null,null,null,1.4E-2,23,null,1.4E-2,23]
[null,null,null,1.4999999999999999E-2,22,null,1.4999999999999999E-2,22]
[null,null,null,1.6E-2,21,null,1.6E-2,21]
[null,null,null,1.7000000000000001E-2,20,null,1.7000000000000001E-2,20]
[null,null,null,1.7999999999999999E-2,19,null,1.7999999999999999E-2,19]
[null,null,null,1.9E-2,18,null,1.9E-2,18]
[null,null,null,0.02,17,null,0.02,17]
[null,null,null,2.1000000000000001E-2,16,null,2.1000000000000001E-2,16]
[null,null,null,2.1999999999999999E-2,15,null,2.1999999999999999E-2,15]
[null,null,null,2.3E-2,14,null,2.3E-2,14]
[null,null,null,2.4E-2,13,null,2.4E-2,13]
[null,null,null,2.5000000000000001E-2,12,null,2.5000000000000001E-2,12]
[null,null,null,2.5999999999999999E-2,11,null,2.5999999999999999E-2,11]
[null,null,null,2.7E-2,10,null,2.7E-2,10]
[null,null,null,2.8000000000000001E-2,9,null,2.8000000000000001E-2,9]
[null,"Cumul total",{"$f":"SUM(C4:C28)","v":242},null,null,{"$f":"SUM(F4:F28)","v":131}]
[null,"5 meilleurs scores",{"$f":"INDEX(C4:C28,MATCH(1,E4:E28,0))+INDEX(C4:C28,MATCH(2,E4:E28,0))+INDEX(C4:C28,MATCH(3,E4:E28,0))+INDEX(C4:C28,MATCH(4,E4:E28,0))+INDEX(C4:C28,MATCH(5,E4:E28,0))","v":174},null,null,{"$f":"INDEX(F4:F28,MATCH(1,H4:H28,0))+INDEX(F4:F28,MATCH(2,H4:H28,0))+INDEX(F4:F28,MATCH(3,H4:H28,0))+INDEX(F4:F28,MATCH(4,H4:H28,0))+INDEX(F4:F28,MATCH(5,H4:H28,0))","v":103}]

{"sheet":"PHULPIN_Brigitte","index":42,"n_rows":30,"n_cols":8,"rows_kept":30,"cut":false,"hidden":false,"merged":[]}
["PHULPIN","Brigitte",null,null,null,{"$f":"HYPERLINK(\"#Adhérents!A1\",\"Retour\")","v":"Retour"}]
[]
["Date Sortie","Parcours","Net","Net+","Rang Net","Brut","Brut+","Rang Brut"]
["2018-10-20","Cergy Vauréal",37,{"$f":"C4+ROW(C4)/1000","v":37.003999999999998},{"$f":"RANK(D4,$D$4:$D$28)","v":1},13,{"$f":"F4+ROW(F4)/1000","v":13.004},{"$f":"RANK(G4,$G$4:$G$28)","v":1}]
[null,null,null,5.0000000000000001E-3,{"$f":"RANK(D5,$D$4:$D$28)","v":25},null,5.0000000000000001E-3,{"$f":"RANK(G5,$G$4:$G$28)","v":25}]
[null,null,null,6.0000000000000001E-3,24,null,6.0000000000000001E-3,{"$f":"RANK(G6,$G$4:$G$28)","v":24}]
[null,null,null,7.0000000000000001E-3,23,null,7.0000000000000001E-3,23]
[null,null,null,8.0000000000000002E-3,22,null,8.0000000000000002E-3,22]
[null,null,null,8.9999999999999993E-3,21,null,8.9999999999999993E-3,21]
[null,null,null,0.01,20,null,0.01,20]
[null,null,null,1.0999999999999999E-2,19,null,1.0999999999999999E-2,19]
[null,null,null,1.2E-2,18,null,1.2E-2,18]
[null,null,null,1.2999999999999999E-2,17,null,1.2999999999999999E-2,17]
[null,null,null,{"$f":"C14+ROW(C14)/1000","v":1.4E-2},16,null,1.4E-2,16]
[null,null,null,1.4999999999999999E-2,15,null,1.4999999999999999E-2,15]
[null,null,null,1.6E-2,14,null,1.6E-2,14]
[null,null,null,1.7000000000000001E-2,13,null,1.7000000000000001E-2,13]
[null,null,null,{"$f":"C18+ROW(C18)/1000","v":1.7999999999999999E-2},12,null,1.7999999999999999E-2,12]
[null,null,null,1.9E-2,11,null,1.9E-2,11]
[null,null,null,0.02,10,null,0.02,10]
[null,null,null,2.1000000000000001E-2,9,null,2.1000000000000001E-2,9]
[null,null,null,2.1999999999999999E-2,8,null,2.1999999999999999E-2,8]
[null,null,null,2.3E-2,7,null,2.3E-2,7]
[null,null,null,2.4E-2,6,null,2.4E-2,6]
[null,null,null,2.5000000000000001E-2,5,null,2.5000000000000001E-2,5]
[null,null,null,2.5999999999999999E-2,4,null,2.5999999999999999E-2,4]
[null,null,null,2.7E-2,3,null,2.7E-2,3]
[null,null,null,2.8000000000000001E-2,2,null,2.8000000000000001E-2,2]
[null,"Cumul total",{"$f":"SUM(C4:C28)","v":37},null,null,{"$f":"SUM(F4:F28)","v":13}]
[null,"5 meilleurs scores",{"$f":"INDEX(C4:C28,MATCH(1,E4:E28,0))+INDEX(C4:C28,MATCH(2,E4:E28,0))+INDEX(C4:C28,MATCH(3,E4:E28,0))+INDEX(C4:C28,MATCH(4,E4:E28,0))+INDEX(C4:C28,MATCH(5,E4:E28,0))","v":37},null,null,{"$f":"INDEX(F4:F28,MATCH(1,H4:H28,0))+INDEX(F4:F28,MATCH(2,H4:H28,0))+INDEX(F4:F28,MATCH(3,H4:H28,0))+INDEX(F4:F28,MATCH(4,H4:H28,0))+INDEX(F4:F28,MATCH(5,H4:H28,0))","v":13}]

{"sheet":"PICARD_Luc","index":43,"n_rows":30,"n_cols":8,"rows_kept":30,"cut":false,"hidden":false,"merged":[]}
["PICARD","Luc",null,null,null,{"$f":"HYPERLINK(\"#Adhérents!A1\",\"Retour\")","v":"Retour"}]
[]
["Date Sortie","Parcours","Net","Net+","Rang Net","Brut","Brut+","Rang Brut"]
["2018-10-05","Isle Adam",18,{"$f":"C4+ROW(C4)/1000","v":18.004000000000001},{"$f":"RANK(D4,$D$4:$D$28)","v":3},1,{"$f":"F4+ROW(F4)/1000","v":1.004},{"$f":"RANK(G4,$G$4:$G$28)","v":4}]
["2018-11-10","Fourqueux",23,23.004999999999999,{"$f":"RANK(D5,$D$4:$D$28)","v":2},3,3.0049999999999999,{"$f":"RANK(G5,$G$4:$G$28)","v":3}]
["2019-04-18","Rueil virtuel",9,9.0060000000000002,4,3,3.0059999999999998,{"$f":"RANK(G6,$G$4:$G$28)","v":2}]
["2019-06-22","Golf Parc Hersant",28,28.007000000000001,1,3,3.0070000000000001,1]
[null,null,null,8.0000000000000002E-3,25,null,8.0000000000000002E-3,25]
[null,null,null,8.9999999999999993E-3,24,null,8.9999999999999993E-3,24]
[null,null,null,0.01,23,null,0.01,23]
[null,null,null,1.0999999999999999E-2,22,null,1.0999999999999999E-2,22]
[null,null,null,1.2E-2,21,null,1.2E-2,21]
[null,null,null,1.2999999999999999E-2,20,null,1.2999999999999999E-2,20]
[null,null,null,{"$f":"C14+ROW(C14)/1000","v":1.4E-2},19,null,1.4E-2,19]
[null,null,null,1.4999999999999999E-2,18,null,1.4999999999999999E-2,18]
[null,null,null,1.6E-2,17,null,1.6E-2,17]
[null,null,null,1.7000000000000001E-2,16,null,1.7000000000000001E-2,16]
[null,null,null,{"$f":"C18+ROW(C18)/1000","v":1.7999999999999999E-2},15,null,1.7999999999999999E-2,15]
[null,null,null,1.9E-2,14,null,1.9E-2,14]
[null,null,null,0.02,13,null,0.02,13]
[null,null,null,2.1000000000000001E-2,12,null,2.1000000000000001E-2,12]
[null,null,null,2.1999999999999999E-2,11,null,2.1999999999999999E-2,11]
[null,null,null,2.3E-2,10,null,2.3E-2,10]
[null,null,null,2.4E-2,9,null,2.4E-2,9]
[null,null,null,2.5000000000000001E-2,8,null,2.5000000000000001E-2,8]
[null,null,null,2.5999999999999999E-2,7,null,2.5999999999999999E-2,7]
[null,null,null,2.7E-2,6,null,2.7E-2,6]
[null,null,null,2.8000000000000001E-2,5,null,2.8000000000000001E-2,5]
[null,"Cumul total",{"$f":"SUM(C4:C28)","v":78},null,null,{"$f":"SUM(F4:F28)","v":10}]
[null,"5 meilleurs scores",{"$f":"INDEX(C4:C28,MATCH(1,E4:E28,0))+INDEX(C4:C28,MATCH(2,E4:E28,0))+INDEX(C4:C28,MATCH(3,E4:E28,0))+INDEX(C4:C28,MATCH(4,E4:E28,0))+INDEX(C4:C28,MATCH(5,E4:E28,0))","v":78},null,null,{"$f":"INDEX(F4:F28,MATCH(1,H4:H28,0))+INDEX(F4:F28,MATCH(2,H4:H28,0))+INDEX(F4:F28,MATCH(3,H4:H28,0))+INDEX(F4:F28,MATCH(4,H4:H28,0))+INDEX(F4:F28,MATCH(5,H4:H28,0))","v":10}]

{"sheet":"PIERRE_Philippe","index":44,"n_rows":30,"n_cols":8,"rows_kept":30,"cut":false,"hidden":false,"merged":[]}
["PIERRE","Philippe",null,null,null,{"$f":"HYPERLINK(\"#Adhérents!A1\",\"Retour\")","v":"Retour"}]
[]
["Date Sortie","Parcours","Net","Net+","Rang Net","Brut","Brut+","Rang Brut"]
["2018-09-21","Les Aisses",29,{"$f":"C4+ROW(C4)/1000","v":29.004000000000001},{"$f":"RANK(D4,$D$4:$D$28)","v":3},6,{"$f":"F4+ROW(F4)/1000","v":6.0039999999999996},{"$f":"RANK(G4,$G$4:$G$28)","v":7}]
["2018-09-22","Sologne",18,18.004999999999999,{"$f":"RANK(D5,$D$4:$D$28)","v":8},6,6.0049999999999999,{"$f":"RANK(G5,$G$4:$G$28)","v":6}]
["2018-11-10","Fourqueux",23,23.006,4,5,5.0060000000000002,{"$f":"RANK(G6,$G$4:$G$28)","v":8}]
["2019-02-10","Aigle",18,18.007000000000001,7,6,6.0069999999999997,5]
["2019-04-06","Disney",18,18.007999999999999,6,6,6.008,4]
["2019-03-23","Tremblay sur Mauldre",18,18.009,5,6,6.0090000000000003,3]
["2019-06-07","Isle Adam",34,34.01,1,10,10.01,2]
["2019-06-28","Vaucouleurs Rivière",30,30.010999999999999,2,11,11.010999999999999,1]
[null,null,null,1.2E-2,25,null,1.2E-2,25]
[null,null,null,1.2999999999999999E-2,24,null,1.2999999999999999E-2,24]
[null,null,null,1.4E-2,23,null,1.4E-2,23]
[null,null,null,1.4999999999999999E-2,22,null,1.4999999999999999E-2,22]
[null,null,null,1.6E-2,21,null,1.6E-2,21]
[null,null,null,1.7000000000000001E-2,20,null,1.7000000000000001E-2,20]
[null,null,null,1.7999999999999999E-2,19,null,1.7999999999999999E-2,19]
[null,null,null,1.9E-2,18,null,1.9E-2,18]
[null,null,null,0.02,17,null,0.02,17]
[null,null,null,2.1000000000000001E-2,16,null,2.1000000000000001E-2,16]
[null,null,null,2.1999999999999999E-2,15,null,2.1999999999999999E-2,15]
[null,null,null,2.3E-2,14,null,2.3E-2,14]
[null,null,null,2.4E-2,13,null,2.4E-2,13]
[null,null,null,2.5000000000000001E-2,12,null,2.5000000000000001E-2,12]
[null,null,null,2.5999999999999999E-2,11,null,2.5999999999999999E-2,11]
[null,null,null,2.7E-2,10,null,2.7E-2,10]
[null,null,null,2.8000000000000001E-2,9,null,2.8000000000000001E-2,9]
[null,"Cumul total",{"$f":"SUM(C4:C28)","v":188},null,null,{"$f":"SUM(F4:F28)","v":56}]
[null,"5 meilleurs scores",{"$f":"INDEX(C4:C28,MATCH(1,E4:E28,0))+INDEX(C4:C28,MATCH(2,E4:E28,0))+INDEX(C4:C28,MATCH(3,E4:E28,0))+INDEX(C4:C28,MATCH(4,E4:E28,0))+INDEX(C4:C28,MATCH(5,E4:E28,0))","v":134},null,null,{"$f":"INDEX(F4:F28,MATCH(1,H4:H28,0))+INDEX(F4:F28,MATCH(2,H4:H28,0))+INDEX(F4:F28,MATCH(3,H4:H28,0))+INDEX(F4:F28,MATCH(4,H4:H28,0))+INDEX(F4:F28,MATCH(5,H4:H28,0))","v":39}]

{"sheet":"PONSOT-JACQUIN_Catherine","index":45,"n_rows":30,"n_cols":8,"rows_kept":30,"cut":false,"hidden":false,"merged":[]}
["PONSOT-JACQUIN","Catherine",null,null,null,{"$f":"HYPERLINK(\"#Adhérents!A1\",\"Retour\")","v":"Retour"}]
[]
["Date Sortie","Parcours","Net","Net+","Rang Net","Brut","Brut+","Rang Brut"]
["2019-06-20","Rueil",9,{"$f":"C4+ROW(C4)/1000","v":9.0039999999999996},{"$f":"RANK(D4,$D$4:$D$28)","v":1},3,{"$f":"F4+ROW(F4)/1000","v":3.004},{"$f":"RANK(G4,$G$4:$G$28)","v":1}]
["2019-06-22","Golf Parc Hersant",null,5.0000000000000001E-3,{"$f":"RANK(D5,$D$4:$D$28)","v":25},null,5.0000000000000001E-3,{"$f":"RANK(G5,$G$4:$G$28)","v":25}]
[null,null,null,6.0000000000000001E-3,24,null,6.0000000000000001E-3,{"$f":"RANK(G6,$G$4:$G$28)","v":24}]
[null,null,null,7.0000000000000001E-3,23,null,7.0000000000000001E-3,23]
[null,null,null,8.0000000000000002E-3,22,null,8.0000000000000002E-3,22]
[null,null,null,8.9999999999999993E-3,21,null,8.9999999999999993E-3,21]
[null,null,null,0.01,20,null,0.01,20]
[null,null,null,1.0999999999999999E-2,19,null,1.0999999999999999E-2,19]
[null,null,null,1.2E-2,18,null,1.2E-2,18]
[null,null,null,1.2999999999999999E-2,17,null,1.2999999999999999E-2,17]
[null,null,null,1.4E-2,16,null,1.4E-2,16]
[null,null,null,1.4999999999999999E-2,15,null,1.4999999999999999E-2,15]
[null,null,null,1.6E-2,14,null,1.6E-2,14]
[null,null,null,1.7000000000000001E-2,13,null,1.7000000000000001E-2,13]
[null,null,null,1.7999999999999999E-2,12,null,1.7999999999999999E-2,12]
[null,null,null,1.9E-2,11,null,1.9E-2,11]
[null,null,null,0.02,10,null,0.02,10]
[null,null,null,2.1000000000000001E-2,9,null,2.1000000000000001E-2,9]
[null,null,null,2.1999999999999999E-2,8,null,2.1999999999999999E-2,8]
[null,null,null,2.3E-2,7,null,2.3E-2,7]
[null,null,null,2.4E-2,6,null,2.4E-2,6]
[null,null,null,2.5000000000000001E-2,5,null,2.5000000000000001E-2,5]
[null,null,null,2.5999999999999999E-2,4,null,2.5999999999999999E-2,4]
[null,null,null,2.7E-2,3,null,2.7E-2,3]
[null,null,null,2.8000000000000001E-2,2,null,2.8000000000000001E-2,2]
[null,"Cumul total",{"$f":"SUM(C4:C28)","v":9},null,null,{"$f":"SUM(F4:F28)","v":3}]
[null,"5 meilleurs scores",{"$f":"INDEX(C4:C28,MATCH(1,E4:E28,0))+INDEX(C4:C28,MATCH(2,E4:E28,0))+INDEX(C4:C28,MATCH(3,E4:E28,0))+INDEX(C4:C28,MATCH(4,E4:E28,0))+INDEX(C4:C28,MATCH(5,E4:E28,0))","v":9},null,null,{"$f":"INDEX(F4:F28,MATCH(1,H4:H28,0))+INDEX(F4:F28,MATCH(2,H4:H28,0))+INDEX(F4:F28,MATCH(3,H4:H28,0))+INDEX(F4:F28,MATCH(4,H4:H28,0))+INDEX(F4:F28,MATCH(5,H4:H28,0))","v":3}]

{"sheet":"RIONDET_Jean-Claude","index":46,"n_rows":30,"n_cols":8,"rows_kept":30,"cut":false,"hidden":false,"merged":[]}
["RIONDET","Jean-Claude",null,null,null,{"$f":"HYPERLINK(\"#Adhérents!A1\",\"Retour\")","v":"Retour"}]
[]
["Date Sortie","Parcours","Net","Net+","Rang Net","Brut","Brut+","Rang Brut"]
["2018-09-09","Feucherolles",43,{"$f":"C4+ROW(C4)/1000","v":43.003999999999998},{"$f":"RANK(D4,$D$4:$D$28)","v":1},9,{"$f":"F4+ROW(F4)/1000","v":9.0039999999999996},{"$f":"RANK(G4,$G$4:$G$28)","v":1}]
["2018-09-21","Les Aisses",23,23.004999999999999,{"$f":"RANK(D5,$D$4:$D$28)","v":3},3,3.0049999999999999,{"$f":"RANK(G5,$G$4:$G$28)","v":8}]
["2018-09-22","Sologne",18,18.006,7,6,6.0060000000000002,{"$f":"RANK(G6,$G$4:$G$28)","v":5}]
["2018-10-20","Cergy Vauréal",33,33.006999999999998,2,7,7.0069999999999997,2]
["2019-02-10","Aigle",18,18.007999999999999,6,6,6.008,4]
["2019-04-28","Marivaux",17,17.009,8,5,5.0090000000000003,6]
["2019-03-23","Tremblay sur Mauldre",18,18.010000000000002,5,6,6.01,3]
["2019-06-07","Isle Adam",19,19.010999999999999,4,3,3.0110000000000001,7]
[null,null,null,1.2E-2,25,null,1.2E-2,25]
[null,null,null,1.2999999999999999E-2,24,null,1.2999999999999999E-2,24]
[null,null,null,{"$f":"C14+ROW(C14)/1000","v":1.4E-2},23,null,1.4E-2,23]
[null,null,null,1.4999999999999999E-2,22,null,1.4999999999999999E-2,22]
[null,null,null,1.6E-2,21,null,1.6E-2,21]
[null,null,null,1.7000000000000001E-2,20,null,1.7000000000000001E-2,20]
[null,null,null,{"$f":"C18+ROW(C18)/1000","v":1.7999999999999999E-2},19,null,1.7999999999999999E-2,19]
[null,null,null,1.9E-2,18,null,1.9E-2,18]
[null,null,null,0.02,17,null,0.02,17]
[null,null,null,2.1000000000000001E-2,16,null,2.1000000000000001E-2,16]
[null,null,null,2.1999999999999999E-2,15,null,2.1999999999999999E-2,15]
[null,null,null,2.3E-2,14,null,2.3E-2,14]
[null,null,null,2.4E-2,13,null,2.4E-2,13]
[null,null,null,2.5000000000000001E-2,12,null,2.5000000000000001E-2,12]
[null,null,null,2.5999999999999999E-2,11,null,2.5999999999999999E-2,11]
[null,null,null,2.7E-2,10,null,2.7E-2,10]
[null,null,null,2.8000000000000001E-2,9,null,2.8000000000000001E-2,9]
[null,"Cumul total",{"$f":"SUM(C4:C28)","v":189},null,null,{"$f":"SUM(F4:F28)","v":45}]
[null,"5 meilleurs scores",{"$f":"INDEX(C4:C28,MATCH(1,E4:E28,0))+INDEX(C4:C28,MATCH(2,E4:E28,0))+INDEX(C4:C28,MATCH(3,E4:E28,0))+INDEX(C4:C28,MATCH(4,E4:E28,0))+INDEX(C4:C28,MATCH(5,E4:E28,0))","v":136},null,null,{"$f":"INDEX(F4:F28,MATCH(1,H4:H28,0))+INDEX(F4:F28,MATCH(2,H4:H28,0))+INDEX(F4:F28,MATCH(3,H4:H28,0))+INDEX(F4:F28,MATCH(4,H4:H28,0))+INDEX(F4:F28,MATCH(5,H4:H28,0))","v":34}]

{"sheet":"ROBERT_Valérie","index":47,"n_rows":30,"n_cols":8,"rows_kept":30,"cut":false,"hidden":false,"merged":[]}
["ROBERT","Valérie",null,null,null,{"$f":"HYPERLINK(\"#Adhérents!A1\",\"Retour\")","v":"Retour"}]
[]
["Date Sortie","Parcours","Net","Net+","Rang Net","Brut","Brut+","Rang Brut"]
["2018-09-21","Les Aisses",21,{"$f":"C4+ROW(C4)/1000","v":21.004000000000001},{"$f":"RANK(D4,$D$4:$D$28)","v":8},4,{"$f":"F4+ROW(F4)/1000","v":4.0039999999999996},{"$f":"RANK(G4,$G$4:$G$28)","v":13}]
["2018-09-22","Sologne",18,18.004999999999999,{"$f":"RANK(D5,$D$4:$D$28)","v":13},6,6.0049999999999999,{"$f":"RANK(G5,$G$4:$G$28)","v":12}]
["2018-10-05","Isle Adam",30,30.006,4,9,9.0060000000000002,{"$f":"RANK(G6,$G$4:$G$28)","v":6}]
["2018-10-20","Cergy Vauréal",32,32.006999999999998,2,9,9.0069999999999997,5]
["2019-02-10","Aigle",18,18.007999999999999,12,6,6.008,11]
["2019-03-10","National - Aigle",18,18.009,11,6,6.0090000000000003,10]
["2018-12-13","Rueil virtuel",9,9.01,17,3,3.01,17]
["2019-04-06","Disney",18,18.010999999999999,10,6,6.0110000000000001,9]
["2019-04-18","Rueil virtuel",9,9.0120000000000005,16,3,3.012,16]
["2019-04-25","Rueil",9,9.0129999999999999,15,3,3.0129999999999999,15]
["2019-04-28","Marivaux",34,{"$f":"C14+ROW(C14)/1000","v":34.014000000000003},1,11,11.013999999999999,3]
["2019-05-24","Haut Poitou",18,18.015000000000001,9,6,6.0149999999999997,8]
["2019-05-25","Mignaloux",31,31.015999999999998,3,7,7.016,7]
["2019-06-07","Isle Adam",29,29.016999999999999,6,12,12.016999999999999,1]
["2019-06-20","Rueil",9,{"$f":"C18+ROW(C18)/1000","v":9.0180000000000007},14,3,3.0179999999999998,14]
["2019-06-22","Golf Parc Hersant",28,28.018999999999998,7,9,9.0190000000000001,4]
["2019-06-28","Vaucouleurs Rivière",29,29.02,5,11,11.02,2]
[null,null,null,2.1000000000000001E-2,25,null,2.1000000000000001E-2,25]
[null,null,null,2.1999999999999999E-2,24,null,2.1999999999999999E-2,24]
[null,null,null,2.3E-2,23,null,2.3E-2,23]
[null,null,null,2.4E-2,22,null,2.4E-2,22]
[null,null,null,2.5000000000000001E-2,21,null,2.5000000000000001E-2,21]
[null,null,null,2.5999999999999999E-2,20,null,2.5999999999999999E-2,20]
[null,null,null,2.7E-2,19,null,2.7E-2,19]
[null,null,null,2.8000000000000001E-2,18,null,2.8000000000000001E-2,18]
[null,"Cumul total",{"$f":"SUM(C4:C28)","v":360},null,null,{"$f":"SUM(F4:F28)","v":114}]
[null,"5 meilleurs scores",{"$f":"INDEX(C4:C28,MATCH(1,E4:E28,0))+INDEX(C4:C28,MATCH(2,E4:E28,0))+INDEX(C4:C28,MATCH(3,E4:E28,0))+INDEX(C4:C28,MATCH(4,E4:E28,0))+INDEX(C4:C28,MATCH(5,E4:E28,0))","v":156},null,null,{"$f":"INDEX(F4:F28,MATCH(1,H4:H28,0))+INDEX(F4:F28,MATCH(2,H4:H28,0))+INDEX(F4:F28,MATCH(3,H4:H28,0))+INDEX(F4:F28,MATCH(4,H4:H28,0))+INDEX(F4:F28,MATCH(5,H4:H28,0))","v":52}]

{"sheet":"ROUSSEAU_Jean-Marc","index":48,"n_rows":30,"n_cols":8,"rows_kept":30,"cut":false,"hidden":false,"merged":[]}
["ROUSSEAU","Jean-Marc",null,null,null,{"$f":"HYPERLINK(\"#Adhérents!A1\",\"Retour\")","v":"Retour"}]
[]
["Date Sortie","Parcours","Net","Net+","Rang Net","Brut","Brut+","Rang Brut"]
["2019-04-09","Rueil",9,{"$f":"C4+ROW(C4)/1000","v":9.0039999999999996},{"$f":"RANK(D4,$D$4:$D$28)","v":4},3,{"$f":"F4+ROW(F4)/1000","v":3.004},{"$f":"RANK(G4,$G$4:$G$28)","v":4}]
["2019-04-25","Rueil",9,9.0050000000000008,{"$f":"RANK(D5,$D$4:$D$28)","v":3},3,3.0049999999999999,{"$f":"RANK(G5,$G$4:$G$28)","v":3}]
["2019-05-23","Rueil",9,9.0060000000000002,2,3,3.0059999999999998,{"$f":"RANK(G6,$G$4:$G$28)","v":2}]
["2019-06-20","Rueil",9,9.0069999999999997,1,3,3.0070000000000001,1]
[null,null,null,8.0000000000000002E-3,25,null,8.0000000000000002E-3,25]
[null,null,null,8.9999999999999993E-3,24,null,8.9999999999999993E-3,24]
[null,null,null,0.01,23,null,0.01,23]
[null,null,null,1.0999999999999999E-2,22,null,1.0999999999999999E-2,22]
[null,null,null,1.2E-2,21,null,1.2E-2,21]
[null,null,null,1.2999999999999999E-2,20,null,1.2999999999999999E-2,20]
[null,null,null,1.4E-2,19,null,1.4E-2,19]
[null,null,null,1.4999999999999999E-2,18,null,1.4999999999999999E-2,18]
[null,null,null,1.6E-2,17,null,1.6E-2,17]
[null,null,null,1.7000000000000001E-2,16,null,1.7000000000000001E-2,16]
[null,null,null,1.7999999999999999E-2,15,null,1.7999999999999999E-2,15]
[null,null,null,1.9E-2,14,null,1.9E-2,14]
[null,null,null,0.02,13,null,0.02,13]
[null,null,null,2.1000000000000001E-2,12,null,2.1000000000000001E-2,12]
[null,null,null,2.1999999999999999E-2,11,null,2.1999999999999999E-2,11]
[null,null,null,2.3E-2,10,null,2.3E-2,10]
[null,null,null,2.4E-2,9,null,2.4E-2,9]
[null,null,null,2.5000000000000001E-2,8,null,2.5000000000000001E-2,8]
[null,null,null,2.5999999999999999E-2,7,null,2.5999999999999999E-2,7]
[null,null,null,2.7E-2,6,null,2.7E-2,6]
[null,null,null,2.8000000000000001E-2,5,null,2.8000000000000001E-2,5]
[null,"Cumul total",{"$f":"SUM(C4:C28)","v":36},null,null,{"$f":"SUM(F4:F28)","v":12}]
[null,"5 meilleurs scores",{"$f":"INDEX(C4:C28,MATCH(1,E4:E28,0))+INDEX(C4:C28,MATCH(2,E4:E28,0))+INDEX(C4:C28,MATCH(3,E4:E28,0))+INDEX(C4:C28,MATCH(4,E4:E28,0))+INDEX(C4:C28,MATCH(5,E4:E28,0))","v":36},null,null,{"$f":"INDEX(F4:F28,MATCH(1,H4:H28,0))+INDEX(F4:F28,MATCH(2,H4:H28,0))+INDEX(F4:F28,MATCH(3,H4:H28,0))+INDEX(F4:F28,MATCH(4,H4:H28,0))+INDEX(F4:F28,MATCH(5,H4:H28,0))","v":12}]

{"sheet":"ROME_Virginie","index":49,"n_rows":30,"n_cols":8,"rows_kept":30,"cut":false,"hidden":false,"merged":[]}
["ROME","Virginie",null,null,null,{"$f":"HYPERLINK(\"#Adhérents!A1\",\"Retour\")","v":"Retour"}]
[]
["Date Sortie","Parcours","Net","Net+","Rang Net","Brut","Brut+","Rang Brut"]
["2018-09-21","Les Aisses",33,{"$f":"C4+ROW(C4)/1000","v":33.003999999999998},{"$f":"RANK(D4,$D$4:$D$28)","v":1},5,{"$f":"F4+ROW(F4)/1000","v":5.0039999999999996},{"$f":"RANK(G4,$G$4:$G$28)","v":3}]
["2018-09-22","Sologne",18,18.004999999999999,{"$f":"RANK(D5,$D$4:$D$28)","v":3},6,6.0049999999999999,{"$f":"RANK(G5,$G$4:$G$28)","v":2}]
["2018-10-05","Isle Adam",29,29.006,2,6,6.0060000000000002,{"$f":"RANK(G6,$G$4:$G$28)","v":1}]
[null,null,null,7.0000000000000001E-3,25,null,7.0000000000000001E-3,25]
[null,null,null,8.0000000000000002E-3,24,null,8.0000000000000002E-3,24]
[null,null,null,8.9999999999999993E-3,23,null,8.9999999999999993E-3,23]
[null,null,null,0.01,22,null,0.01,22]
[null,null,null,1.0999999999999999E-2,21,null,1.0999999999999999E-2,21]
[null,null,null,1.2E-2,20,null,1.2E-2,20]
[null,null,null,1.2999999999999999E-2,19,null,1.2999999999999999E-2,19]
[null,null,null,{"$f":"C14+ROW(C14)/1000","v":1.4E-2},18,null,1.4E-2,18]
[null,null,null,1.4999999999999999E-2,17,null,1.4999999999999999E-2,17]
[null,null,null,1.6E-2,16,null,1.6E-2,16]
[null,null,null,1.7000000000000001E-2,15,null,1.7000000000000001E-2,15]
[null,null,null,{"$f":"C18+ROW(C18)/1000","v":1.7999999999999999E-2},14,null,1.7999999999999999E-2,14]
[null,null,null,1.9E-2,13,null,1.9E-2,13]
[null,null,null,0.02,12,null,0.02,12]
[null,null,null,2.1000000000000001E-2,11,null,2.1000000000000001E-2,11]
[null,null,null,2.1999999999999999E-2,10,null,2.1999999999999999E-2,10]
[null,null,null,2.3E-2,9,null,2.3E-2,9]
[null,null,null,2.4E-2,8,null,2.4E-2,8]
[null,null,null,2.5000000000000001E-2,7,null,2.5000000000000001E-2,7]
[null,null,null,2.5999999999999999E-2,6,null,2.5999999999999999E-2,6]
[null,null,null,2.7E-2,5,null,2.7E-2,5]
[null,null,null,2.8000000000000001E-2,4,null,2.8000000000000001E-2,4]
[null,"Cumul total",{"$f":"SUM(C4:C28)","v":80},null,null,{"$f":"SUM(F4:F28)","v":17}]
[null,"5 meilleurs scores",{"$f":"INDEX(C4:C28,MATCH(1,E4:E28,0))+INDEX(C4:C28,MATCH(2,E4:E28,0))+INDEX(C4:C28,MATCH(3,E4:E28,0))+INDEX(C4:C28,MATCH(4,E4:E28,0))+INDEX(C4:C28,MATCH(5,E4:E28,0))","v":80},null,null,{"$f":"INDEX(F4:F28,MATCH(1,H4:H28,0))+INDEX(F4:F28,MATCH(2,H4:H28,0))+INDEX(F4:F28,MATCH(3,H4:H28,0))+INDEX(F4:F28,MATCH(4,H4:H28,0))+INDEX(F4:F28,MATCH(5,H4:H28,0))","v":17}]

{"sheet":"SZAFIR_Nathalie","index":50,"n_rows":30,"n_cols":8,"rows_kept":30,"cut":false,"hidden":false,"merged":[]}
["SZAFIR","Nathalie",null,null,null,{"$f":"HYPERLINK(\"#Adhérents!A1\",\"Retour\")","v":"Retour"}]
[]
["Date Sortie","Parcours","Net","Net+","Rang Net","Brut","Brut+","Rang Brut"]
["2018-10-05","Isle Adam",25,{"$f":"C4+ROW(C4)/1000","v":25.004000000000001},{"$f":"RANK(D4,$D$4:$D$28)","v":2},1,{"$f":"F4+ROW(F4)/1000","v":1.004},{"$f":"RANK(G4,$G$4:$G$28)","v":3}]
["2018-10-20","Cergy Vauréal",33,33.005000000000003,{"$f":"RANK(D5,$D$4:$D$28)","v":1},2,2.0049999999999999,{"$f":"RANK(G5,$G$4:$G$28)","v":2}]
["2019-03-23","Tremblay sur Mauldre",18,18.006,3,6,6.0060000000000002,{"$f":"RANK(G6,$G$4:$G$28)","v":1}]
[null,null,null,7.0000000000000001E-3,25,null,7.0000000000000001E-3,25]
[null,null,null,8.0000000000000002E-3,24,null,8.0000000000000002E-3,24]
[null,null,null,8.9999999999999993E-3,23,null,8.9999999999999993E-3,23]
[null,null,null,0.01,22,null,0.01,22]
[null,null,null,1.0999999999999999E-2,21,null,1.0999999999999999E-2,21]
[null,null,null,1.2E-2,20,null,1.2E-2,20]
[null,null,null,1.2999999999999999E-2,19,null,1.2999999999999999E-2,19]
[null,null,null,1.4E-2,18,null,1.4E-2,18]
[null,null,null,1.4999999999999999E-2,17,null,1.4999999999999999E-2,17]
[null,null,null,1.6E-2,16,null,1.6E-2,16]
[null,null,null,1.7000000000000001E-2,15,null,1.7000000000000001E-2,15]
[null,null,null,1.7999999999999999E-2,14,null,1.7999999999999999E-2,14]
[null,null,null,1.9E-2,13,null,1.9E-2,13]
[null,null,null,0.02,12,null,0.02,12]
[null,null,null,2.1000000000000001E-2,11,null,2.1000000000000001E-2,11]
[null,null,null,2.1999999999999999E-2,10,null,2.1999999999999999E-2,10]
[null,null,null,2.3E-2,9,null,2.3E-2,9]
[null,null,null,2.4E-2,8,null,2.4E-2,8]
[null,null,null,2.5000000000000001E-2,7,null,2.5000000000000001E-2,7]
[null,null,null,2.5999999999999999E-2,6,null,2.5999999999999999E-2,6]
[null,null,null,2.7E-2,5,null,2.7E-2,5]
[null,null,null,2.8000000000000001E-2,4,null,2.8000000000000001E-2,4]
[null,"Cumul total",{"$f":"SUM(C4:C28)","v":76},null,null,{"$f":"SUM(F4:F28)","v":9}]
[null,"5 meilleurs scores",{"$f":"INDEX(C4:C28,MATCH(1,E4:E28,0))+INDEX(C4:C28,MATCH(2,E4:E28,0))+INDEX(C4:C28,MATCH(3,E4:E28,0))+INDEX(C4:C28,MATCH(4,E4:E28,0))+INDEX(C4:C28,MATCH(5,E4:E28,0))","v":76},null,null,{"$f":"INDEX(F4:F28,MATCH(1,H4:H28,0))+INDEX(F4:F28,MATCH(2,H4:H28,0))+INDEX(F4:F28,MATCH(3,H4:H28,0))+INDEX(F4:F28,MATCH(4,H4:H28,0))+INDEX(F4:F28,MATCH(5,H4:H28,0))","v":9}]

{"sheet":"SZAFIR_Patrick","index":51,"n_rows":30,"n_cols":8,"rows_kept":30,"cut":false,"hidden":false,"merged":[]}
["SZAFIR","Patrick",null,null,null,{"$f":"HYPERLINK(\"#Adhérents!A1\",\"Retour\")","v":"Retour"}]
[]
["Date Sortie","Parcours","Net","Net+","Rang Net","Brut","Brut+","Rang Brut"]
["2018-09-09","Feucherolles",31,{"$f":"C4+ROW(C4)/1000","v":31.004000000000001},{"$f":"RANK(D4,$D$4:$D$28)","v":4},9,{"$f":"F4+ROW(F4)/1000","v":9.0039999999999996},{"$f":"RANK(G4,$G$4:$G$28)","v":6}]
["2018-10-20","Cergy Vauréal",33,33.005000000000003,{"$f":"RANK(D5,$D$4:$D$28)","v":3},16,16.004999999999999,{"$f":"RANK(G5,$G$4:$G$28)","v":2}]
["2018-11-10","Fourqueux",25,25.006,6,8,8.0060000000000002,{"$f":"RANK(G6,$G$4:$G$28)","v":8}]
["2018-11-24","CH Hersant",18,18.007000000000001,12,6,6.0069999999999997,12]
["2019-02-10","Aigle",18,18.007999999999999,11,6,6.008,11]
["2019-03-16","CH Hersant",23,23.009,8,11,11.009,4]
["2019-04-18","Rueil virtuel",9,9.01,13,3,3.01,13]
["2019-04-28","Marivaux",33,33.011000000000003,2,13,13.010999999999999,3]
["2019-03-23","Tremblay sur Mauldre",18,18.012,10,6,6.0119999999999996,10]
["2019-05-24","Haut Poitou",18,18.013000000000002,9,6,6.0129999999999999,9]
["2019-05-25","Mignaloux",38,{"$f":"C14+ROW(C14)/1000","v":38.014000000000003},1,16,16.013999999999999,1]
["2019-06-22","Golf Parc Hersant",24,24.015000000000001,7,10,10.015000000000001,5]
["2019-06-28","Vaucouleurs Rivière",25,25.015999999999998,5,8,8.016,7]
[null,null,null,1.7000000000000001E-2,25,null,1.7000000000000001E-2,25]
[null,null,null,{"$f":"C18+ROW(C18)/1000","v":1.7999999999999999E-2},24,null,1.7999999999999999E-2,24]
[null,null,null,1.9E-2,23,null,1.9E-2,23]
[null,null,null,0.02,22,null,0.02,22]
[null,null,null,2.1000000000000001E-2,21,null,2.1000000000000001E-2,21]
[null,null,null,2.1999999999999999E-2,20,null,2.1999999999999999E-2,20]
[null,null,null,2.3E-2,19,null,2.3E-2,19]
[null,null,null,2.4E-2,18,null,2.4E-2,18]
[null,null,null,2.5000000000000001E-2,17,null,2.5000000000000001E-2,17]
[null,null,null,2.5999999999999999E-2,16,null,2.5999999999999999E-2,16]
[null,null,null,2.7E-2,15,null,2.7E-2,15]
[null,null,null,2.8000000000000001E-2,14,null,2.8000000000000001E-2,14]
[null,"Cumul total",{"$f":"SUM(C4:C28)","v":313},null,null,{"$f":"SUM(F4:F28)","v":118}]
[null,"5 meilleurs scores",{"$f":"INDEX(C4:C28,MATCH(1,E4:E28,0))+INDEX(C4:C28,MATCH(2,E4:E28,0))+INDEX(C4:C28,MATCH(3,E4:E28,0))+INDEX(C4:C28,MATCH(4,E4:E28,0))+INDEX(C4:C28,MATCH(5,E4:E28,0))","v":160},null,null,{"$f":"INDEX(F4:F28,MATCH(1,H4:H28,0))+INDEX(F4:F28,MATCH(2,H4:H28,0))+INDEX(F4:F28,MATCH(3,H4:H28,0))+INDEX(F4:F28,MATCH(4,H4:H28,0))+INDEX(F4:F28,MATCH(5,H4:H28,0))","v":66}]

{"sheet":"TERNEL_Cyprien","index":52,"n_rows":30,"n_cols":8,"rows_kept":30,"cut":false,"hidden":false,"merged":[]}
["TERNEL","Cyprien",null,null,null,{"$f":"HYPERLINK(\"#Adhérents!A1\",\"Retour\")","v":"Retour"}]
[]
["Date Sortie","Parcours","Net","Net+","Rang Net","Brut","Brut+","Rang Brut"]
["2019-03-23","Tremblay sur Mauldre",18,{"$f":"C4+ROW(C4)/1000","v":18.004000000000001},{"$f":"RANK(D4,$D$4:$D$28)","v":1},6,{"$f":"F4+ROW(F4)/1000","v":6.0039999999999996},{"$f":"RANK(G4,$G$4:$G$28)","v":1}]
[null,null,null,5.0000000000000001E-3,{"$f":"RANK(D5,$D$4:$D$28)","v":25},null,5.0000000000000001E-3,{"$f":"RANK(G5,$G$4:$G$28)","v":25}]
[null,null,null,6.0000000000000001E-3,24,null,6.0000000000000001E-3,{"$f":"RANK(G6,$G$4:$G$28)","v":24}]
[null,null,null,7.0000000000000001E-3,23,null,7.0000000000000001E-3,23]
[null,null,null,8.0000000000000002E-3,22,null,8.0000000000000002E-3,22]
[null,null,null,8.9999999999999993E-3,21,null,8.9999999999999993E-3,21]
[null,null,null,0.01,20,null,0.01,20]
[null,null,null,1.0999999999999999E-2,19,null,1.0999999999999999E-2,19]
[null,null,null,1.2E-2,18,null,1.2E-2,18]
[null,null,null,1.2999999999999999E-2,17,null,1.2999999999999999E-2,17]
[null,null,null,{"$f":"C14+ROW(C14)/1000","v":1.4E-2},16,null,1.4E-2,16]
[null,null,null,1.4999999999999999E-2,15,null,1.4999999999999999E-2,15]
[null,null,null,1.6E-2,14,null,1.6E-2,14]
[null,null,null,1.7000000000000001E-2,13,null,1.7000000000000001E-2,13]
[null,null,null,{"$f":"C18+ROW(C18)/1000","v":1.7999999999999999E-2},12,null,1.7999999999999999E-2,12]
[null,null,null,1.9E-2,11,null,1.9E-2,11]
[null,null,null,0.02,10,null,0.02,10]
[null,null,null,2.1000000000000001E-2,9,null,2.1000000000000001E-2,9]
[null,null,null,2.1999999999999999E-2,8,null,2.1999999999999999E-2,8]
[null,null,null,2.3E-2,7,null,2.3E-2,7]
[null,null,null,2.4E-2,6,null,2.4E-2,6]
[null,null,null,2.5000000000000001E-2,5,null,2.5000000000000001E-2,5]
[null,null,null,2.5999999999999999E-2,4,null,2.5999999999999999E-2,4]
[null,null,null,2.7E-2,3,null,2.7E-2,3]
[null,null,null,2.8000000000000001E-2,2,null,2.8000000000000001E-2,2]
[null,"Cumul total",{"$f":"SUM(C4:C28)","v":18},null,null,{"$f":"SUM(F4:F28)","v":6}]
[null,"5 meilleurs scores",{"$f":"INDEX(C4:C28,MATCH(1,E4:E28,0))+INDEX(C4:C28,MATCH(2,E4:E28,0))+INDEX(C4:C28,MATCH(3,E4:E28,0))+INDEX(C4:C28,MATCH(4,E4:E28,0))+INDEX(C4:C28,MATCH(5,E4:E28,0))","v":18},null,null,{"$f":"INDEX(F4:F28,MATCH(1,H4:H28,0))+INDEX(F4:F28,MATCH(2,H4:H28,0))+INDEX(F4:F28,MATCH(3,H4:H28,0))+INDEX(F4:F28,MATCH(4,H4:H28,0))+INDEX(F4:F28,MATCH(5,H4:H28,0))","v":6}]

{"sheet":"TRAVERS_Philippe","index":53,"n_rows":30,"n_cols":8,"rows_kept":30,"cut":false,"hidden":false,"merged":[]}
["TRAVERS","Philippe",null,null,null,{"$f":"HYPERLINK(\"#Adhérents!A1\",\"Retour\")","v":"Retour"}]
[]
["Date Sortie","Parcours","Net","Net+","Rang Net","Brut","Brut+","Rang Brut"]
["2018-09-09","Feucherolles",37,{"$f":"C4+ROW(C4)/1000","v":37.003999999999998},{"$f":"RANK(D4,$D$4:$D$28)","v":2},6,{"$f":"F4+ROW(F4)/1000","v":6.0039999999999996},{"$f":"RANK(G4,$G$4:$G$28)","v":9}]
["2018-10-20","Cergy Vauréal",31,31.004999999999999,5,8,8.0050000000000008,3]
["2019-01-12","CH Ableiges",31,31.006,4,6,6.0060000000000002,8]
["2019-02-16","CH Seraincourt",25,25.007000000000001,7,6,6.0069999999999997,7]
["2019-04-06","Disney",18,18.007999999999999,9,6,6.008,6]
["2019-04-28","Marivaux",28,28.009,6,6,6.0090000000000003,5]
["2019-03-23","Tremblay sur Mauldre",18,18.010000000000002,8,6,6.01,4]
["2019-06-22","Golf Parc Hersant",34,34.011000000000003,3,9,9.0109999999999992,2]
["2019-06-28","Vaucouleurs Rivière",39,39.012,1,10,10.012,1]
[null,null,null,1.2999999999999999E-2,25,null,1.2999999999999999E-2,25]
[null,null,null,1.4E-2,24,null,1.4E-2,24]
[null,null,null,1.4999999999999999E-2,23,null,1.4999999999999999E-2,23]
[null,null,null,1.6E-2,22,null,1.6E-2,22]
[null,null,null,1.7000000000000001E-2,21,null,1.7000000000000001E-2,21]
[null,null,null,1.7999999999999999E-2,20,null,1.7999999999999999E-2,20]
[null,null,null,1.9E-2,19,null,1.9E-2,19]
[null,null,null,0.02,18,null,0.02,18]
[null,null,null,2.1000000000000001E-2,17,null,2.1000000000000001E-2,17]
[null,null,null,2.1999999999999999E-2,16,null,2.1999999999999999E-2,16]
[null,null,null,2.3E-2,15,null,2.3E-2,15]
[null,null,null,2.4E-2,14,null,2.4E-2,14]
[null,null,null,2.5000000000000001E-2,13,null,2.5000000000000001E-2,13]
[null,null,null,2.5999999999999999E-2,12,null,2.5999999999999999E-2,12]
[null,null,null,2.7E-2,11,null,2.7E-2,11]
[null,null,null,2.8000000000000001E-2,10,null,2.8000000000000001E-2,10]
[null,"Cumul total",{"$f":"SUM(C4:C28)","v":261},null,null,{"$f":"SUM(F4:F28)","v":63}]
[null,"5 meilleurs scores",{"$f":"INDEX(C4:C28,MATCH(1,E4:E28,0))+INDEX(C4:C28,MATCH(2,E4:E28,0))+INDEX(C4:C28,MATCH(3,E4:E28,0))+INDEX(C4:C28,MATCH(4,E4:E28,0))+INDEX(C4:C28,MATCH(5,E4:E28,0))","v":172},null,null,{"$f":"INDEX(F4:F28,MATCH(1,H4:H28,0))+INDEX(F4:F28,MATCH(2,H4:H28,0))+INDEX(F4:F28,MATCH(3,H4:H28,0))+INDEX(F4:F28,MATCH(4,H4:H28,0))+INDEX(F4:F28,MATCH(5,H4:H28,0))","v":39}]

{"sheet":"VERBRAEKEN_Erik","index":54,"n_rows":30,"n_cols":8,"rows_kept":30,"cut":false,"hidden":false,"merged":[]}
["VERBRAEKEN","Erik",null,null,null,{"$f":"HYPERLINK(\"#Adhérents!A1\",\"Retour\")","v":"Retour"}]
[]
["Date Sortie","Parcours","Net","Net+","Rang Net","Brut","Brut+","Rang Brut"]
["2018-11-24","CH Hersant",18,{"$f":"C4+ROW(C4)/1000","v":18.004000000000001},{"$f":"RANK(D4,$D$4:$D$28)","v":9},6,{"$f":"F4+ROW(F4)/1000","v":6.0039999999999996},{"$f":"RANK(G4,$G$4:$G$28)","v":7}]
["2019-01-12","CH Ableiges",28,28.004999999999999,{"$f":"RANK(D5,$D$4:$D$28)","v":1},18,18.004999999999999,{"$f":"RANK(G5,$G$4:$G$28)","v":1}]
["2019-02-10","Aigle",18,18.006,8,6,6.0060000000000002,{"$f":"RANK(G6,$G$4:$G$28)","v":6}]
["2019-03-10","National - Aigle",18,18.007000000000001,7,6,6.0069999999999997,5]
["2018-12-13","Rueil virtuel",9,9.0079999999999991,10,3,3.008,9]
["2019-04-06","Disney",18,18.009,6,6,6.0090000000000003,4]
["2019-03-23","Tremblay sur Mauldre",18,18.010000000000002,5,6,6.01,3]
["2019-05-24","Haut Poitou",18,18.010999999999999,4,6,6.0110000000000001,2]
["2019-05-25","Mignaloux",23,23.012,3,4,4.0119999999999996,8]
["2019-06-28","Vaucouleurs Rivière",26,26.013000000000002,2,2,2.0129999999999999,10]
[null,null,null,1.4E-2,25,null,1.4E-2,25]
[null,null,null,1.4999999999999999E-2,24,null,1.4999999999999999E-2,24]
[null,null,null,1.6E-2,23,null,1.6E-2,23]
[null,null,null,1.7000000000000001E-2,22,null,1.7000000000000001E-2,22]
[null,null,null,1.7999999999999999E-2,21,null,1.7999999999999999E-2,21]
[null,null,null,1.9E-2,20,null,1.9E-2,20]
[null,null,null,0.02,19,null,0.02,19]
[null,null,null,2.1000000000000001E-2,18,null,2.1000000000000001E-2,18]
[null,null,null,2.1999999999999999E-2,17,null,2.1999999999999999E-2,17]
[null,null,null,2.3E-2,16,null,2.3E-2,16]
[null,null,null,2.4E-2,15,null,2.4E-2,15]
[null,null,null,2.5000000000000001E-2,14,null,2.5000000000000001E-2,14]
[null,null,null,2.5999999999999999E-2,13,null,2.5999999999999999E-2,13]
[null,null,null,2.7E-2,12,null,2.7E-2,12]
[null,null,null,2.8000000000000001E-2,11,null,2.8000000000000001E-2,11]
[null,"Cumul total",{"$f":"SUM(C4:C28)","v":194},null,null,{"$f":"SUM(F4:F28)","v":63}]
[null,"5 meilleurs scores",{"$f":"INDEX(C4:C28,MATCH(1,E4:E28,0))+INDEX(C4:C28,MATCH(2,E4:E28,0))+INDEX(C4:C28,MATCH(3,E4:E28,0))+INDEX(C4:C28,MATCH(4,E4:E28,0))+INDEX(C4:C28,MATCH(5,E4:E28,0))","v":113},null,null,{"$f":"INDEX(F4:F28,MATCH(1,H4:H28,0))+INDEX(F4:F28,MATCH(2,H4:H28,0))+INDEX(F4:F28,MATCH(3,H4:H28,0))+INDEX(F4:F28,MATCH(4,H4:H28,0))+INDEX(F4:F28,MATCH(5,H4:H28,0))","v":42}]

{"sheet":"VILLANI_Mathieu","index":55,"n_rows":30,"n_cols":8,"rows_kept":30,"cut":false,"hidden":false,"merged":[]}
["VILLANI","Mathieu",null,null,null,{"$f":"HYPERLINK(\"#Adhérents!A1\",\"Retour\")","v":"Retour"}]
[]
["Date Sortie","Parcours","Net","Net+","Rang Net","Brut","Brut+","Rang Brut"]
["2018-09-09","Feucherolles",36,{"$f":"C4+ROW(C4)/1000","v":36.003999999999998},{"$f":"RANK(D4,$D$4:$D$28)","v":3},22,{"$f":"F4+ROW(F4)/1000","v":22.004000000000001},{"$f":"RANK(G4,$G$4:$G$28)","v":6}]
["2018-09-21","Les Aisses",31,31.004999999999999,{"$f":"RANK(D5,$D$4:$D$28)","v":8},19,19.004999999999999,{"$f":"RANK(G5,$G$4:$G$28)","v":9}]
["2018-09-22","Sologne",18,18.006,15,6,6.0060000000000002,{"$f":"RANK(G6,$G$4:$G$28)","v":15}]
["2018-10-05","Isle Adam",40,40.006999999999998,1,28,28.007000000000001,1]
["2019-03-09","CH Yvelines",27,27.007999999999999,10,18,18.007999999999999,10]
["2019-03-10","National - Aigle",18,18.009,14,6,6.0090000000000003,14]
["2019-03-16","CH Hersant",35,35.01,4,25,25.01,2]
["2019-04-06","Disney",18,18.010999999999999,13,6,6.0110000000000001,13]
["2019-04-09","Rueil",9,9.0120000000000005,16,3,3.012,16]
["2019-04-28","Marivaux",34,34.012999999999998,5,23,23.013000000000002,4]
["2019-03-23","Tremblay sur Mauldre",18,{"$f":"C14+ROW(C14)/1000","v":18.013999999999999},12,6,6.0140000000000002,12]
["2019-05-24","Haut Poitou",18,18.015000000000001,11,6,6.0149999999999997,11]
["2019-05-25","Mignaloux",37,37.015999999999998,2,24,24.015999999999998,3]
["2019-06-07","Isle Adam",30,30.016999999999999,9,19,19.016999999999999,8]
["2019-06-22","Golf Parc Hersant",31,{"$f":"C18+ROW(C18)/1000","v":31.018000000000001},7,22,22.018000000000001,5]
["2019-06-28","Vaucouleurs Rivière",33,33.018999999999998,6,20,20.018999999999998,7]
[null,null,null,0.02,25,null,0.02,25]
[null,null,null,2.1000000000000001E-2,24,null,2.1000000000000001E-2,24]
[null,null,null,2.1999999999999999E-2,23,null,2.1999999999999999E-2,23]
[null,null,null,2.3E-2,22,null,2.3E-2,22]
[null,null,null,2.4E-2,21,null,2.4E-2,21]
[null,null,null,2.5000000000000001E-2,20,null,2.5000000000000001E-2,20]
[null,null,null,2.5999999999999999E-2,19,null,2.5999999999999999E-2,19]
[null,null,null,2.7E-2,18,null,2.7E-2,18]
[null,null,null,2.8000000000000001E-2,17,null,2.8000000000000001E-2,17]
[null,"Cumul total",{"$f":"SUM(C4:C28)","v":433},null,null,{"$f":"SUM(F4:F28)","v":253}]
[null,"5 meilleurs scores",{"$f":"INDEX(C4:C28,MATCH(1,E4:E28,0))+INDEX(C4:C28,MATCH(2,E4:E28,0))+INDEX(C4:C28,MATCH(3,E4:E28,0))+INDEX(C4:C28,MATCH(4,E4:E28,0))+INDEX(C4:C28,MATCH(5,E4:E28,0))","v":182},null,null,{"$f":"INDEX(F4:F28,MATCH(1,H4:H28,0))+INDEX(F4:F28,MATCH(2,H4:H28,0))+INDEX(F4:F28,MATCH(3,H4:H28,0))+INDEX(F4:F28,MATCH(4,H4:H28,0))+INDEX(F4:F28,MATCH(5,H4:H28,0))","v":122}]

{"sheet":"VINAY_Guillaume","index":56,"n_rows":30,"n_cols":8,"rows_kept":30,"cut":false,"hidden":false,"merged":[]}
["VINAY","Guillaume",null,null,null,{"$f":"HYPERLINK(\"#Adhérents!A1\",\"Retour\")","v":"Retour"}]
[]
["Date Sortie","Parcours","Net","Net+","Rang Net","Brut","Brut+","Rang Brut"]
["2018-09-21","Les Aisses",29,{"$f":"C4+ROW(C4)/1000","v":29.004000000000001},{"$f":"RANK(D4,$D$4:$D$28)","v":5},12,{"$f":"F4+ROW(F4)/1000","v":12.004},{"$f":"RANK(G4,$G$4:$G$28)","v":5}]
["2018-09-22","Sologne",18,18.004999999999999,{"$f":"RANK(D5,$D$4:$D$28)","v":8},6,6.0049999999999999,{"$f":"RANK(G5,$G$4:$G$28)","v":8}]
["2018-11-10","Fourqueux",30,30.006,4,12,12.006,{"$f":"RANK(G6,$G$4:$G$28)","v":4}]
["2018-11-29","CH Marivaux",32,32.006999999999998,1,14,14.007,1]
["2019-02-10","Aigle",18,18.007999999999999,7,6,6.008,7]
["2018-12-13","Rueil virtuel",9,9.0090000000000003,10,3,3.0089999999999999,10]
["2019-04-18","Rueil virtuel",9,9.01,9,3,3.01,9]
["2019-03-23","Tremblay sur Mauldre",18,18.010999999999999,6,6,6.0110000000000001,6]
["2019-06-07","Isle Adam",31,31.012,3,12,12.012,3]
["2019-06-28","Vaucouleurs Rivière",31,31.013000000000002,2,12,12.013,2]
[null,null,null,{"$f":"C14+ROW(C14)/1000","v":1.4E-2},25,null,1.4E-2,25]
[null,null,null,1.4999999999999999E-2,24,null,1.4999999999999999E-2,24]
[null,null,null,1.6E-2,23,null,1.6E-2,23]
[null,null,null,1.7000000000000001E-2,22,null,1.7000000000000001E-2,22]
[null,null,null,{"$f":"C18+ROW(C18)/1000","v":1.7999999999999999E-2},21,null,1.7999999999999999E-2,21]
[null,null,null,1.9E-2,20,null,1.9E-2,20]
[null,null,null,0.02,19,null,0.02,19]
[null,null,null,2.1000000000000001E-2,18,null,2.1000000000000001E-2,18]
[null,null,null,2.1999999999999999E-2,17,null,2.1999999999999999E-2,17]
[null,null,null,2.3E-2,16,null,2.3E-2,16]
[null,null,null,2.4E-2,15,null,2.4E-2,15]
[null,null,null,2.5000000000000001E-2,14,null,2.5000000000000001E-2,14]
[null,null,null,2.5999999999999999E-2,13,null,2.5999999999999999E-2,13]
[null,null,null,2.7E-2,12,null,2.7E-2,12]
[null,null,null,2.8000000000000001E-2,11,null,2.8000000000000001E-2,11]
[null,"Cumul total",{"$f":"SUM(C4:C28)","v":225},null,null,{"$f":"SUM(F4:F28)","v":86}]
[null,"5 meilleurs scores",{"$f":"INDEX(C4:C28,MATCH(1,E4:E28,0))+INDEX(C4:C28,MATCH(2,E4:E28,0))+INDEX(C4:C28,MATCH(3,E4:E28,0))+INDEX(C4:C28,MATCH(4,E4:E28,0))+INDEX(C4:C28,MATCH(5,E4:E28,0))","v":153},null,null,{"$f":"INDEX(F4:F28,MATCH(1,H4:H28,0))+INDEX(F4:F28,MATCH(2,H4:H28,0))+INDEX(F4:F28,MATCH(3,H4:H28,0))+INDEX(F4:F28,MATCH(4,H4:H28,0))+INDEX(F4:F28,MATCH(5,H4:H28,0))","v":62}]

{"sheet":"WATIER_Laurent","index":57,"n_rows":30,"n_cols":8,"rows_kept":30,"cut":false,"hidden":false,"merged":[]}
["WATIER","Laurent",null,null,null,{"$f":"HYPERLINK(\"#Adhérents!A1\",\"Retour\")","v":"Retour"}]
[]
["Date Sortie","Parcours","Net","Net+","Rang Net","Brut","Brut+","Rang Brut"]
["2018-11-10","Fourqueux",18,{"$f":"C4+ROW(C4)/1000","v":18.004000000000001},{"$f":"RANK(D4,$D$4:$D$28)","v":1},2,{"$f":"F4+ROW(F4)/1000","v":2.004},{"$f":"RANK(G4,$G$4:$G$28)","v":1}]
[null,null,null,5.0000000000000001E-3,{"$f":"RANK(D5,$D$4:$D$28)","v":25},null,5.0000000000000001E-3,{"$f":"RANK(G5,$G$4:$G$28)","v":25}]
[null,null,null,6.0000000000000001E-3,24,null,6.0000000000000001E-3,{"$f":"RANK(G6,$G$4:$G$28)","v":24}]
[null,null,null,7.0000000000000001E-3,23,null,7.0000000000000001E-3,23]
[null,null,null,8.0000000000000002E-3,22,null,8.0000000000000002E-3,22]
[null,null,null,8.9999999999999993E-3,21,null,8.9999999999999993E-3,21]
[null,null,null,0.01,20,null,0.01,20]
[null,null,null,1.0999999999999999E-2,19,null,1.0999999999999999E-2,19]
[null,null,null,1.2E-2,18,null,1.2E-2,18]
[null,null,null,1.2999999999999999E-2,17,null,1.2999999999999999E-2,17]
[null,null,null,{"$f":"C14+ROW(C14)/1000","v":1.4E-2},16,null,1.4E-2,16]
[null,null,null,1.4999999999999999E-2,15,null,1.4999999999999999E-2,15]
[null,null,null,1.6E-2,14,null,1.6E-2,14]
[null,null,null,1.7000000000000001E-2,13,null,1.7000000000000001E-2,13]
[null,null,null,{"$f":"C18+ROW(C18)/1000","v":1.7999999999999999E-2},12,null,1.7999999999999999E-2,12]
[null,null,null,1.9E-2,11,null,1.9E-2,11]
[null,null,null,0.02,10,null,0.02,10]
[null,null,null,2.1000000000000001E-2,9,null,2.1000000000000001E-2,9]
[null,null,null,2.1999999999999999E-2,8,null,2.1999999999999999E-2,8]
[null,null,null,2.3E-2,7,null,2.3E-2,7]
[null,null,null,2.4E-2,6,null,2.4E-2,6]
[null,null,null,2.5000000000000001E-2,5,null,2.5000000000000001E-2,5]
[null,null,null,2.5999999999999999E-2,4,null,2.5999999999999999E-2,4]
[null,null,null,2.7E-2,3,null,2.7E-2,3]
[null,null,null,2.8000000000000001E-2,2,null,2.8000000000000001E-2,2]
[null,"Cumul total",{"$f":"SUM(C4:C28)","v":18},null,null,{"$f":"SUM(F4:F28)","v":2}]
[null,"5 meilleurs scores",{"$f":"INDEX(C4:C28,MATCH(1,E4:E28,0))+INDEX(C4:C28,MATCH(2,E4:E28,0))+INDEX(C4:C28,MATCH(3,E4:E28,0))+INDEX(C4:C28,MATCH(4,E4:E28,0))+INDEX(C4:C28,MATCH(5,E4:E28,0))","v":18},null,null,{"$f":"INDEX(F4:F28,MATCH(1,H4:H28,0))+INDEX(F4:F28,MATCH(2,H4:H28,0))+INDEX(F4:F28,MATCH(3,H4:H28,0))+INDEX(F4:F28,MATCH(4,H4:H28,0))+INDEX(F4:F28,MATCH(5,H4:H28,0))","v":2}]

{"sheet":"WERMESTER_Stéphane","index":58,"n_rows":30,"n_cols":8,"rows_kept":30,"cut":false,"hidden":false,"merged":[]}
["WERMESTER","Stéphane",null,null,null,{"$f":"HYPERLINK(\"#Adhérents!A1\",\"Retour\")","v":"Retour"}]
[]
["Date Sortie","Parcours","Net","Net+","Rang Net","Brut","Brut+","Rang Brut"]
["2018-12-13","Rueil virtuel",9,{"$f":"C4+ROW(C4)/1000","v":9.0039999999999996},{"$f":"RANK(D4,$D$4:$D$28)","v":2},3,{"$f":"F4+ROW(F4)/1000","v":3.004},{"$f":"RANK(G4,$G$4:$G$28)","v":2}]
["2019-06-07","Isle Adam",34,34.005000000000003,{"$f":"RANK(D5,$D$4:$D$28)","v":1},4,4.0049999999999999,{"$f":"RANK(G5,$G$4:$G$28)","v":1}]
[null,null,null,6.0000000000000001E-3,25,null,6.0000000000000001E-3,{"$f":"RANK(G6,$G$4:$G$28)","v":25}]
[null,null,null,7.0000000000000001E-3,24,null,7.0000000000000001E-3,24]
[null,null,null,8.0000000000000002E-3,23,null,8.0000000000000002E-3,23]
[null,null,null,8.9999999999999993E-3,22,null,8.9999999999999993E-3,22]
[null,null,null,0.01,21,null,0.01,21]
[null,null,null,1.0999999999999999E-2,20,null,1.0999999999999999E-2,20]
[null,null,null,1.2E-2,19,null,1.2E-2,19]
[null,null,null,1.2999999999999999E-2,18,null,1.2999999999999999E-2,18]
[null,null,null,{"$f":"C14+ROW(C14)/1000","v":1.4E-2},17,null,1.4E-2,17]
[null,null,null,1.4999999999999999E-2,16,null,1.4999999999999999E-2,16]
[null,null,null,1.6E-2,15,null,1.6E-2,15]
[null,null,null,1.7000000000000001E-2,14,null,1.7000000000000001E-2,14]
[null,null,null,{"$f":"C18+ROW(C18)/1000","v":1.7999999999999999E-2},13,null,1.7999999999999999E-2,13]
[null,null,null,1.9E-2,12,null,1.9E-2,12]
[null,null,null,0.02,11,null,0.02,11]
[null,null,null,2.1000000000000001E-2,10,null,2.1000000000000001E-2,10]
[null,null,null,2.1999999999999999E-2,9,null,2.1999999999999999E-2,9]
[null,null,null,2.3E-2,8,null,2.3E-2,8]
[null,null,null,2.4E-2,7,null,2.4E-2,7]
[null,null,null,2.5000000000000001E-2,6,null,2.5000000000000001E-2,6]
[null,null,null,2.5999999999999999E-2,5,null,2.5999999999999999E-2,5]
[null,null,null,2.7E-2,4,null,2.7E-2,4]
[null,null,null,2.8000000000000001E-2,3,null,2.8000000000000001E-2,3]
[null,"Cumul total",{"$f":"SUM(C4:C28)","v":43},null,null,{"$f":"SUM(F4:F28)","v":7}]
[null,"5 meilleurs scores",{"$f":"INDEX(C4:C28,MATCH(1,E4:E28,0))+INDEX(C4:C28,MATCH(2,E4:E28,0))+INDEX(C4:C28,MATCH(3,E4:E28,0))+INDEX(C4:C28,MATCH(4,E4:E28,0))+INDEX(C4:C28,MATCH(5,E4:E28,0))","v":43},null,null,{"$f":"INDEX(F4:F28,MATCH(1,H4:H28,0))+INDEX(F4:F28,MATCH(2,H4:H28,0))+INDEX(F4:F28,MATCH(3,H4:H28,0))+INDEX(F4:F28,MATCH(4,H4:H28,0))+INDEX(F4:F28,MATCH(5,H4:H28,0))","v":7}]

{"sheet":"YUSTOS_Philippe","index":59,"n_rows":30,"n_cols":8,"rows_kept":30,"cut":false,"hidden":false,"merged":[]}
["YUSTOS","Philippe",null,null,null,{"$f":"HYPERLINK(\"#Adhérents!A1\",\"Retour\")","v":"Retour"}]
[]
["Date Sortie","Parcours","Net","Net+","Rang Net","Brut","Brut+","Rang Brut"]
["2018-09-09","Feucherolles",34,{"$f":"C4+ROW(C4)/1000","v":34.003999999999998},{"$f":"RANK(D4,$D$4:$D$28)","v":2},6,{"$f":"F4+ROW(F4)/1000","v":6.0039999999999996},{"$f":"RANK(G4,$G$4:$G$28)","v":9}]
["2018-10-05","Isle Adam",39,39.005000000000003,{"$f":"RANK(D5,$D$4:$D$28)","v":1},12,12.005000000000001,{"$f":"RANK(G5,$G$4:$G$28)","v":1}]
["2018-11-10","Fourqueux",17,17.006,11,2,2.0059999999999998,{"$f":"RANK(G6,$G$4:$G$28)","v":14}]
["2019-02-10","Aigle",18,18.007000000000001,10,6,6.0069999999999997,8]
["2018-12-13","Rueil virtuel",9,9.0079999999999991,14,3,3.008,13]
["2018-10-02","Rueil",null,8.9999999999999993E-3,25,null,8.9999999999999993E-3,25]
["2019-04-06","Disney",18,18.010000000000002,9,6,6.01,7]
["2019-04-18","Rueil virtuel",9,9.0109999999999992,13,3,3.0110000000000001,12]
["2019-04-28","Marivaux",29,29.012,4,10,10.012,2]
["2019-03-23","Tremblay sur Mauldre",18,18.013000000000002,8,6,6.0129999999999999,6]
["2019-05-24","Haut Poitou",18,{"$f":"C14+ROW(C14)/1000","v":18.013999999999999},7,6,6.0140000000000002,5]
["2019-05-25","Mignaloux",26,26.015000000000001,5,4,4.0149999999999997,10]
["2019-06-07","Isle Adam",31,31.015999999999998,3,9,9.016,3]
["2019-06-20","Rueil",9,9.0169999999999995,12,3,3.0169999999999999,11]
["2019-06-28","Vaucouleurs Rivière",25,{"$f":"C18+ROW(C18)/1000","v":25.018000000000001},6,7,7.0179999999999998,4]
[null,null,null,1.9E-2,24,null,1.9E-2,24]
[null,null,null,0.02,23,null,0.02,23]
[null,null,null,2.1000000000000001E-2,22,null,2.1000000000000001E-2,22]
[null,null,null,2.1999999999999999E-2,21,null,2.1999999999999999E-2,21]
[null,null,null,2.3E-2,20,null,2.3E-2,20]
[null,null,null,2.4E-2,19,null,2.4E-2,19]
[null,null,null,2.5000000000000001E-2,18,null,2.5000000000000001E-2,18]
[null,null,null,2.5999999999999999E-2,17,null,2.5999999999999999E-2,17]
[null,null,null,2.7E-2,16,null,2.7E-2,16]
[null,null,null,2.8000000000000001E-2,15,null,2.8000000000000001E-2,15]
[null,"Cumul total",{"$f":"SUM(C4:C28)","v":300},null,null,{"$f":"SUM(F4:F28)","v":83}]
[null,"5 meilleurs scores",{"$f":"INDEX(C4:C28,MATCH(1,E4:E28,0))+INDEX(C4:C28,MATCH(2,E4:E28,0))+INDEX(C4:C28,MATCH(3,E4:E28,0))+INDEX(C4:C28,MATCH(4,E4:E28,0))+INDEX(C4:C28,MATCH(5,E4:E28,0))","v":159},null,null,{"$f":"INDEX(F4:F28,MATCH(1,H4:H28,0))+INDEX(F4:F28,MATCH(2,H4:H28,0))+INDEX(F4:F28,MATCH(3,H4:H28,0))+INDEX(F4:F28,MATCH(4,H4:H28,0))+INDEX(F4:F28,MATCH(5,H4:H28,0))","v":44}]